BEGIN:VCALENDAR
VERSION:2.0
PRODID:-//City of Sails Rock &#039;n&#039; Roll Revival Club - ECPv6.15.20//NONSGML v1.0//EN
CALSCALE:GREGORIAN
METHOD:PUBLISH
X-WR-CALNAME:City of Sails Rock &#039;n&#039; Roll Revival Club
X-ORIGINAL-URL:https://cityofsails.org.nz
X-WR-CALDESC:Events for City of Sails Rock &#039;n&#039; Roll Revival Club
REFRESH-INTERVAL;VALUE=DURATION:PT1H
X-Robots-Tag:noindex
X-PUBLISHED-TTL:PT1H
BEGIN:VTIMEZONE
TZID:Pacific/Auckland
BEGIN:STANDARD
TZOFFSETFROM:+1300
TZOFFSETTO:+1200
TZNAME:NZST
DTSTART:20140405T140000
END:STANDARD
BEGIN:DAYLIGHT
TZOFFSETFROM:+1200
TZOFFSETTO:+1300
TZNAME:NZDT
DTSTART:20140927T140000
END:DAYLIGHT
BEGIN:STANDARD
TZOFFSETFROM:+1300
TZOFFSETTO:+1200
TZNAME:NZST
DTSTART:20150404T140000
END:STANDARD
BEGIN:DAYLIGHT
TZOFFSETFROM:+1200
TZOFFSETTO:+1300
TZNAME:NZDT
DTSTART:20150926T140000
END:DAYLIGHT
BEGIN:STANDARD
TZOFFSETFROM:+1300
TZOFFSETTO:+1200
TZNAME:NZST
DTSTART:20160402T140000
END:STANDARD
BEGIN:DAYLIGHT
TZOFFSETFROM:+1200
TZOFFSETTO:+1300
TZNAME:NZDT
DTSTART:20160924T140000
END:DAYLIGHT
END:VTIMEZONE
BEGIN:VEVENT
DTSTART;TZID=Pacific/Auckland:20150715T180000
DTEND;TZID=Pacific/Auckland:20150715T213000
DTSTAMP:20260423T104749
CREATED:20150628T042709Z
LAST-MODIFIED:20150628T043324Z
UID:805-1436983200-1436995800@cityofsails.org.nz
SUMMARY:Club Night at Howick RSA
DESCRIPTION:Come along to a social night of dancing\, let a COS member know if you need to be signed in.
URL:https://cityofsails.org.nz/event/club-night-at-howick-rsa/
LOCATION:Howick RSA\, 25 Wellington Street\, Howick\, Auckland\, 2014\, New Zealand
CATEGORIES:City of Sails Event
END:VEVENT
BEGIN:VEVENT
DTSTART;VALUE=DATE:20150714
DTEND;VALUE=DATE:20150715
DTSTAMP:20260423T104749
CREATED:20150628T042359Z
LAST-MODIFIED:20150628T042359Z
UID:804-1436832000-1436918399@cityofsails.org.nz
SUMMARY:No Club Night - refer Wednesday
DESCRIPTION:
URL:https://cityofsails.org.nz/event/no-club-night-refer-wednesday/
CATEGORIES:City of Sails Event
END:VEVENT
BEGIN:VEVENT
DTSTART;TZID=Pacific/Auckland:20150712T190000
DTEND;TZID=Pacific/Auckland:20150712T200000
DTSTAMP:20260423T104749
CREATED:20150614T015303Z
LAST-MODIFIED:20150614T015303Z
UID:793-1436727600-1436731200@cityofsails.org.nz
SUMMARY:Beginners Lessons Week 4 of 4
DESCRIPTION:
URL:https://cityofsails.org.nz/event/beginners-lessons-week-4-of-4-2/
LOCATION:Bucklands Beach Intermediate School\, 247 Bucklands Beach Road\, Auckland\, Bucklands Beach\, 2014\, New Zealand
END:VEVENT
BEGIN:VEVENT
DTSTART;TZID=Pacific/Auckland:20150705T190000
DTEND;TZID=Pacific/Auckland:20150705T200000
DTSTAMP:20260423T104749
CREATED:20150614T014823Z
LAST-MODIFIED:20150614T014823Z
UID:792-1436122800-1436126400@cityofsails.org.nz
SUMMARY:Beginners Lessons week 3 0f 4
DESCRIPTION:
URL:https://cityofsails.org.nz/event/beginners-lessons-week-3-0f-4/
LOCATION:Bucklands Beach Intermediate School\, 247 Bucklands Beach Road\, Auckland\, Bucklands Beach\, 2014\, New Zealand
CATEGORIES:City of Sails Event
END:VEVENT
BEGIN:VEVENT
DTSTART;TZID=Pacific/Auckland:20150630T191500
DTEND;TZID=Pacific/Auckland:20150630T211500
DTSTAMP:20260423T104749
CREATED:20150628T041829Z
LAST-MODIFIED:20150628T041829Z
UID:803-1435691700-1435698900@cityofsails.org.nz
SUMMARY:Club Night
DESCRIPTION:
URL:https://cityofsails.org.nz/event/club-night-2/
LOCATION:Bucklands Beach Intermediate School\, 247 Bucklands Beach Road\, Auckland\, Bucklands Beach\, 2014\, New Zealand
CATEGORIES:City of Sails Event
END:VEVENT
BEGIN:VEVENT
DTSTART;TZID=Pacific/Auckland:20150628T190000
DTEND;TZID=Pacific/Auckland:20150628T200000
DTSTAMP:20260423T104749
CREATED:20150614T014325Z
LAST-MODIFIED:20150614T014522Z
UID:790-1435518000-1435521600@cityofsails.org.nz
SUMMARY:Beginners Lessons week 2 of 4
DESCRIPTION:
URL:https://cityofsails.org.nz/event/beginners-lessons-week-1-of-4/
LOCATION:Bucklands Beach Intermediate School\, 247 Bucklands Beach Road\, Auckland\, Bucklands Beach\, 2014\, New Zealand
CATEGORIES:City of Sails Event
END:VEVENT
BEGIN:VEVENT
DTSTART;TZID=Pacific/Auckland:20150627T190000
DTEND;TZID=Pacific/Auckland:20150627T233000
DTSTAMP:20260423T104749
CREATED:20150519T095202Z
LAST-MODIFIED:20150519T100031Z
UID:744-1435431600-1435447800@cityofsails.org.nz
SUMMARY:June Hop - Band - Rock N Roll Allstars
DESCRIPTION:
URL:https://cityofsails.org.nz/event/june-dance-rock-n-roll-allstars/
LOCATION:Edgewater College School Hall\, 32 Edgewater Drive\, Pakuranga\, Auckland\, 2010\, New Zealand
CATEGORIES:City of Sails Event
END:VEVENT
BEGIN:VEVENT
DTSTART;TZID=Pacific/Auckland:20150614T190000
DTEND;TZID=Pacific/Auckland:20150614T200000
DTSTAMP:20260423T104749
CREATED:20150510T093016Z
LAST-MODIFIED:20150510T093016Z
UID:727-1434308400-1434312000@cityofsails.org.nz
SUMMARY:Beginners Lessons
DESCRIPTION:
URL:https://cityofsails.org.nz/event/beginners-lessons-4/
LOCATION:Bucklands Beach Intermediate School\, 247 Bucklands Beach Road\, Auckland\, Bucklands Beach\, 2014\, New Zealand
CATEGORIES:City of Sails Event
END:VEVENT
BEGIN:VEVENT
DTSTART;TZID=Pacific/Auckland:20150613T193000
DTEND;TZID=Pacific/Auckland:20150613T233000
DTSTAMP:20260423T104749
CREATED:20150519T094906Z
LAST-MODIFIED:20150519T094906Z
UID:742-1434223800-1434238200@cityofsails.org.nz
SUMMARY:Rivercity 29th Birthday Hop
DESCRIPTION:Theme – dress up as something starting with the first letter of your first name. \nEntertainment – Jerry Lee \nAdults – $15.00\nJuniors – $8.00 \nLight supper provided –  BYO drinks
URL:https://cityofsails.org.nz/event/rivercity-29th-birthday-hop/
LOCATION:Sacred Heart Girls College\, Firth Street\, Hamilton East\, New Zealand
CATEGORIES:City of Sails Event
END:VEVENT
BEGIN:VEVENT
DTSTART;TZID=Pacific/Auckland:20150607T190000
DTEND;TZID=Pacific/Auckland:20150607T200000
DTSTAMP:20260423T104749
CREATED:20150510T092804Z
LAST-MODIFIED:20150510T092804Z
UID:726-1433703600-1433707200@cityofsails.org.nz
SUMMARY:Beginners Lessons
DESCRIPTION:
URL:https://cityofsails.org.nz/event/beginners-lessons-3/
LOCATION:Bucklands Beach Intermediate School\, 247 Bucklands Beach Road\, Auckland\, Bucklands Beach\, 2014\, New Zealand
CATEGORIES:City of Sails Event
END:VEVENT
BEGIN:VEVENT
DTSTART;TZID=Pacific/Auckland:20150526T191500
DTEND;TZID=Pacific/Auckland:20150526T211500
DTSTAMP:20260423T104749
CREATED:20150130T222819Z
LAST-MODIFIED:20150407T225038Z
UID:544-1432667700-1432674900@cityofsails.org.nz
SUMMARY:Club Night - BBI
DESCRIPTION:
URL:https://cityofsails.org.nz/event/club-night-bbi-12/
LOCATION:Bucklands Beach Intermediate School\, 247 Bucklands Beach Road\, Auckland\, Bucklands Beach\, 2014\, New Zealand
CATEGORIES:City of Sails Event
END:VEVENT
BEGIN:VEVENT
DTSTART;TZID=Pacific/Auckland:20150524T190000
DTEND;TZID=Pacific/Auckland:20150524T200000
DTSTAMP:20260423T104749
CREATED:20150510T092509Z
LAST-MODIFIED:20150510T092509Z
UID:725-1432494000-1432497600@cityofsails.org.nz
SUMMARY:Beginners Lessons
DESCRIPTION:
URL:https://cityofsails.org.nz/event/beginners-lessons-2/
LOCATION:Bucklands Beach Intermediate School\, 247 Bucklands Beach Road\, Auckland\, Bucklands Beach\, 2014\, New Zealand
CATEGORIES:City of Sails Event
END:VEVENT
BEGIN:VEVENT
DTSTART;TZID=Pacific/Auckland:20150523T180000
DTEND;TZID=Pacific/Auckland:20150523T230000
DTSTAMP:20260423T104749
CREATED:20150418T013739Z
LAST-MODIFIED:20150418T014125Z
UID:619-1432404000-1432422000@cityofsails.org.nz
SUMMARY:Howick RSA Dance
DESCRIPTION:City of Sails does not have a dance this month so instead we are promoting a local event at the Howick RSA. \nDetails are:\nHowick RSA\nBand: Roger Skinner\nTime: anytime \,  restaurant will be open for meals from 6pm\nDate: Saturday 23 May \nTo help promote our club we ask if you can dress up in Rock N Roll gear. \nMore details to follow.
URL:https://cityofsails.org.nz/event/howick-rsa/
LOCATION:Howick RSA\, 25 Wellington Street\, Howick\, Auckland\, 2014\, New Zealand
CATEGORIES:City of Sails Event
END:VEVENT
BEGIN:VEVENT
DTSTART;TZID=Pacific/Auckland:20150519T191500
DTEND;TZID=Pacific/Auckland:20150519T211500
DTSTAMP:20260423T104749
CREATED:20150130T222657Z
LAST-MODIFIED:20150407T225038Z
UID:543-1432062900-1432070100@cityofsails.org.nz
SUMMARY:Club Night - BBI
DESCRIPTION:
URL:https://cityofsails.org.nz/event/club-night-bbi-11/
LOCATION:Bucklands Beach Intermediate School\, 247 Bucklands Beach Road\, Auckland\, Bucklands Beach\, 2014\, New Zealand
CATEGORIES:City of Sails Event
END:VEVENT
BEGIN:VEVENT
DTSTART;TZID=Pacific/Auckland:20150517T190000
DTEND;TZID=Pacific/Auckland:20150517T200000
DTSTAMP:20260423T104749
CREATED:20150510T092229Z
LAST-MODIFIED:20150510T092229Z
UID:724-1431889200-1431892800@cityofsails.org.nz
SUMMARY:Beginners Lessons
DESCRIPTION:Four weeks of lessons commencing 17 May through to 14 June.  No lessons Queen’s Birthday weekend.   See more details on the Lessons page.
URL:https://cityofsails.org.nz/event/beginners-lessons/
LOCATION:Bucklands Beach Intermediate School\, 247 Bucklands Beach Road\, Auckland\, Bucklands Beach\, 2014\, New Zealand
CATEGORIES:City of Sails Event
END:VEVENT
BEGIN:VEVENT
DTSTART;TZID=Pacific/Auckland:20150513T190000
DTEND;TZID=Pacific/Auckland:20150513T213000
DTSTAMP:20260423T104749
CREATED:20150130T222453Z
LAST-MODIFIED:20150407T225038Z
UID:542-1431543600-1431552600@cityofsails.org.nz
SUMMARY:Cub Night - RSA
DESCRIPTION:
URL:https://cityofsails.org.nz/event/cub-night-rsa/
LOCATION:Howick RSA\, 25 Wellington Street\, Howick\, Auckland\, 2014\, New Zealand
CATEGORIES:City of Sails Event
END:VEVENT
BEGIN:VEVENT
DTSTART;TZID=Pacific/Auckland:20150510T190000
DTEND;TZID=Pacific/Auckland:20150510T200000
DTSTAMP:20260423T104749
CREATED:20150226T085758Z
LAST-MODIFIED:20150407T225038Z
UID:578-1431284400-1431288000@cityofsails.org.nz
SUMMARY:Beginners Lessons - week 4 of 4
DESCRIPTION:
URL:https://cityofsails.org.nz/event/beginners-lessons-week-4-of-4/
CATEGORIES:City of Sails Event
END:VEVENT
BEGIN:VEVENT
DTSTART;TZID=Pacific/Auckland:20150510T173000
DTEND;TZID=Pacific/Auckland:20150510T183000
DTSTAMP:20260423T104749
CREATED:20150305T073413Z
LAST-MODIFIED:20150407T225038Z
UID:594-1431279000-1431282600@cityofsails.org.nz
SUMMARY:Intermediate Lessons - week 4 of 4
DESCRIPTION:
URL:https://cityofsails.org.nz/event/intermediate-lessons-week-4-of-4/
LOCATION:Bucklands Beach Intermediate School\, 247 Bucklands Beach Road\, Auckland\, Bucklands Beach\, 2014\, New Zealand
CATEGORIES:City of Sails Event
END:VEVENT
BEGIN:VEVENT
DTSTART;TZID=Pacific/Auckland:20150508T183000
DTEND;TZID=Pacific/Auckland:20150508T210000
DTSTAMP:20260423T104749
CREATED:20150418T015039Z
LAST-MODIFIED:20150418T015039Z
UID:620-1431109800-1431118800@cityofsails.org.nz
SUMMARY:Juniors Family Night
DESCRIPTION:Come along for a fun night of games and dancing.  Open for young and old so come along. \nDetails are: \nVenue: Elm Park School Hall\, Gossamer Drive \, Pakuranga \nTime: 6.30 to 9.00 pm \nCosts: TBA
URL:https://cityofsails.org.nz/event/juniors-family-night/
LOCATION:Elm Park School\, 46 Gossamer Drive\, Auckland\, New Zealand
CATEGORIES:City of Sails Event
END:VEVENT
BEGIN:VEVENT
DTSTART;TZID=Pacific/Auckland:20150505T191500
DTEND;TZID=Pacific/Auckland:20150505T211500
DTSTAMP:20260423T104749
CREATED:20150130T222332Z
LAST-MODIFIED:20150407T225038Z
UID:541-1430853300-1430860500@cityofsails.org.nz
SUMMARY:Club Night - BBI
DESCRIPTION:
URL:https://cityofsails.org.nz/event/club-night-bbi-10/
LOCATION:Bucklands Beach Intermediate School\, 247 Bucklands Beach Road\, Auckland\, Bucklands Beach\, 2014\, New Zealand
CATEGORIES:City of Sails Event
END:VEVENT
BEGIN:VEVENT
DTSTART;TZID=Pacific/Auckland:20150503T190000
DTEND;TZID=Pacific/Auckland:20150503T200000
DTSTAMP:20260423T104749
CREATED:20150213T065524Z
LAST-MODIFIED:20150407T225038Z
UID:560-1430679600-1430683200@cityofsails.org.nz
SUMMARY:Beginners Lessons - Week 3 of 4
DESCRIPTION:
URL:https://cityofsails.org.nz/event/beginners-lessons-set-2-week-4-4/
LOCATION:Bucklands Beach Intermediate School\, 247 Bucklands Beach Road\, Auckland\, Bucklands Beach\, 2014\, New Zealand
CATEGORIES:City of Sails Event
END:VEVENT
BEGIN:VEVENT
DTSTART;TZID=Pacific/Auckland:20150503T173000
DTEND;TZID=Pacific/Auckland:20150503T183000
DTSTAMP:20260423T104749
CREATED:20150305T073117Z
LAST-MODIFIED:20150407T225038Z
UID:593-1430674200-1430677800@cityofsails.org.nz
SUMMARY:Intermediate Lessons -week 3 of 4
DESCRIPTION:
URL:https://cityofsails.org.nz/event/intermediate-lessons-week-3-of-4/
CATEGORIES:City of Sails Event
END:VEVENT
BEGIN:VEVENT
DTSTART;TZID=Pacific/Auckland:20150428T191500
DTEND;TZID=Pacific/Auckland:20150428T211500
DTSTAMP:20260423T104749
CREATED:20150130T222012Z
LAST-MODIFIED:20150407T225039Z
UID:540-1430248500-1430255700@cityofsails.org.nz
SUMMARY:Club Night - BBI
DESCRIPTION:
URL:https://cityofsails.org.nz/event/club-night-bbi-9/
LOCATION:Bucklands Beach Intermediate School\, 247 Bucklands Beach Road\, Auckland\, Bucklands Beach\, 2014\, New Zealand
CATEGORIES:City of Sails Event
END:VEVENT
BEGIN:VEVENT
DTSTART;VALUE=DATE:20150426
DTEND;VALUE=DATE:20150427
DTSTAMP:20260423T104749
CREATED:20150305T072806Z
LAST-MODIFIED:20150407T225039Z
UID:592-1430006400-1430092799@cityofsails.org.nz
SUMMARY:No lessons - Anzac long weekend
DESCRIPTION:
URL:https://cityofsails.org.nz/event/no-lessons-anzac-long-weekend/
LOCATION:Bucklands Beach Intermediate School\, 247 Bucklands Beach Road\, Auckland\, Bucklands Beach\, 2014\, New Zealand
CATEGORIES:City of Sails Event
END:VEVENT
BEGIN:VEVENT
DTSTART;TZID=Pacific/Auckland:20150421T191500
DTEND;TZID=Pacific/Auckland:20150421T211500
DTSTAMP:20260423T104749
CREATED:20150130T221628Z
LAST-MODIFIED:20150407T225039Z
UID:539-1429643700-1429650900@cityofsails.org.nz
SUMMARY:Club Night - BBI
DESCRIPTION:
URL:https://cityofsails.org.nz/event/club-night-bbi-8/
LOCATION:Bucklands Beach Intermediate School\, 247 Bucklands Beach Road\, Auckland\, Bucklands Beach\, 2014\, New Zealand
CATEGORIES:City of Sails Event
END:VEVENT
BEGIN:VEVENT
DTSTART;TZID=Pacific/Auckland:20150419T190000
DTEND;TZID=Pacific/Auckland:20150419T200000
DTSTAMP:20260423T104749
CREATED:20150213T064836Z
LAST-MODIFIED:20150407T225039Z
UID:558-1429470000-1429473600@cityofsails.org.nz
SUMMARY:Beginners Lessons - Week 2 of 4
DESCRIPTION:
URL:https://cityofsails.org.nz/event/beginners-lessons-week-2-4/
LOCATION:Bucklands Beach Intermediate School\, 247 Bucklands Beach Road\, Auckland\, Bucklands Beach\, 2014\, New Zealand
CATEGORIES:City of Sails Event
END:VEVENT
BEGIN:VEVENT
DTSTART;TZID=Pacific/Auckland:20150419T173000
DTEND;TZID=Pacific/Auckland:20150419T183000
DTSTAMP:20260423T104749
CREATED:20150305T072612Z
LAST-MODIFIED:20150407T225039Z
UID:591-1429464600-1429468200@cityofsails.org.nz
SUMMARY:Intermediate Lessons - week 2 of 4
DESCRIPTION:
URL:https://cityofsails.org.nz/event/intermediate-lessons-week-2-of-4/
LOCATION:Bucklands Beach Intermediate School\, 247 Bucklands Beach Road\, Auckland\, Bucklands Beach\, 2014\, New Zealand
CATEGORIES:City of Sails Event
END:VEVENT
BEGIN:VEVENT
DTSTART;TZID=Pacific/Auckland:20150418T193000
DTEND;TZID=Pacific/Auckland:20150418T233000
DTSTAMP:20260423T104749
CREATED:20150401T071140Z
LAST-MODIFIED:20150407T225039Z
UID:607-1429385400-1429399800@cityofsails.org.nz
SUMMARY:April Dance with DJ - Michael Feck
DESCRIPTION:Come along and rock the night away to the music by DJ Michael Feck \nPrices are\nMembers – $12.50\nNon members – $15.00\nJuniors – under 18 $7.50
URL:https://cityofsails.org.nz/event/april-dance-with-dj-michael-feck/
LOCATION:Edgewater College School Hall\, 32 Edgewater Drive\, Pakuranga\, Auckland\, 2010\, New Zealand
CATEGORIES:City of Sails Event
END:VEVENT
BEGIN:VEVENT
DTSTART;TZID=Pacific/Auckland:20150414T191500
DTEND;TZID=Pacific/Auckland:20150414T211500
DTSTAMP:20260423T104749
CREATED:20150130T221514Z
LAST-MODIFIED:20150407T225039Z
UID:538-1429038900-1429046100@cityofsails.org.nz
SUMMARY:Club Night - BBI
DESCRIPTION:
URL:https://cityofsails.org.nz/event/club-night-bbi-7/
LOCATION:Bucklands Beach Intermediate School\, 247 Bucklands Beach Road\, Auckland\, Bucklands Beach\, 2014\, New Zealand
CATEGORIES:City of Sails Event
END:VEVENT
BEGIN:VEVENT
DTSTART;TZID=Pacific/Auckland:20150412T190000
DTEND;TZID=Pacific/Auckland:20150412T200000
DTSTAMP:20260423T104749
CREATED:20150213T064245Z
LAST-MODIFIED:20150407T225039Z
UID:557-1428865200-1428868800@cityofsails.org.nz
SUMMARY:Beginners Lessons - Week 1 of 4
DESCRIPTION:
URL:https://cityofsails.org.nz/event/beginners-lessons-week-1-4/
LOCATION:Bucklands Beach Intermediate School\, 247 Bucklands Beach Road\, Auckland\, Bucklands Beach\, 2014\, New Zealand
CATEGORIES:City of Sails Event
END:VEVENT
END:VCALENDAR