BEGIN:VCALENDAR
VERSION:2.0
PRODID:-//City of Sails Rock &#039;n&#039; Roll Revival Club - ECPv6.15.20//NONSGML v1.0//EN
CALSCALE:GREGORIAN
METHOD:PUBLISH
X-WR-CALNAME:City of Sails Rock &#039;n&#039; Roll Revival Club
X-ORIGINAL-URL:https://cityofsails.org.nz
X-WR-CALDESC:Events for City of Sails Rock &#039;n&#039; Roll Revival Club
REFRESH-INTERVAL;VALUE=DURATION:PT1H
X-Robots-Tag:noindex
X-PUBLISHED-TTL:PT1H
BEGIN:VTIMEZONE
TZID:Pacific/Auckland
BEGIN:STANDARD
TZOFFSETFROM:+1300
TZOFFSETTO:+1200
TZNAME:NZST
DTSTART:20140405T140000
END:STANDARD
BEGIN:DAYLIGHT
TZOFFSETFROM:+1200
TZOFFSETTO:+1300
TZNAME:NZDT
DTSTART:20140927T140000
END:DAYLIGHT
BEGIN:STANDARD
TZOFFSETFROM:+1300
TZOFFSETTO:+1200
TZNAME:NZST
DTSTART:20150404T140000
END:STANDARD
BEGIN:DAYLIGHT
TZOFFSETFROM:+1200
TZOFFSETTO:+1300
TZNAME:NZDT
DTSTART:20150926T140000
END:DAYLIGHT
BEGIN:STANDARD
TZOFFSETFROM:+1300
TZOFFSETTO:+1200
TZNAME:NZST
DTSTART:20160402T140000
END:STANDARD
BEGIN:DAYLIGHT
TZOFFSETFROM:+1200
TZOFFSETTO:+1300
TZNAME:NZDT
DTSTART:20160924T140000
END:DAYLIGHT
BEGIN:STANDARD
TZOFFSETFROM:+1300
TZOFFSETTO:+1200
TZNAME:NZST
DTSTART:20170401T140000
END:STANDARD
BEGIN:DAYLIGHT
TZOFFSETFROM:+1200
TZOFFSETTO:+1300
TZNAME:NZDT
DTSTART:20170923T140000
END:DAYLIGHT
END:VTIMEZONE
BEGIN:VEVENT
DTSTART;TZID=Pacific/Auckland:20160426T191500
DTEND;TZID=Pacific/Auckland:20160426T211500
DTSTAMP:20260423T094941
CREATED:20160323T082137Z
LAST-MODIFIED:20160323T082137Z
UID:1364-1461698100-1461705300@cityofsails.org.nz
SUMMARY:Club Night - Wharf Road
DESCRIPTION:
URL:https://cityofsails.org.nz/event/club-night-wharf-road-14/
LOCATION:Bucklands & Eastern Beach Memorial Hall\, 2 Wharf Road\, Auckland\, 2012\, New Zealand
CATEGORIES:City of Sails Event
END:VEVENT
BEGIN:VEVENT
DTSTART;TZID=Pacific/Auckland:20160424T190000
DTEND;TZID=Pacific/Auckland:20160424T200000
DTSTAMP:20260423T094941
CREATED:20160323T064253Z
LAST-MODIFIED:20160329T091849Z
UID:1355-1461524400-1461528000@cityofsails.org.nz
SUMMARY:No Lessons - Anzac Weekend
DESCRIPTION:
URL:https://cityofsails.org.nz/event/beginners-lessons-week-3-4-3/
LOCATION:Bucklands & Eastern Beach Memorial Hall\, 2 Wharf Road\, Auckland\, 2012\, New Zealand
CATEGORIES:City of Sails Event
END:VEVENT
BEGIN:VEVENT
DTSTART;TZID=Pacific/Auckland:20160424T173000
DTEND;TZID=Pacific/Auckland:20160424T183000
DTSTAMP:20260423T094941
CREATED:20160323T064746Z
LAST-MODIFIED:20160329T092020Z
UID:1356-1461519000-1461522600@cityofsails.org.nz
SUMMARY:No lessons  - Anzac Weekend
DESCRIPTION:
URL:https://cityofsails.org.nz/event/intermediate-lessons-week-3-4-3/
LOCATION:Bucklands & Eastern Beach Memorial Hall\, 2 Wharf Road\, Auckland\, 2012\, New Zealand
CATEGORIES:City of Sails Event
END:VEVENT
BEGIN:VEVENT
DTSTART;TZID=Pacific/Auckland:20160419T191500
DTEND;TZID=Pacific/Auckland:20160419T211500
DTSTAMP:20260423T094941
CREATED:20160323T081919Z
LAST-MODIFIED:20160323T081919Z
UID:1363-1461093300-1461100500@cityofsails.org.nz
SUMMARY:Club Night - Wharf Road
DESCRIPTION:
URL:https://cityofsails.org.nz/event/club-night-wharf-road-13/
LOCATION:Bucklands & Eastern Beach Memorial Hall\, 2 Wharf Road\, Auckland\, 2012\, New Zealand
CATEGORIES:City of Sails Event
END:VEVENT
BEGIN:VEVENT
DTSTART;TZID=Pacific/Auckland:20160417T190000
DTEND;TZID=Pacific/Auckland:20160417T200000
DTSTAMP:20260423T094941
CREATED:20160323T063749Z
LAST-MODIFIED:20160323T073522Z
UID:1353-1460919600-1460923200@cityofsails.org.nz
SUMMARY:Beginners Lessons Week 2 of 4
DESCRIPTION:
URL:https://cityofsails.org.nz/event/beginners-lessons-week-2-4-3/
LOCATION:Bucklands & Eastern Beach Memorial Hall\, 2 Wharf Road\, Auckland\, 2012\, New Zealand
CATEGORIES:City of Sails Event
END:VEVENT
BEGIN:VEVENT
DTSTART;TZID=Pacific/Auckland:20160417T173000
DTEND;TZID=Pacific/Auckland:20160417T183000
DTSTAMP:20260423T094941
CREATED:20160323T064015Z
LAST-MODIFIED:20160323T064015Z
UID:1354-1460914200-1460917800@cityofsails.org.nz
SUMMARY:Intermediate Lessons Week 2 of 4
DESCRIPTION:
URL:https://cityofsails.org.nz/event/intermediate-lessons-week-2-4-3/
LOCATION:Bucklands & Eastern Beach Memorial Hall\, 2 Wharf Road\, Auckland\, 2012\, New Zealand
CATEGORIES:City of Sails Event
END:VEVENT
BEGIN:VEVENT
DTSTART;TZID=Pacific/Auckland:20160413T190000
DTEND;TZID=Pacific/Auckland:20160413T211500
DTSTAMP:20260423T094941
CREATED:20160323T081645Z
LAST-MODIFIED:20160323T081716Z
UID:1362-1460574000-1460582100@cityofsails.org.nz
SUMMARY:Club Night - Howick RSA
DESCRIPTION:
URL:https://cityofsails.org.nz/event/club-night-howick-rsa-7/
LOCATION:Howick RSA\, 25 Wellington Street\, Howick\, Auckland\, 2014\, New Zealand
CATEGORIES:City of Sails Event
END:VEVENT
BEGIN:VEVENT
DTSTART;TZID=Pacific/Auckland:20160410T190000
DTEND;TZID=Pacific/Auckland:20160410T190000
DTSTAMP:20260423T094941
CREATED:20160323T063139Z
LAST-MODIFIED:20160323T063139Z
UID:1351-1460314800-1460314800@cityofsails.org.nz
SUMMARY:Beginners Lessons Week 1 of 4
DESCRIPTION:
URL:https://cityofsails.org.nz/event/beginners-lessons-week-1-4-4/
CATEGORIES:City of Sails Event
END:VEVENT
BEGIN:VEVENT
DTSTART;TZID=Pacific/Auckland:20160410T173000
DTEND;TZID=Pacific/Auckland:20160410T183000
DTSTAMP:20260423T094941
CREATED:20160323T063350Z
LAST-MODIFIED:20160323T063350Z
UID:1352-1460309400-1460313000@cityofsails.org.nz
SUMMARY:Intermediate Lessons Week 1 of 4
DESCRIPTION:
URL:https://cityofsails.org.nz/event/intermediate-lessons-week-1-4-3/
CATEGORIES:City of Sails Event
END:VEVENT
BEGIN:VEVENT
DTSTART;TZID=Pacific/Auckland:20160405T191500
DTEND;TZID=Pacific/Auckland:20160405T201500
DTSTAMP:20260423T094941
CREATED:20160323T081203Z
LAST-MODIFIED:20160323T081203Z
UID:1360-1459883700-1459887300@cityofsails.org.nz
SUMMARY:Club Night - Wharf Road
DESCRIPTION:
URL:https://cityofsails.org.nz/event/club-night-wharf-road-12/
LOCATION:Bucklands & Eastern Beach Memorial Hall\, 2 Wharf Road\, Auckland\, 2012\, New Zealand
CATEGORIES:City of Sails Event
END:VEVENT
BEGIN:VEVENT
DTSTART;TZID=Pacific/Auckland:20160329T191500
DTEND;TZID=Pacific/Auckland:20160329T191500
DTSTAMP:20260423T094941
CREATED:20160323T081015Z
LAST-MODIFIED:20160323T081015Z
UID:1359-1459278900-1459278900@cityofsails.org.nz
SUMMARY:Club Night - Wharf Road
DESCRIPTION:
URL:https://cityofsails.org.nz/event/club-night-wharf-road-11/
CATEGORIES:City of Sails Event
END:VEVENT
BEGIN:VEVENT
DTSTART;TZID=Pacific/Auckland:20160320T183000
DTEND;TZID=Pacific/Auckland:20160320T190000
DTSTAMP:20260423T094941
CREATED:20160315T095239Z
LAST-MODIFIED:20160315T095239Z
UID:1335-1458498600-1458500400@cityofsails.org.nz
SUMMARY:Junior National Teams Demo
DESCRIPTION:Come along and support the juniors with their demo prior to the National competition. A gold coin donation would be appreciated to assist the junior fundraising.  \nCommencing at 6.30pm \nBucklands Beach War Memorial Hall
URL:https://cityofsails.org.nz/event/junior-national-teams-demo/
LOCATION:Bucklands & Eastern Beach Memorial Hall\, 2 Wharf Road\, Auckland\, 2012\, New Zealand
CATEGORIES:City of Sails Event
END:VEVENT
BEGIN:VEVENT
DTSTART;TZID=Pacific/Auckland:20160313T080000
DTEND;TZID=Pacific/Auckland:20160313T170000
DTSTAMP:20260423T094941
CREATED:20160122T090626Z
LAST-MODIFIED:20160122T090651Z
UID:1276-1457856000-1457888400@cityofsails.org.nz
SUMMARY:Beginners Lessons Week 4 of 4
DESCRIPTION:
URL:https://cityofsails.org.nz/event/beginners-lessons-week-4-of-4-4/
LOCATION:Bucklands & Eastern Beach Memorial Hall\, 2 Wharf Road\, Auckland\, 2012\, New Zealand
CATEGORIES:City of Sails Event
END:VEVENT
BEGIN:VEVENT
DTSTART;TZID=Pacific/Auckland:20160306T190000
DTEND;TZID=Pacific/Auckland:20160306T200000
DTSTAMP:20260423T094941
CREATED:20160122T090412Z
LAST-MODIFIED:20160122T090412Z
UID:1275-1457290800-1457294400@cityofsails.org.nz
SUMMARY:Beginners Lessons Week 3 of 4
DESCRIPTION:
URL:https://cityofsails.org.nz/event/beginners-lessons-week-3-of-4-2/
LOCATION:Bucklands & Eastern Beach Memorial Hall\, 2 Wharf Road\, Auckland\, 2012\, New Zealand
CATEGORIES:City of Sails Event
END:VEVENT
BEGIN:VEVENT
DTSTART;TZID=Pacific/Auckland:20160228T190000
DTEND;TZID=Pacific/Auckland:20160228T200000
DTSTAMP:20260423T094941
CREATED:20160122T090205Z
LAST-MODIFIED:20160122T091128Z
UID:1274-1456686000-1456689600@cityofsails.org.nz
SUMMARY:Beginners Lessons Week 2 of 4
DESCRIPTION:
URL:https://cityofsails.org.nz/event/beginners-lessons-week-2-of-4-2/
LOCATION:Bucklands & Eastern Beach Memorial Hall\, 2 Wharf Road\, Auckland\, 2012\, New Zealand
CATEGORIES:City of Sails Event
END:VEVENT
BEGIN:VEVENT
DTSTART;TZID=Pacific/Auckland:20160223T191500
DTEND;TZID=Pacific/Auckland:20160223T211500
DTSTAMP:20260423T094941
CREATED:20160105T085644Z
LAST-MODIFIED:20160105T085644Z
UID:1259-1456254900-1456262100@cityofsails.org.nz
SUMMARY:Club Night - Wharf Road
DESCRIPTION:
URL:https://cityofsails.org.nz/event/club-night-wharf-road-10/
LOCATION:Bucklands & Eastern Beach Memorial Hall\, 2 Wharf Road\, Auckland\, 2012\, New Zealand
CATEGORIES:City of Sails Event
END:VEVENT
BEGIN:VEVENT
DTSTART;TZID=Pacific/Auckland:20160221T190000
DTEND;TZID=Pacific/Auckland:20160221T200000
DTSTAMP:20260423T094941
CREATED:20160122T085946Z
LAST-MODIFIED:20160122T091733Z
UID:1273-1456081200-1456084800@cityofsails.org.nz
SUMMARY:Beginners Lessons Week 1 of 4
DESCRIPTION:
URL:https://cityofsails.org.nz/event/beginners-lessons-week-1-of-4-3/
LOCATION:Bucklands & Eastern Beach Memorial Hall\, 2 Wharf Road\, Auckland\, 2012\, New Zealand
CATEGORIES:City of Sails Event
END:VEVENT
BEGIN:VEVENT
DTSTART;TZID=Pacific/Auckland:20160220T190000
DTEND;TZID=Pacific/Auckland:20160220T233000
DTSTAMP:20260423T094941
CREATED:20160216T091921Z
LAST-MODIFIED:20160216T092032Z
UID:1299-1455994800-1456011000@cityofsails.org.nz
SUMMARY:Birthday Hop with Shane and the Shazam Band
DESCRIPTION:Come along and enjoy a top night with Shane and the Shazam Band.  It has a reunion theme so we want to see lots of past and present members attend.  \nDoors open at 7pm and band commences 7.30pm and finishing 11.30pm.   \nLight supper provided  \nCosts: $12.50 for members and $15.00 for non-members.  Juniors under 18 are $7.50 \nSee ya there rockers
URL:https://cityofsails.org.nz/event/birthday-hop-with-shane-and-the-shazam-band/
LOCATION:Bucklands & Eastern Beach Memorial Hall\, 2 Wharf Road\, Auckland\, 2012\, New Zealand
CATEGORIES:City of Sails Event
END:VEVENT
BEGIN:VEVENT
DTSTART;TZID=Pacific/Auckland:20160216T191500
DTEND;TZID=Pacific/Auckland:20160216T211500
DTSTAMP:20260423T094941
CREATED:20160105T085505Z
LAST-MODIFIED:20160105T090709Z
UID:1258-1455650100-1455657300@cityofsails.org.nz
SUMMARY:Club Night - Wharf Road
DESCRIPTION:
URL:https://cityofsails.org.nz/event/club-night-wharf-road-9/
LOCATION:Bucklands & Eastern Beach Memorial Hall\, 2 Wharf Road\, Auckland\, 2012\, New Zealand
CATEGORIES:City of Sails Event
END:VEVENT
BEGIN:VEVENT
DTSTART;TZID=Pacific/Auckland:20160210T191500
DTEND;TZID=Pacific/Auckland:20160210T211500
DTSTAMP:20260423T094941
CREATED:20160105T085234Z
LAST-MODIFIED:20160105T090246Z
UID:1257-1455131700-1455138900@cityofsails.org.nz
SUMMARY:Club Night  -Howick RSA
DESCRIPTION:
URL:https://cityofsails.org.nz/event/club-night-howick-rsa-6/
LOCATION:Howick RSA\, 25 Wellington Street\, Howick\, Auckland\, 2014\, New Zealand
CATEGORIES:City of Sails Event
END:VEVENT
BEGIN:VEVENT
DTSTART;TZID=Pacific/Auckland:20160202T191500
DTEND;TZID=Pacific/Auckland:20160202T211500
DTSTAMP:20260423T094941
CREATED:20160105T085036Z
LAST-MODIFIED:20160105T085036Z
UID:1256-1454440500-1454447700@cityofsails.org.nz
SUMMARY:Club Night - Wharf Road
DESCRIPTION:
URL:https://cityofsails.org.nz/event/club-night-wharf-road-8/
LOCATION:Bucklands & Eastern Beach Memorial Hall\, 2 Wharf Road\, Auckland\, 2012\, New Zealand
CATEGORIES:City of Sails Event
END:VEVENT
BEGIN:VEVENT
DTSTART;TZID=Pacific/Auckland:20160126T191500
DTEND;TZID=Pacific/Auckland:20160126T211500
DTSTAMP:20260423T094941
CREATED:20150729T094457Z
LAST-MODIFIED:20160115T075010Z
UID:899-1453835700-1453842900@cityofsails.org.nz
SUMMARY:Club Night - Wharf Road
DESCRIPTION:
URL:https://cityofsails.org.nz/event/club-night-howick-rsa-5/
LOCATION:Bucklands & Eastern Beach Memorial Hall\, 2 Wharf Road\, Auckland\, 2012\, New Zealand
CATEGORIES:City of Sails Event
END:VEVENT
BEGIN:VEVENT
DTSTART;TZID=Pacific/Auckland:20160119T191500
DTEND;TZID=Pacific/Auckland:20160119T211500
DTSTAMP:20260423T094941
CREATED:20150729T094242Z
LAST-MODIFIED:20150729T094651Z
UID:898-1453230900-1453238100@cityofsails.org.nz
SUMMARY:Club Night - First for 2016 - Wharf Road
DESCRIPTION:
URL:https://cityofsails.org.nz/event/club-night-first-for-2016-wharf-road/
LOCATION:Bucklands & Eastern Beach Memorial Hall\, 2 Wharf Road\, Auckland\, 2012\, New Zealand
CATEGORIES:City of Sails Event
END:VEVENT
BEGIN:VEVENT
DTSTART;TZID=Pacific/Auckland:20151222T190000
DTEND;TZID=Pacific/Auckland:20151222T213000
DTSTAMP:20260423T094941
CREATED:20151122T074056Z
LAST-MODIFIED:20151122T074056Z
UID:1174-1450810800-1450819800@cityofsails.org.nz
SUMMARY:Howick  RSA Club Night - last for 2015
DESCRIPTION:
URL:https://cityofsails.org.nz/event/howick-rsa-club-night-last-for-2015/
LOCATION:Howick RSA\, 25 Wellington Street\, Howick\, Auckland\, 2014\, New Zealand
CATEGORIES:City of Sails Event
END:VEVENT
BEGIN:VEVENT
DTSTART;TZID=Pacific/Auckland:20151215T190000
DTEND;TZID=Pacific/Auckland:20151215T213000
DTSTAMP:20260423T094941
CREATED:20151122T073745Z
LAST-MODIFIED:20151122T073745Z
UID:1173-1450206000-1450215000@cityofsails.org.nz
SUMMARY:Howick RSA - Club Night
DESCRIPTION:This is a Tuesday night and sorry the restaurant is not open
URL:https://cityofsails.org.nz/event/howick-rsa-club-night-4/
LOCATION:Howick RSA\, 25 Wellington Street\, Howick\, Auckland\, 2014\, New Zealand
CATEGORIES:City of Sails Event
END:VEVENT
BEGIN:VEVENT
DTSTART;TZID=Pacific/Auckland:20151209T191500
DTEND;TZID=Pacific/Auckland:20151209T211500
DTSTAMP:20260423T094941
CREATED:20150729T093941Z
LAST-MODIFIED:20150729T093941Z
UID:897-1449688500-1449695700@cityofsails.org.nz
SUMMARY:Club Night - Howick RSA
DESCRIPTION:
URL:https://cityofsails.org.nz/event/club-night-howick-rsa-4/
LOCATION:Howick RSA\, 25 Wellington Street\, Howick\, Auckland\, 2014\, New Zealand
CATEGORIES:City of Sails Event
END:VEVENT
BEGIN:VEVENT
DTSTART;TZID=Pacific/Auckland:20151201T191500
DTEND;TZID=Pacific/Auckland:20151201T211500
DTSTAMP:20260423T094941
CREATED:20150729T093704Z
LAST-MODIFIED:20150729T093704Z
UID:896-1448997300-1449004500@cityofsails.org.nz
SUMMARY:Club Night - Wharf Road
DESCRIPTION:
URL:https://cityofsails.org.nz/event/club-night-wharf-road-7/
LOCATION:Bucklands & Eastern Beach Memorial Hall\, 2 Wharf Road\, Auckland\, 2012\, New Zealand
CATEGORIES:City of Sails Event
END:VEVENT
BEGIN:VEVENT
DTSTART;TZID=Pacific/Auckland:20151124T191500
DTEND;TZID=Pacific/Auckland:20151124T211500
DTSTAMP:20260423T094941
CREATED:20150729T093453Z
LAST-MODIFIED:20150729T093453Z
UID:895-1448392500-1448399700@cityofsails.org.nz
SUMMARY:Club Night - Wharf Rd
DESCRIPTION:
URL:https://cityofsails.org.nz/event/club-night-wharf-rd-4/
LOCATION:Bucklands & Eastern Beach Memorial Hall\, 2 Wharf Road\, Auckland\, 2012\, New Zealand
CATEGORIES:City of Sails Event
END:VEVENT
BEGIN:VEVENT
DTSTART;TZID=Pacific/Auckland:20151122T183000
DTEND;TZID=Pacific/Auckland:20151122T193000
DTSTAMP:20260423T094941
CREATED:20151016T064906Z
LAST-MODIFIED:20151020T084246Z
UID:998-1448217000-1448220600@cityofsails.org.nz
SUMMARY:New Moves Lessons - Week 4 of 4
DESCRIPTION:
URL:https://cityofsails.org.nz/event/new-moves-lessons-week-3-of-4/
LOCATION:Bucklands & Eastern Beach Memorial Hall\, 2 Wharf Road\, Auckland\, 2012\, New Zealand
CATEGORIES:City of Sails Event
END:VEVENT
BEGIN:VEVENT
DTSTART;TZID=Pacific/Auckland:20151122T170000
DTEND;TZID=Pacific/Auckland:20151122T180000
DTSTAMP:20260423T094941
CREATED:20151007T075619Z
LAST-MODIFIED:20151007T075619Z
UID:985-1448211600-1448215200@cityofsails.org.nz
SUMMARY:Beginners Lessons week 4 of 4
DESCRIPTION:Final night of lessons including a review of moves taught
URL:https://cityofsails.org.nz/event/beginners-lessons-week-4-of-4-3/
LOCATION:Bucklands & Eastern Beach Memorial Hall\, 2 Wharf Road\, Auckland\, 2012\, New Zealand
CATEGORIES:City of Sails Event
END:VEVENT
END:VCALENDAR