BEGIN:VCALENDAR
VERSION:2.0
PRODID:-//City of Sails Rock &#039;n&#039; Roll Revival Club - ECPv6.15.20//NONSGML v1.0//EN
CALSCALE:GREGORIAN
METHOD:PUBLISH
X-WR-CALNAME:City of Sails Rock &#039;n&#039; Roll Revival Club
X-ORIGINAL-URL:https://cityofsails.org.nz
X-WR-CALDESC:Events for City of Sails Rock &#039;n&#039; Roll Revival Club
REFRESH-INTERVAL;VALUE=DURATION:PT1H
X-Robots-Tag:noindex
X-PUBLISHED-TTL:PT1H
BEGIN:VTIMEZONE
TZID:Pacific/Auckland
BEGIN:STANDARD
TZOFFSETFROM:+1300
TZOFFSETTO:+1200
TZNAME:NZST
DTSTART:20150404T140000
END:STANDARD
BEGIN:DAYLIGHT
TZOFFSETFROM:+1200
TZOFFSETTO:+1300
TZNAME:NZDT
DTSTART:20150926T140000
END:DAYLIGHT
BEGIN:STANDARD
TZOFFSETFROM:+1300
TZOFFSETTO:+1200
TZNAME:NZST
DTSTART:20160402T140000
END:STANDARD
BEGIN:DAYLIGHT
TZOFFSETFROM:+1200
TZOFFSETTO:+1300
TZNAME:NZDT
DTSTART:20160924T140000
END:DAYLIGHT
BEGIN:STANDARD
TZOFFSETFROM:+1300
TZOFFSETTO:+1200
TZNAME:NZST
DTSTART:20170401T140000
END:STANDARD
BEGIN:DAYLIGHT
TZOFFSETFROM:+1200
TZOFFSETTO:+1300
TZNAME:NZDT
DTSTART:20170923T140000
END:DAYLIGHT
BEGIN:STANDARD
TZOFFSETFROM:+1300
TZOFFSETTO:+1200
TZNAME:NZST
DTSTART:20180331T140000
END:STANDARD
BEGIN:DAYLIGHT
TZOFFSETFROM:+1200
TZOFFSETTO:+1300
TZNAME:NZDT
DTSTART:20180929T140000
END:DAYLIGHT
END:VTIMEZONE
BEGIN:VEVENT
DTSTART;TZID=Pacific/Auckland:20170321T190000
DTEND;TZID=Pacific/Auckland:20170321T193000
DTSTAMP:20260423T101515
CREATED:20170216T204852Z
LAST-MODIFIED:20170319T194031Z
UID:2174-1490122800-1490124600@cityofsails.org.nz
SUMMARY:Beginners Lessons Week 1 of 6 March 2017
DESCRIPTION:Beginners Lessons – Week 1 of 6 March 2017\nIf you have wanted to learn how to dance\, then City of Sails Beginners Lessons are for you. \nOur six week block course is perfect for anyone who has never danced before. Over the duration of our six week block course\, you will learn the basic rock’n’ roll step and four basic moves. Enough to get you and a dance partner onto the dance floor and rocking along to your favourite retro tunes. \nDon’t be afraid of feeling silly or uncoordinated\, every dancer has to start from somewhere\nand we are sure as you progress through the course the steps will become more familiar and\nstart to feel more natural. \nCity of Sails Club Night occurs straight after Lessons and is a great opportunity to practice your new moves\, meet other Club Members and cement new friendships. Don’t be afraid to ask other Club Members to dance\, Club Members are more than happy to assist the progress of Beginners. \nThe entire Beginners Lesson block is great value at $25 per person for the entire six week block.\nOur friendly instructors go to great efforts to make sure our Beginners Lessons are fun and enjoyable for everyone. So no more excuses\, now is the time to learn to dance!
URL:https://cityofsails.org.nz/event/beginners-lessons-week-1-6-march-2017/
LOCATION:Bucklands & Eastern Beach Memorial Hall\, 2 Wharf Road\, Auckland\, 2012\, New Zealand
CATEGORIES:City of Sails Lessons
END:VEVENT
BEGIN:VEVENT
DTSTART;TZID=Pacific/Auckland:20170307T190000
DTEND;TZID=Pacific/Auckland:20170307T193000
DTSTAMP:20260423T101515
CREATED:20170216T205436Z
LAST-MODIFIED:20170216T211059Z
UID:2141-1488913200-1488915000@cityofsails.org.nz
SUMMARY:Beginners Lessons Week 5 of 6
DESCRIPTION:Beginners Lessons – Week 5 of 6\nIf you have wanted to learn how to dance\, then City of Sails Beginners Lessons are for you. \nOur six week block course is perfect for anyone who has never danced before. Over the duration of our six week block course\, you will learn the basic rock’n’ roll step and four basic moves. Enough to get you and a dance partner onto the dance floor and rocking along to your favourite retro tunes. \nDon’t be afraid of feeling silly or uncoordinated\, every dancer has to start from somewhere\nand we are sure as you progress through the course the steps will become more familiar and\nstart to feel more natural. \nCity of Sails Club Night occurs straight after Lessons and is a great opportunity to practice your new moves\, meet other Club Members and cement new friendships. Don’t be afraid to ask other Club Members to dance\, Club Members are more than happy to assist the progress of Beginners. \nThe entire Beginners Lesson block is great value at $25 per person for the entire six week block.\nOur friendly instructors go to great efforts to make sure our Beginners Lessons are fun and enjoyable for everyone. So no more excuses\, now is the time to learn to dance!
URL:https://cityofsails.org.nz/event/beginners-lessons-week-56/
LOCATION:Bucklands & Eastern Beach Memorial Hall\, 2 Wharf Road\, Auckland\, 2012\, New Zealand
CATEGORIES:City of Sails Lessons
ATTACH;FMTTYPE=image/jpeg:https://cityofsails.org.nz/wp-content/uploads/2014/10/Lessons_Flyer_2-1.jpg
END:VEVENT
BEGIN:VEVENT
DTSTART;TZID=Pacific/Auckland:20170228T190000
DTEND;TZID=Pacific/Auckland:20170228T193000
DTSTAMP:20260423T101515
CREATED:20170216T205436Z
LAST-MODIFIED:20170216T211115Z
UID:2139-1488308400-1488310200@cityofsails.org.nz
SUMMARY:Beginners Lessons Week 4 of 6
DESCRIPTION:Beginners Lessons – Week 4 of 6\nIf you have wanted to learn how to dance\, then City of Sails Beginners Lessons are for you. \nOur six week block course is perfect for anyone who has never danced before. Over the duration of our six week block course\, you will learn the basic rock’n’ roll step and four basic moves. Enough to get you and a dance partner onto the dance floor and rocking along to your favourite retro tunes. \nDon’t be afraid of feeling silly or uncoordinated\, every dancer has to start from somewhere\nand we are sure as you progress through the course the steps will become more familiar and\nstart to feel more natural. \nCity of Sails Club Night occurs straight after Lessons and is a great opportunity to practice your new moves\, meet other Club Members and cement new friendships. Don’t be afraid to ask other Club Members to dance\, Club Members are more than happy to assist the progress of Beginners. \nThe entire Beginners Lesson block is great value at $25 per person for the entire six week block.\nOur friendly instructors go to great efforts to make sure our Beginners Lessons are fun and enjoyable for everyone. So no more excuses\, now is the time to learn to dance!
URL:https://cityofsails.org.nz/event/beginners-lessons-week-46/
LOCATION:Bucklands & Eastern Beach Memorial Hall\, 2 Wharf Road\, Auckland\, 2012\, New Zealand
CATEGORIES:City of Sails Lessons
ATTACH;FMTTYPE=image/jpeg:https://cityofsails.org.nz/wp-content/uploads/2014/10/Lessons_Flyer_2-1.jpg
END:VEVENT
BEGIN:VEVENT
DTSTART;TZID=Pacific/Auckland:20170221T190000
DTEND;TZID=Pacific/Auckland:20170221T193000
DTSTAMP:20260423T101515
CREATED:20170216T204852Z
LAST-MODIFIED:20170216T211137Z
UID:2136-1487703600-1487705400@cityofsails.org.nz
SUMMARY:Beginners Lessons Week 3 of 6
DESCRIPTION:Beginners Lessons – Week 3 of 6\nIf you have wanted to learn how to dance\, then City of Sails Beginners Lessons are for you. \nOur six week block course is perfect for anyone who has never danced before. Over the duration of our six week block course\, you will learn the basic rock’n’ roll step and four basic moves. Enough to get you and a dance partner onto the dance floor and rocking along to your favourite retro tunes. \nDon’t be afraid of feeling silly or uncoordinated\, every dancer has to start from somewhere\nand we are sure as you progress through the course the steps will become more familiar and\nstart to feel more natural. \nCity of Sails Club Night occurs straight after Lessons and is a great opportunity to practice your new moves\, meet other Club Members and cement new friendships. Don’t be afraid to ask other Club Members to dance\, Club Members are more than happy to assist the progress of Beginners. \nThe entire Beginners Lesson block is great value at $25 per person for the entire six week block.\nOur friendly instructors go to great efforts to make sure our Beginners Lessons are fun and enjoyable for everyone. So no more excuses\, now is the time to learn to dance!
URL:https://cityofsails.org.nz/event/beginners-lessons-week-36/
LOCATION:Bucklands & Eastern Beach Memorial Hall\, 2 Wharf Road\, Auckland\, 2012\, New Zealand
CATEGORIES:City of Sails Lessons
ATTACH;FMTTYPE=image/jpeg:https://cityofsails.org.nz/wp-content/uploads/2014/10/Lessons_Flyer_2-1.jpg
END:VEVENT
BEGIN:VEVENT
DTSTART;TZID=Pacific/Auckland:20161204T110000
DTEND;TZID=Pacific/Auckland:20161204T140000
DTSTAMP:20260423T101515
CREATED:20161130T205710Z
LAST-MODIFIED:20161130T205710Z
UID:2005-1480849200-1480860000@cityofsails.org.nz
SUMMARY:Howick Santa Parade
DESCRIPTION:Hello Rock ‘n’ Rollers\, \nCity of Sails Rock ‘n’ Roll are entering a float in the Howick Santa Parade.\nThe theme is 50’s Summer BBQ. \n\nWe are looking for people to assist with producing decorations for the truck\, preparing the truck on the day and taking part in the parade. \nIf you are interested in helping the club out please contact\nHeather Blackburn for further info.
URL:https://cityofsails.org.nz/event/howick-santa-parade/
LOCATION:Fencible Street\, Auckland\, Howick\, 2014\, New Zealand
CATEGORIES:City of Sails Event
END:VEVENT
BEGIN:VEVENT
DTSTART;TZID=Pacific/Auckland:20161126T193000
DTEND;TZID=Pacific/Auckland:20161126T233000
DTSTAMP:20260423T101515
CREATED:20161125T215155Z
LAST-MODIFIED:20161125T215155Z
UID:1990-1480188600-1480203000@cityofsails.org.nz
SUMMARY:City of Sails Rock 'n' Roll Christmas Dance
DESCRIPTION:Hello Rock ‘n’ Rollers\,\nBelow are the details for the upcoming City of Sails Rock ‘n’ Roll Christmas Dance featuring the musical talents of the Rocking Rollercoasters as the nights entertainment. \nDance the night away and celebrate the festive season. \nStart: 7:30pm\nFinish: 11:30pm\nMembers: $12.50\nNon-Members: $15.00\nUnder 18: $7.50
URL:https://cityofsails.org.nz/event/city-sails-rock-n-roll-christmas-dance/
CATEGORIES:City of Sails Event
ATTACH;FMTTYPE=image/jpeg:https://cityofsails.org.nz/wp-content/uploads/2014/10/Christmas-Dance_V3.jpg
END:VEVENT
BEGIN:VEVENT
DTSTART;TZID=Pacific/Auckland:20160924T190000
DTEND;TZID=Pacific/Auckland:20160924T233000
DTSTAMP:20260423T101515
CREATED:20160809T232607Z
LAST-MODIFIED:20160809T232639Z
UID:1915-1474743600-1474759800@cityofsails.org.nz
SUMMARY:City of Sails Allcomers
DESCRIPTION:City of Sails Allcomers
URL:https://cityofsails.org.nz/event/city-sails-allcomers/
LOCATION:Edgewater College School Hall\, 32 Edgewater Drive\, Pakuranga\, Auckland\, 2010\, New Zealand
CATEGORIES:City of Sails Event
END:VEVENT
BEGIN:VEVENT
DTSTART;TZID=Pacific/Auckland:20160730T183000
DTEND;TZID=Pacific/Auckland:20160730T233000
DTSTAMP:20260423T101515
CREATED:20160717T191518Z
LAST-MODIFIED:20160718T222747Z
UID:1677-1469903400-1469921400@cityofsails.org.nz
SUMMARY:City of Sails Club Champs
DESCRIPTION:
URL:https://cityofsails.org.nz/event/city-sails-club-champs-2/
CATEGORIES:City of Sails Event
END:VEVENT
BEGIN:VEVENT
DTSTART;TZID=Pacific/Auckland:20160726T191500
DTEND;TZID=Pacific/Auckland:20160726T191500
DTSTAMP:20260423T101515
CREATED:20160714T032405Z
LAST-MODIFIED:20160714T034649Z
UID:1673-1469560500-1469560500@cityofsails.org.nz
SUMMARY:Club Night - Wharf Rd
DESCRIPTION:
URL:https://cityofsails.org.nz/event/club-night-wharf-rd-5-2/
LOCATION:Bucklands & Eastern Beach Memorial Hall\, 2 Wharf Road\, Auckland\, 2012\, New Zealand
CATEGORIES:City of Sails Event
ATTACH;FMTTYPE=image/jpeg:https://cityofsails.org.nz/wp-content/uploads/2016/05/Club-Night.jpg
END:VEVENT
BEGIN:VEVENT
DTSTART;TZID=Pacific/Auckland:20160719T191500
DTEND;TZID=Pacific/Auckland:20160719T211500
DTSTAMP:20260423T101515
CREATED:20160714T032405Z
LAST-MODIFIED:20160714T032651Z
UID:1625-1468955700-1468962900@cityofsails.org.nz
SUMMARY:Club Night - Wharf Rd
DESCRIPTION:
URL:https://cityofsails.org.nz/event/club-night-wharf-rd-5/
LOCATION:Bucklands & Eastern Beach Memorial Hall\, 2 Wharf Road\, Auckland\, 2012\, New Zealand
CATEGORIES:City of Sails Event
ATTACH;FMTTYPE=image/jpeg:https://cityofsails.org.nz/wp-content/uploads/2016/05/Club-Night.jpg
END:VEVENT
BEGIN:VEVENT
DTSTART;TZID=Pacific/Auckland:20160626T150000
DTEND;TZID=Pacific/Auckland:20160626T170000
DTSTAMP:20260423T101515
CREATED:20160514T021115Z
LAST-MODIFIED:20160514T022153Z
UID:1422-1466953200-1466960400@cityofsails.org.nz
SUMMARY:Annual General Meeting
DESCRIPTION:
URL:https://cityofsails.org.nz/event/annual-general-meeting/
LOCATION:Bucklands & Eastern Beach Memorial Hall\, 2 Wharf Road\, Auckland\, 2012\, New Zealand
CATEGORIES:City of Sails Event
END:VEVENT
BEGIN:VEVENT
DTSTART;TZID=Pacific/Auckland:20160625T190000
DTEND;TZID=Pacific/Auckland:20160625T233000
DTSTAMP:20260423T101515
CREATED:20160514T023317Z
LAST-MODIFIED:20160514T023317Z
UID:1431-1466881200-1466897400@cityofsails.org.nz
SUMMARY:June Hop - Rocking Roller Coasters
DESCRIPTION:
URL:https://cityofsails.org.nz/event/june-hop-rocking-roller-coasters/
LOCATION:Bucklands & Eastern Beach Memorial Hall\, 2 Wharf Road\, Auckland\, 2012\, New Zealand
CATEGORIES:City of Sails Event
END:VEVENT
BEGIN:VEVENT
DTSTART;TZID=Pacific/Auckland:20160621T191500
DTEND;TZID=Pacific/Auckland:20160621T211500
DTSTAMP:20260423T101515
CREATED:20160514T022621Z
LAST-MODIFIED:20160514T022621Z
UID:1429-1466536500-1466543700@cityofsails.org.nz
SUMMARY:Club Night - Wharf Road
DESCRIPTION:
URL:https://cityofsails.org.nz/event/club-night-wharf-road-21/
LOCATION:Bucklands & Eastern Beach Memorial Hall\, 2 Wharf Road\, Auckland\, 2012\, New Zealand
CATEGORIES:City of Sails Event
END:VEVENT
BEGIN:VEVENT
DTSTART;TZID=Pacific/Auckland:20160615T190000
DTEND;TZID=Pacific/Auckland:20160615T210000
DTSTAMP:20260423T101515
CREATED:20160514T021923Z
LAST-MODIFIED:20160607T005825Z
UID:1425-1466017200-1466024400@cityofsails.org.nz
SUMMARY:Club Night - Howick RSA
DESCRIPTION:
URL:https://cityofsails.org.nz/event/club-night-howick-rsa-9/
LOCATION:Howick RSA\, 25 Wellington Street\, Howick\, Auckland\, 2014\, New Zealand
CATEGORIES:City of Sails Event
END:VEVENT
BEGIN:VEVENT
DTSTART;TZID=Pacific/Auckland:20160612T190000
DTEND;TZID=Pacific/Auckland:20160612T200000
DTSTAMP:20260423T101515
CREATED:20160514T015216Z
LAST-MODIFIED:20160514T015216Z
UID:1415-1465758000-1465761600@cityofsails.org.nz
SUMMARY:Beginners Lessons - week 4 of 4
DESCRIPTION:
URL:https://cityofsails.org.nz/event/beginners-lessons-week-4-4-5-2/
LOCATION:Bucklands & Eastern Beach Memorial Hall\, 2 Wharf Road\, Auckland\, 2012\, New Zealand
CATEGORIES:City of Sails Event
END:VEVENT
BEGIN:VEVENT
DTSTART;TZID=Pacific/Auckland:20160612T173000
DTEND;TZID=Pacific/Auckland:20160612T183000
DTSTAMP:20260423T101515
CREATED:20160514T020112Z
LAST-MODIFIED:20160514T020112Z
UID:1420-1465752600-1465756200@cityofsails.org.nz
SUMMARY:Intermediate lessons week 4 of 4
DESCRIPTION:
URL:https://cityofsails.org.nz/event/intermediate-lessons-week-4-4-3-3/
LOCATION:Bucklands & Eastern Beach Memorial Hall\, 2 Wharf Road\, Auckland\, 2012\, New Zealand
CATEGORIES:City of Sails Event
END:VEVENT
BEGIN:VEVENT
DTSTART;TZID=Pacific/Auckland:20160607T191500
DTEND;TZID=Pacific/Auckland:20160607T211500
DTSTAMP:20260423T101515
CREATED:20160514T022104Z
LAST-MODIFIED:20160607T005926Z
UID:1426-1465326900-1465334100@cityofsails.org.nz
SUMMARY:Club Night - Wharf Road
DESCRIPTION:
URL:https://cityofsails.org.nz/event/club-night-wharf-road-19/
LOCATION:Bucklands & Eastern Beach Memorial Hall\, 2 Wharf Road\, Auckland\, 2012\, New Zealand
CATEGORIES:City of Sails Event
END:VEVENT
BEGIN:VEVENT
DTSTART;TZID=Pacific/Auckland:20160531T191500
DTEND;TZID=Pacific/Auckland:20160531T211500
DTSTAMP:20260423T101515
CREATED:20160514T021546Z
LAST-MODIFIED:20160514T021610Z
UID:1423-1464722100-1464729300@cityofsails.org.nz
SUMMARY:Club Night - Wharf Road
DESCRIPTION:
URL:https://cityofsails.org.nz/event/club-night-wharf-road-18/
LOCATION:Bucklands & Eastern Beach Memorial Hall\, 2 Wharf Road\, Auckland\, 2012\, New Zealand
CATEGORIES:City of Sails Event
END:VEVENT
BEGIN:VEVENT
DTSTART;TZID=Pacific/Auckland:20160529T190000
DTEND;TZID=Pacific/Auckland:20160529T200000
DTSTAMP:20260423T101515
CREATED:20160514T015012Z
LAST-MODIFIED:20160514T015012Z
UID:1414-1464548400-1464552000@cityofsails.org.nz
SUMMARY:Beginners Lessons week 3 of 4
DESCRIPTION:
URL:https://cityofsails.org.nz/event/beginners-lessons-week-3-4-3-2/
LOCATION:Bucklands & Eastern Beach Memorial Hall\, 2 Wharf Road\, Auckland\, 2012\, New Zealand
CATEGORIES:City of Sails Event
END:VEVENT
BEGIN:VEVENT
DTSTART;TZID=Pacific/Auckland:20160529T173000
DTEND;TZID=Pacific/Auckland:20160529T183000
DTSTAMP:20260423T101515
CREATED:20160514T015912Z
LAST-MODIFIED:20160514T015912Z
UID:1419-1464543000-1464546600@cityofsails.org.nz
SUMMARY:Intermediate Lessons week 3 of 4
DESCRIPTION:
URL:https://cityofsails.org.nz/event/intermediate-lessons-week-3-4-3-2/
LOCATION:Bucklands & Eastern Beach Memorial Hall\, 2 Wharf Road\, Auckland\, 2012\, New Zealand
CATEGORIES:City of Sails Event
END:VEVENT
BEGIN:VEVENT
DTSTART;TZID=Pacific/Auckland:20160528T183000
DTEND;TZID=Pacific/Auckland:20160528T233000
DTSTAMP:20260423T101515
CREATED:20160514T020813Z
LAST-MODIFIED:20160514T020813Z
UID:1421-1464460200-1464478200@cityofsails.org.nz
SUMMARY:Stars in Your Eyes - Edgewater College
DESCRIPTION:Doors open 6.30 \n$15.00 entry fee and pre-sales available
URL:https://cityofsails.org.nz/event/stars-eyes-edgewater-college/
LOCATION:Edgewater College School Hall\, 32 Edgewater Drive\, Pakuranga\, Auckland\, 2010\, New Zealand
CATEGORIES:City of Sails Event
END:VEVENT
BEGIN:VEVENT
DTSTART;TZID=Pacific/Auckland:20160524T191000
DTEND;TZID=Pacific/Auckland:20160524T211500
DTSTAMP:20260423T101515
CREATED:20160323T082920Z
LAST-MODIFIED:20160323T082920Z
UID:1368-1464117000-1464124500@cityofsails.org.nz
SUMMARY:Club Night - Wharf Road
DESCRIPTION:
URL:https://cityofsails.org.nz/event/club-night-wharf-road-17/
LOCATION:Bucklands & Eastern Beach Memorial Hall\, 2 Wharf Road\, Auckland\, 2012\, New Zealand
CATEGORIES:City of Sails Event
END:VEVENT
BEGIN:VEVENT
DTSTART;TZID=Pacific/Auckland:20160522T190000
DTEND;TZID=Pacific/Auckland:20160522T200000
DTSTAMP:20260423T101515
CREATED:20160514T014809Z
LAST-MODIFIED:20160514T020437Z
UID:1413-1463943600-1463947200@cityofsails.org.nz
SUMMARY:Beginners Lessons week 2 of 4
DESCRIPTION:
URL:https://cityofsails.org.nz/event/beginners-lessons-week-2-4-3-2/
LOCATION:Bucklands & Eastern Beach Memorial Hall\, 2 Wharf Road\, Auckland\, 2012\, New Zealand
CATEGORIES:City of Sails Event
END:VEVENT
BEGIN:VEVENT
DTSTART;TZID=Pacific/Auckland:20160522T173000
DTEND;TZID=Pacific/Auckland:20160522T183000
DTSTAMP:20260423T101515
CREATED:20160514T015610Z
LAST-MODIFIED:20160514T020525Z
UID:1417-1463938200-1463941800@cityofsails.org.nz
SUMMARY:Intermediate Lessons - week 2 of 4
DESCRIPTION:
URL:https://cityofsails.org.nz/event/intermediate-lessons-week-2-4-3-2/
LOCATION:Bucklands & Eastern Beach Memorial Hall\, 2 Wharf Road\, Auckland\, 2012\, New Zealand
CATEGORIES:City of Sails Event
END:VEVENT
BEGIN:VEVENT
DTSTART;TZID=Pacific/Auckland:20160517T191500
DTEND;TZID=Pacific/Auckland:20160517T211500
DTSTAMP:20260423T101515
CREATED:20160323T082736Z
LAST-MODIFIED:20160323T082736Z
UID:1367-1463512500-1463519700@cityofsails.org.nz
SUMMARY:Club Night - Wharf Road
DESCRIPTION:
URL:https://cityofsails.org.nz/event/club-night-wharf-road-16/
LOCATION:Bucklands & Eastern Beach Memorial Hall\, 2 Wharf Road\, Auckland\, 2012\, New Zealand
CATEGORIES:City of Sails Event
END:VEVENT
BEGIN:VEVENT
DTSTART;TZID=Pacific/Auckland:20160515T190000
DTEND;TZID=Pacific/Auckland:20160515T200000
DTSTAMP:20260423T101515
CREATED:20160514T014632Z
LAST-MODIFIED:20160514T014632Z
UID:1412-1463338800-1463342400@cityofsails.org.nz
SUMMARY:Beginners Lessons  - week 1 of 4
DESCRIPTION:
URL:https://cityofsails.org.nz/event/beginners-week-1-4/
LOCATION:Bucklands & Eastern Beach Memorial Hall\, 2 Wharf Road\, Auckland\, 2012\, New Zealand
CATEGORIES:City of Sails Event
END:VEVENT
BEGIN:VEVENT
DTSTART;TZID=Pacific/Auckland:20160515T173000
DTEND;TZID=Pacific/Auckland:20160515T183000
DTSTAMP:20260423T101515
CREATED:20160514T015404Z
LAST-MODIFIED:20160514T015434Z
UID:1416-1463333400-1463337000@cityofsails.org.nz
SUMMARY:Intermediate Lessons week 1 of 4
DESCRIPTION:
URL:https://cityofsails.org.nz/event/intermediate-lessons-week-1-4/
LOCATION:Bucklands & Eastern Beach Memorial Hall\, 2 Wharf Road\, Auckland\, 2012\, New Zealand
CATEGORIES:City of Sails Event
END:VEVENT
BEGIN:VEVENT
DTSTART;TZID=Pacific/Auckland:20160511T191500
DTEND;TZID=Pacific/Auckland:20160511T211500
DTSTAMP:20260423T101515
CREATED:20160323T082544Z
LAST-MODIFIED:20160323T082544Z
UID:1366-1462994100-1463001300@cityofsails.org.nz
SUMMARY:Club Night - Howick RSA
DESCRIPTION:
URL:https://cityofsails.org.nz/event/club-night-howick-rsa-8/
LOCATION:Howick RSA\, 25 Wellington Street\, Howick\, Auckland\, 2014\, New Zealand
CATEGORIES:City of Sails Event
END:VEVENT
BEGIN:VEVENT
DTSTART;TZID=Pacific/Auckland:20160508T190000
DTEND;TZID=Pacific/Auckland:20160508T190000
DTSTAMP:20260423T101515
CREATED:20160329T092352Z
LAST-MODIFIED:20160329T093106Z
UID:1376-1462734000-1462734000@cityofsails.org.nz
SUMMARY:Beginner Lessons - Week 4 of 4
DESCRIPTION:
URL:https://cityofsails.org.nz/event/beginner-lessons-week-4-4/
CATEGORIES:City of Sails Event
END:VEVENT
BEGIN:VEVENT
DTSTART;TZID=Pacific/Auckland:20160508T173000
DTEND;TZID=Pacific/Auckland:20160508T183000
DTSTAMP:20260423T101515
CREATED:20160329T092626Z
LAST-MODIFIED:20160329T093308Z
UID:1377-1462728600-1462732200@cityofsails.org.nz
SUMMARY:Intermediate Lessons - Week 4 of 4
DESCRIPTION:
URL:https://cityofsails.org.nz/event/intermediate-lessons-week-4-4-3-2/
CATEGORIES:City of Sails Event
END:VEVENT
END:VCALENDAR