BEGIN:VCALENDAR
VERSION:2.0
PRODID:-//City of Sails Rock &#039;n&#039; Roll Revival Club - ECPv6.15.20//NONSGML v1.0//EN
CALSCALE:GREGORIAN
METHOD:PUBLISH
X-WR-CALNAME:City of Sails Rock &#039;n&#039; Roll Revival Club
X-ORIGINAL-URL:https://cityofsails.org.nz
X-WR-CALDESC:Events for City of Sails Rock &#039;n&#039; Roll Revival Club
REFRESH-INTERVAL;VALUE=DURATION:PT1H
X-Robots-Tag:noindex
X-PUBLISHED-TTL:PT1H
BEGIN:VTIMEZONE
TZID:Pacific/Auckland
BEGIN:STANDARD
TZOFFSETFROM:+1300
TZOFFSETTO:+1200
TZNAME:NZST
DTSTART:20160402T140000
END:STANDARD
BEGIN:DAYLIGHT
TZOFFSETFROM:+1200
TZOFFSETTO:+1300
TZNAME:NZDT
DTSTART:20160924T140000
END:DAYLIGHT
BEGIN:STANDARD
TZOFFSETFROM:+1300
TZOFFSETTO:+1200
TZNAME:NZST
DTSTART:20170401T140000
END:STANDARD
BEGIN:DAYLIGHT
TZOFFSETFROM:+1200
TZOFFSETTO:+1300
TZNAME:NZDT
DTSTART:20170923T140000
END:DAYLIGHT
BEGIN:STANDARD
TZOFFSETFROM:+1300
TZOFFSETTO:+1200
TZNAME:NZST
DTSTART:20180331T140000
END:STANDARD
BEGIN:DAYLIGHT
TZOFFSETFROM:+1200
TZOFFSETTO:+1300
TZNAME:NZDT
DTSTART:20180929T140000
END:DAYLIGHT
BEGIN:STANDARD
TZOFFSETFROM:+1300
TZOFFSETTO:+1200
TZNAME:NZST
DTSTART:20190406T140000
END:STANDARD
BEGIN:DAYLIGHT
TZOFFSETFROM:+1200
TZOFFSETTO:+1300
TZNAME:NZDT
DTSTART:20190928T140000
END:DAYLIGHT
END:VTIMEZONE
BEGIN:VEVENT
DTSTART;TZID=Pacific/Auckland:20180428T190000
DTEND;TZID=Pacific/Auckland:20180428T233000
DTSTAMP:20260422T103910
CREATED:20180402T095740Z
LAST-MODIFIED:20180402T095740Z
UID:2760-1524942000-1524958200@cityofsails.org.nz
SUMMARY:April Dance - John Loveday Band
DESCRIPTION:Come along to see a great band in action \nEdgewater College =  Doors open 7.00pm \nBand 7.30 to 11.30pm \nMembers $12.50 – non members – $15.00 \n  \n  \n 
URL:https://cityofsails.org.nz/event/april-dance-john-loveday-band/
CATEGORIES:City of Sails Event,City of Sails Lessons
END:VEVENT
BEGIN:VEVENT
DTSTART;TZID=Pacific/Auckland:20180411T191500
DTEND;TZID=Pacific/Auckland:20180411T213000
DTSTAMP:20260422T103910
CREATED:20171203T055307Z
LAST-MODIFIED:20180402T092831Z
UID:2605-1523474100-1523482200@cityofsails.org.nz
SUMMARY:Howick RSA Club Night
DESCRIPTION:Come along for a fun night of rock n roll. Enjoy a meal and drink at the same time.  Restaurant open from 6pm and rock n roll starts around 7.15 pm \nThe Howick RSA requires guests to be signed in by a member. There are lots of members in the club and can sign you in. \nFree entry
URL:https://cityofsails.org.nz/event/howick-rsa-club-night-5/
CATEGORIES:City of Sails Event,City of Sails Lessons
END:VEVENT
BEGIN:VEVENT
DTSTART;TZID=Pacific/Auckland:20180403T190000
DTEND;TZID=Pacific/Auckland:20180403T193000
DTSTAMP:20260422T103910
CREATED:20180119T075044Z
LAST-MODIFIED:20180119T075044Z
UID:2649-1522782000-1522783800@cityofsails.org.nz
SUMMARY:Beginner Triples Lessons - week 4 of 4
DESCRIPTION:
URL:https://cityofsails.org.nz/event/beginner-triples-lessons-week-4-4/
CATEGORIES:City of Sails Event,City of Sails Lessons
END:VEVENT
BEGIN:VEVENT
DTSTART;TZID=Pacific/Auckland:20180331T090000
DTEND;TZID=Pacific/Auckland:20180401T220000
DTSTAMP:20260422T103910
CREATED:20180215T232321Z
LAST-MODIFIED:20180215T232321Z
UID:2665-1522486800-1522620000@cityofsails.org.nz
SUMMARY:Junior Nationals 2018 - host club City of Sails
DESCRIPTION:Keep Easter free if you want to see the top Juniors from around the country. \nStarts Friday night with a social night 7pm to 11pm \nCompetition run over Saturday and Sunday with two sessions per day \nVenue: Sommerville Intermediate – School Gymnasium \nPublic pricing details announced soon
URL:https://cityofsails.org.nz/event/junior-nationals-2018-host-club-city-sails/
CATEGORIES:City of Sails Event,City of Sails Lessons
END:VEVENT
BEGIN:VEVENT
DTSTART;TZID=Pacific/Auckland:20180327T190000
DTEND;TZID=Pacific/Auckland:20180327T193000
DTSTAMP:20260422T103910
CREATED:20180119T074752Z
LAST-MODIFIED:20180119T074752Z
UID:2647-1522177200-1522179000@cityofsails.org.nz
SUMMARY:Beginner Triples Lessons - week 3 of 4
DESCRIPTION:
URL:https://cityofsails.org.nz/event/beginner-triples-lessons-week-3-4/
CATEGORIES:City of Sails Event,City of Sails Lessons
END:VEVENT
BEGIN:VEVENT
DTSTART;TZID=Pacific/Auckland:20180325T190000
DTEND;TZID=Pacific/Auckland:20180325T200000
DTSTAMP:20260422T103910
CREATED:20180116T091051Z
LAST-MODIFIED:20180116T091051Z
UID:2636-1522004400-1522008000@cityofsails.org.nz
SUMMARY:Beginners Lessons week 2 of 2
DESCRIPTION:Venue: Bucklands Beach War Memorial Hall 1 Wharf Road\, Bucklands Beach
URL:https://cityofsails.org.nz/event/beginners-lessons-week-2-2/
CATEGORIES:City of Sails Event,City of Sails Lessons
END:VEVENT
BEGIN:VEVENT
DTSTART;TZID=Pacific/Auckland:20180320T190000
DTEND;TZID=Pacific/Auckland:20180320T193000
DTSTAMP:20260422T103910
CREATED:20180119T074339Z
LAST-MODIFIED:20180119T074339Z
UID:2645-1521572400-1521574200@cityofsails.org.nz
SUMMARY:Beginner Triples Lessons - week 2 of 4
DESCRIPTION:
URL:https://cityofsails.org.nz/event/beginner-triples-lessons-week-2-4/
CATEGORIES:City of Sails Event,City of Sails Lessons
END:VEVENT
BEGIN:VEVENT
DTSTART;TZID=Pacific/Auckland:20180318T190000
DTEND;TZID=Pacific/Auckland:20180318T200000
DTSTAMP:20260422T103910
CREATED:20180116T090636Z
LAST-MODIFIED:20180116T090727Z
UID:2633-1521399600-1521403200@cityofsails.org.nz
SUMMARY:Beginners Lesson Week 1 of 2
DESCRIPTION:A great way to learn to rock n roll. Just register on the first night so arrive early at 6.45 pm. \nFlat sole shoes are a requirement and partners not essential.  We have helpers who can assist. \nPay $5.00 per person per night or $10.00 to cover both weeks. Sorry no Eftpos so cash only. \nHopefully you have attended the free lesson on 11 March at 2pm.  This will help with your progress. \nVenue: Bucklands Beach War Memorial Hall – Wharf Road \n  \n  \n 
URL:https://cityofsails.org.nz/event/beginners-lesson-week-1-2/
CATEGORIES:City of Sails Event,City of Sails Lessons
END:VEVENT
BEGIN:VEVENT
DTSTART;TZID=Pacific/Auckland:20180318T140000
DTEND;TZID=Pacific/Auckland:20180318T163000
DTSTAMP:20260422T103910
CREATED:20180215T231447Z
LAST-MODIFIED:20180215T231447Z
UID:2663-1521381600-1521390600@cityofsails.org.nz
SUMMARY:Junior Nationals Dress Rehearsal
DESCRIPTION:Come along and see our Juniors strut their stuff. Doors open at 2pm and dancing will be starting not long after. \nHeld at our club night venue\, Bucklands Beach War Memorial Hall \, 1 Wharf Road \, Bucklands Beach \n  \n  \n  \n  \n  \n 
URL:https://cityofsails.org.nz/event/junior-nationals-dress-rehearsal/
CATEGORIES:City of Sails Event,City of Sails Lessons
END:VEVENT
BEGIN:VEVENT
DTSTART;TZID=Pacific/Auckland:20180313T190000
DTEND;TZID=Pacific/Auckland:20180313T193000
DTSTAMP:20260422T103910
CREATED:20180119T075855Z
LAST-MODIFIED:20180119T075855Z
UID:2651-1520967600-1520969400@cityofsails.org.nz
SUMMARY:Beginner Triples Lessons - week 1 of 4
DESCRIPTION:
URL:https://cityofsails.org.nz/event/beginner-triples-lessons-week-1-4/
CATEGORIES:City of Sails Event,City of Sails Lessons
END:VEVENT
BEGIN:VEVENT
DTSTART;TZID=Pacific/Auckland:20180311T140000
DTEND;TZID=Pacific/Auckland:20180311T160000
DTSTAMP:20260422T103910
CREATED:20180103T083124Z
LAST-MODIFIED:20180103T084829Z
UID:2628-1520776800-1520784000@cityofsails.org.nz
SUMMARY:Do You Wanna Dance - Free intro to Rock N Roll
DESCRIPTION:A free event to provide an introduction to rock n roll dancing.  Doors open at 2pm and one hour free lesson will start at 2.30pm. We have two of the best instructors in the country being Greg and Kaylie Vine. \nDuring the day we will have lots of members to provide a dance demonstration plus our club rock n roll gear will be available to view and purchase. \nA fun free afternoon for those wanting to have a go and our members to come along and help.  We cater for all ages. \nVenue: Bucklands Beach War Memorial Hall\, Bucklands Beach\, Auckland. \nNo pre-registration required\, just come nice and early and wear flat shoes \nAny queries\, contact Mark  ph 021 992 161 \n  \n  \n.
URL:https://cityofsails.org.nz/event/wanna-dance-free-intro-rock-n-roll/
CATEGORIES:City of Sails Event,City of Sails Lessons
END:VEVENT
BEGIN:VEVENT
DTSTART;TZID=Pacific/Auckland:20180306T190000
DTEND;TZID=Pacific/Auckland:20180306T193000
DTSTAMP:20260422T103910
CREATED:20171203T054946Z
LAST-MODIFIED:20171203T054946Z
UID:2603-1520362800-1520364600@cityofsails.org.nz
SUMMARY:Intermediate 2 - week 4 of 4
DESCRIPTION:
URL:https://cityofsails.org.nz/event/intermediate-2-week-4-4/
CATEGORIES:City of Sails Event,City of Sails Lessons
END:VEVENT
BEGIN:VEVENT
DTSTART;TZID=Pacific/Auckland:20180227T190000
DTEND;TZID=Pacific/Auckland:20180227T193000
DTSTAMP:20260422T103910
CREATED:20171203T054610Z
LAST-MODIFIED:20171203T054610Z
UID:2601-1519758000-1519759800@cityofsails.org.nz
SUMMARY:Intermediate 2 - week 3 of 4
DESCRIPTION:
URL:https://cityofsails.org.nz/event/intermediate-2-week-3-4/
CATEGORIES:City of Sails Event,City of Sails Lessons
END:VEVENT
BEGIN:VEVENT
DTSTART;TZID=Pacific/Auckland:20180220T190000
DTEND;TZID=Pacific/Auckland:20180220T193000
DTSTAMP:20260422T103910
CREATED:20171203T060721Z
LAST-MODIFIED:20171203T060721Z
UID:2611-1519153200-1519155000@cityofsails.org.nz
SUMMARY:Intermediate 2 Lessons -week 2 of 4
DESCRIPTION:  \n 
URL:https://cityofsails.org.nz/event/intermediate-2-lessons-week-2-4/
CATEGORIES:City of Sails Event,City of Sails Lessons
END:VEVENT
BEGIN:VEVENT
DTSTART;TZID=Pacific/Auckland:20180213T190000
DTEND;TZID=Pacific/Auckland:20180213T200000
DTSTAMP:20260422T103910
CREATED:20171203T053929Z
LAST-MODIFIED:20171203T053929Z
UID:2599-1518548400-1518552000@cityofsails.org.nz
SUMMARY:Intermediate 2 Lessons week 1 of 4
DESCRIPTION:
URL:https://cityofsails.org.nz/event/intermediate-2-lessons-week-1-4/
CATEGORIES:City of Sails Event,City of Sails Lessons
END:VEVENT
BEGIN:VEVENT
DTSTART;TZID=Pacific/Auckland:20171206T191500
DTEND;TZID=Pacific/Auckland:20171206T211500
DTSTAMP:20260422T103910
CREATED:20160711T204400Z
LAST-MODIFIED:20170615T093437Z
UID:2312-1512587700-1512594900@cityofsails.org.nz
SUMMARY:Club Night - Howick RSA - Christmas Break up
DESCRIPTION:City of Sails Club Night – Howick RSA\nFinal club night for 2017 is held at the Howick RSA\, 25 Wellington Street. It is a great social venue\, with Crumpy’s restaurant providing a great meal for anyone wishing to dine and dance. Meals from 6pm. \nWith a great dance floor and us providing the music to Rock ‘n’ Roll to\, it has all the makings of an enjoyable night. \nAs we are guests of the RSA\, there are a few rules we have to abide by. If you can please ensure the following: \n\nYou are signed in by an RSA Member\nReasonable standard of dress\nNo hats\, no open footwear\n\nSee you there!
URL:https://cityofsails.org.nz/event/club-night-howick-rsa-10-2017-08-09-2-4/
LOCATION:Howick RSA\, 25 Wellington Street\, Howick\, Auckland\, 2014\, New Zealand
CATEGORIES:City of Sails Event,City of Sails Lessons
ATTACH;FMTTYPE=image/jpeg:https://cityofsails.org.nz/wp-content/uploads/2016/07/City_of-Sails_RSA_Sign_A3-2.jpg
END:VEVENT
BEGIN:VEVENT
DTSTART;TZID=Pacific/Auckland:20171125T190000
DTEND;TZID=Pacific/Auckland:20171125T233000
DTSTAMP:20260422T103910
CREATED:20170615T091105Z
LAST-MODIFIED:20170911T103422Z
UID:2301-1511636400-1511652600@cityofsails.org.nz
SUMMARY:Christmas Dance -  Che Orton with Dan
DESCRIPTION:
URL:https://cityofsails.org.nz/event/christmas-dance-che-orton-dan/
LOCATION:Edgewater College School Hall\, 32 Edgewater Drive\, Pakuranga\, Auckland\, 2010\, New Zealand
CATEGORIES:City of Sails Event,City of Sails Lessons
END:VEVENT
BEGIN:VEVENT
DTSTART;TZID=Pacific/Auckland:20171125T150000
DTEND;TZID=Pacific/Auckland:20171125T190000
DTSTAMP:20260422T103910
CREATED:20170910T051107Z
LAST-MODIFIED:20170910T051107Z
UID:2522-1511622000-1511636400@cityofsails.org.nz
SUMMARY:Junior Club Champs - Edgewater College School Hall
DESCRIPTION:Get ready with dance shoes and routines remembered.  This is your chance to qualify for the 2018 Junior Club Champs and held in our city of sails during Easter 2018. \nOur annual Junior Club Champs (under 18 years old) will take place on 25 November \nIt will be held in the afternoon prior to our christmas dance\, so stay on for Che Orton from 7.30pm \nCompetition start times to be confirmed
URL:https://cityofsails.org.nz/event/junior-club-champs-edgewater-college-school-hall/
LOCATION:Edgewater College School Hall\, 32 Edgewater Drive\, Pakuranga\, Auckland\, 2010\, New Zealand
CATEGORIES:City of Sails Event,City of Sails Lessons
END:VEVENT
BEGIN:VEVENT
DTSTART;TZID=Pacific/Auckland:20171121T190000
DTEND;TZID=Pacific/Auckland:20171121T193000
DTSTAMP:20260422T103910
CREATED:20171016T092021Z
LAST-MODIFIED:20171016T092021Z
UID:2556-1511290800-1511292600@cityofsails.org.nz
SUMMARY:Style Workshop  - week 2 of 2
DESCRIPTION:
URL:https://cityofsails.org.nz/event/style-workshop-week-2-2/
LOCATION:Bucklands & Eastern Beach Memorial Hall\, 2 Wharf Road\, Auckland\, 2012\, New Zealand
CATEGORIES:City of Sails Event,City of Sails Lessons
END:VEVENT
BEGIN:VEVENT
DTSTART;TZID=Pacific/Auckland:20171114T190000
DTEND;TZID=Pacific/Auckland:20171114T193000
DTSTAMP:20260422T103910
CREATED:20171016T091614Z
LAST-MODIFIED:20171016T091614Z
UID:2554-1510686000-1510687800@cityofsails.org.nz
SUMMARY:Style Workshop -week 1 of 2
DESCRIPTION:We are holding a two night style workshop.  Teaching footwork and style by two experienced City Of Sails members\, Stephen Blase and Debra Ballard. \nTo participate you must be members of our club and have a partner.  Cost will be $5.00 per person per night and register on the first night. \nThis is something that cannot be missed and will be very popular. \nThank you \nMark \nCOS Committee
URL:https://cityofsails.org.nz/event/style-workshop-week-1-2/
LOCATION:Bucklands & Eastern Beach Memorial Hall\, 2 Wharf Road\, Auckland\, 2012\, New Zealand
CATEGORIES:City of Sails Event,City of Sails Lessons
END:VEVENT
BEGIN:VEVENT
DTSTART;TZID=Pacific/Auckland:20171111T103000
DTEND;TZID=Pacific/Auckland:20171111T150000
DTSTAMP:20260422T103910
CREATED:20170928T080332Z
LAST-MODIFIED:20170928T080332Z
UID:2540-1510396200-1510412400@cityofsails.org.nz
SUMMARY:Pakuranga Heights School - Field Day Demo
DESCRIPTION:We will be having a display at the Pakuranga Heights School Field Day \nAll welcome \nContact Linda Roberts for more details
URL:https://cityofsails.org.nz/event/pakuranga-heights-school-field-day-demo/
CATEGORIES:City of Sails Event,City of Sails Lessons
END:VEVENT
BEGIN:VEVENT
DTSTART;TZID=Pacific/Auckland:20171108T191500
DTEND;TZID=Pacific/Auckland:20171108T211500
DTSTAMP:20260422T103910
CREATED:20160711T204400Z
LAST-MODIFIED:20170615T092948Z
UID:2310-1510168500-1510175700@cityofsails.org.nz
SUMMARY:Club Night - Howick RSA
DESCRIPTION:City of Sails Club Night – Howick RSA\nEvery 2nd Wednesday of the month\, City of Sails Club Night is held at the Howick RSA\, 25 Wellington Street. It is a great social venue\, with Crumpy’s restaurant providing a great meal for anyone wishing to dine and dance. \nWith a great dance floor and us providing the music to Rock ‘n’ Roll to\, it has all the makings of an enjoyable night. \nAs we are guests of the RSA\, there are a few rules we have to abide by. If you can please ensure the following: \n\nYou are signed in by an RSA Member\nReasonable standard of dress\nNo hats\, no open footwear\n\nSee you there!
URL:https://cityofsails.org.nz/event/club-night-howick-rsa-10-2017-08-09-2-3/
LOCATION:Howick RSA\, 25 Wellington Street\, Howick\, Auckland\, 2014\, New Zealand
CATEGORIES:City of Sails Event,City of Sails Lessons
ATTACH;FMTTYPE=image/jpeg:https://cityofsails.org.nz/wp-content/uploads/2016/07/City_of-Sails_RSA_Sign_A3-2.jpg
END:VEVENT
BEGIN:VEVENT
DTSTART;TZID=Pacific/Auckland:20171029T130000
DTEND;TZID=Pacific/Auckland:20171029T140000
DTSTAMP:20260422T103910
CREATED:20171016T092510Z
LAST-MODIFIED:20171016T092510Z
UID:2558-1509282000-1509285600@cityofsails.org.nz
SUMMARY:Very Vintage Day Out
DESCRIPTION:City of sails demonstration from 1.20pm to 2pm\, \nTickets available from usual places
URL:https://cityofsails.org.nz/event/very-vintage-day-out/
LOCATION:Shed 10 Queens Wharf\, New Zealand
CATEGORIES:City of Sails Event,City of Sails Lessons
END:VEVENT
BEGIN:VEVENT
DTSTART;TZID=Pacific/Auckland:20171028T190000
DTEND;TZID=Pacific/Auckland:20171028T233000
DTSTAMP:20260422T103910
CREATED:20170721T092226Z
LAST-MODIFIED:20170721T092226Z
UID:2417-1509217200-1509233400@cityofsails.org.nz
SUMMARY:October Club Dance
DESCRIPTION:Details for our October Monthly Hop \nVenue: Edgewater College \nBand: Crowd Pleasers \nTime: Doors open 7pm \nDate: 28 October \n 
URL:https://cityofsails.org.nz/event/october-club-dance/
LOCATION:Edgewater College School Hall\, 32 Edgewater Drive\, Pakuranga\, Auckland\, 2010\, New Zealand
CATEGORIES:City of Sails Event,City of Sails Lessons
END:VEVENT
BEGIN:VEVENT
DTSTART;VALUE=DATE:20171020
DTEND;VALUE=DATE:20171023
DTSTAMP:20260422T103910
CREATED:20170727T081207Z
LAST-MODIFIED:20170727T081349Z
UID:2452-1508457600-1508716799@cityofsails.org.nz
SUMMARY:Senior Nationals Hutt Valley \, Wellington
DESCRIPTION:Senior Nationals hosted by Hutt Valley Rock n Roll Club \nLabour weekend \n 
URL:https://cityofsails.org.nz/event/senior-nationals-hutt-valley-wellington/
CATEGORIES:City of Sails Event,City of Sails Lessons
ATTACH;FMTTYPE=image/png:https://cityofsails.org.nz/wp-content/uploads/2014/10/Senior_Nationals_2017_Flyer_A5.png
END:VEVENT
BEGIN:VEVENT
DTSTART;TZID=Pacific/Auckland:20171013T180000
DTEND;TZID=Pacific/Auckland:20171013T210000
DTSTAMP:20260422T103910
CREATED:20170911T104715Z
LAST-MODIFIED:20170911T104715Z
UID:2524-1507917600-1507928400@cityofsails.org.nz
SUMMARY:Family Night - Fun for all ages
DESCRIPTION:
URL:https://cityofsails.org.nz/event/family-night-fun-ages/
LOCATION:Bucklands & Eastern Beach Memorial Hall\, 2 Wharf Road\, Auckland\, 2012\, New Zealand
CATEGORIES:City of Sails Event,City of Sails Lessons
END:VEVENT
BEGIN:VEVENT
DTSTART;TZID=Pacific/Auckland:20171011T191500
DTEND;TZID=Pacific/Auckland:20171011T211500
DTSTAMP:20260422T103910
CREATED:20160711T204400Z
LAST-MODIFIED:20170615T092402Z
UID:2306-1507749300-1507756500@cityofsails.org.nz
SUMMARY:Club Night - Howick RSA
DESCRIPTION:City of Sails Club Night – Howick RSA\nEvery 2nd Wednesday of the month\, City of Sails Club Night is held at the Howick RSA\, 25 Wellington Street. It is a great social venue\, with Crumpy’s restaurant providing a great meal for anyone wishing to dine and dance. \nWith a great dance floor and us providing the music to Rock ‘n’ Roll to\, it has all the makings of an enjoyable night. \nAs we are guests of the RSA\, there are a few rules we have to abide by. If you can please ensure the following: \n\nYou are signed in by an RSA Member\nReasonable standard of dress\nNo hats\, no open footwear\n\nSee you there!
URL:https://cityofsails.org.nz/event/club-night-howick-rsa-10-2017-08-09-2/
LOCATION:Howick RSA\, 25 Wellington Street\, Howick\, Auckland\, 2014\, New Zealand
CATEGORIES:City of Sails Event,City of Sails Lessons
ATTACH;FMTTYPE=image/jpeg:https://cityofsails.org.nz/wp-content/uploads/2016/07/City_of-Sails_RSA_Sign_A3-2.jpg
END:VEVENT
BEGIN:VEVENT
DTSTART;TZID=Pacific/Auckland:20171011T190000
DTEND;TZID=Pacific/Auckland:20171011T200000
DTSTAMP:20260422T103910
CREATED:20170719T081008Z
LAST-MODIFIED:20170831T082257Z
UID:2398-1507748400-1507752000@cityofsails.org.nz
SUMMARY:Senior Nationals Travel meeting/Dress Rehearsal
DESCRIPTION:Notice to those attending senior nationals\, tonight is the night to pay the balance owing and collect tickets. \nCatch up with Leeyan and she has all the details \nAs a bonus our competing national competitors will be performing routines and dressed in competition clothing. Come along and show your support. \n 
URL:https://cityofsails.org.nz/event/senior-nationals-travel-meeting-2/
LOCATION:Howick RSA\, 25 Wellington Street\, Howick\, Auckland\, 2014\, New Zealand
CATEGORIES:City of Sails Event,City of Sails Lessons
END:VEVENT
BEGIN:VEVENT
DTSTART;TZID=Pacific/Auckland:20171005T190000
DTEND;TZID=Pacific/Auckland:20171005T200000
DTSTAMP:20260422T103910
CREATED:20170928T075311Z
LAST-MODIFIED:20170928T075541Z
UID:2535-1507230000-1507233600@cityofsails.org.nz
SUMMARY:Yank Tank demo - Botany Town Centre
DESCRIPTION:Everybody welcome to dance at the Yank Tank display.  Located in the main street of Botany Town Centre \,  look for the blue and white dancers. \nCommencing from 7pm and finishing around 8pm \nWe  will have music playing\, \nSee you all there \nMark \n 
URL:https://cityofsails.org.nz/event/yank-tank-demo-botany-town-centre-2/
LOCATION:Botany Town Centre\, 588 Chapel Road\, East Tamaki\, Auckland\, 2016\, New Zealand
CATEGORIES:City of Sails Event,City of Sails Lessons
END:VEVENT
BEGIN:VEVENT
DTSTART;TZID=Pacific/Auckland:20170930T180000
DTEND;TZID=Pacific/Auckland:20170930T230000
DTSTAMP:20260422T103910
CREATED:20170615T090913Z
LAST-MODIFIED:20170615T090922Z
UID:2299-1506794400-1506812400@cityofsails.org.nz
SUMMARY:Allcomers Competition
DESCRIPTION:Annual competition open to all affiliated rock n roll club members \nEntry form will be released closer to event
URL:https://cityofsails.org.nz/event/allcomers-competition-2/
LOCATION:Edgewater College School Hall\, 32 Edgewater Drive\, Pakuranga\, Auckland\, 2010\, New Zealand
CATEGORIES:City of Sails Event,City of Sails Lessons
END:VEVENT
END:VCALENDAR