BEGIN:VCALENDAR
VERSION:2.0
PRODID:-//City of Sails Rock &#039;n&#039; Roll Revival Club - ECPv6.15.20//NONSGML v1.0//EN
CALSCALE:GREGORIAN
METHOD:PUBLISH
X-WR-CALNAME:City of Sails Rock &#039;n&#039; Roll Revival Club
X-ORIGINAL-URL:https://cityofsails.org.nz
X-WR-CALDESC:Events for City of Sails Rock &#039;n&#039; Roll Revival Club
REFRESH-INTERVAL;VALUE=DURATION:PT1H
X-Robots-Tag:noindex
X-PUBLISHED-TTL:PT1H
BEGIN:VTIMEZONE
TZID:Pacific/Auckland
BEGIN:STANDARD
TZOFFSETFROM:+1300
TZOFFSETTO:+1200
TZNAME:NZST
DTSTART:20170401T140000
END:STANDARD
BEGIN:DAYLIGHT
TZOFFSETFROM:+1200
TZOFFSETTO:+1300
TZNAME:NZDT
DTSTART:20170923T140000
END:DAYLIGHT
BEGIN:STANDARD
TZOFFSETFROM:+1300
TZOFFSETTO:+1200
TZNAME:NZST
DTSTART:20180331T140000
END:STANDARD
BEGIN:DAYLIGHT
TZOFFSETFROM:+1200
TZOFFSETTO:+1300
TZNAME:NZDT
DTSTART:20180929T140000
END:DAYLIGHT
BEGIN:STANDARD
TZOFFSETFROM:+1300
TZOFFSETTO:+1200
TZNAME:NZST
DTSTART:20190406T140000
END:STANDARD
BEGIN:DAYLIGHT
TZOFFSETFROM:+1200
TZOFFSETTO:+1300
TZNAME:NZDT
DTSTART:20190928T140000
END:DAYLIGHT
BEGIN:STANDARD
TZOFFSETFROM:+1300
TZOFFSETTO:+1200
TZNAME:NZST
DTSTART:20200404T140000
END:STANDARD
BEGIN:DAYLIGHT
TZOFFSETFROM:+1200
TZOFFSETTO:+1300
TZNAME:NZDT
DTSTART:20200926T140000
END:DAYLIGHT
BEGIN:STANDARD
TZOFFSETFROM:+1300
TZOFFSETTO:+1200
TZNAME:NZST
DTSTART:20210403T140000
END:STANDARD
BEGIN:DAYLIGHT
TZOFFSETFROM:+1200
TZOFFSETTO:+1300
TZNAME:NZDT
DTSTART:20210925T140000
END:DAYLIGHT
BEGIN:STANDARD
TZOFFSETFROM:+1300
TZOFFSETTO:+1200
TZNAME:NZST
DTSTART:20220402T140000
END:STANDARD
BEGIN:DAYLIGHT
TZOFFSETFROM:+1200
TZOFFSETTO:+1300
TZNAME:NZDT
DTSTART:20220924T140000
END:DAYLIGHT
END:VTIMEZONE
BEGIN:VEVENT
DTSTART;TZID=Pacific/Auckland:20210516T150000
DTEND;TZID=Pacific/Auckland:20210516T170000
DTSTAMP:20260422T000359
CREATED:20210411T080005Z
LAST-MODIFIED:20210411T080005Z
UID:3276-1621177200-1621184400@cityofsails.org.nz
SUMMARY:AGM 2021
DESCRIPTION:Sunday 4th April 2021 \nTo All Financial Members of the City of Sails Rock N Roll Revival Club Inc \nNOTICE OF ANNUAL GENERAL MEETING \nPlease be advised that the Annual General Meeting of the City of Sails Rock n Roll Club Inc. will be held on Sunday 16th May 2021\, from 3pm-5pm \n  \nThe meeting venue will be the at Trinity Scout Hall (Behind the Church)\, 474 Pakuranga Road\, Pakuranga \n  \nAll voting at the Annual General Meeting shall include proxy and posted votes from members; however\, a quorum is needed to convene the meeting\, so please attend. \nAny remits and nominations are to be in the hands of the Secretary by the 25th April 2021 at the latest. \nEither via email Secretary@www.cityofsails.org.nz or alternatively by post to PO Box 82 242\, Highland Park\, Auckland 2143 \nRegards \nLeeyan Stephens \nActing Secretary \nCity of Sails Rock n Roll Revival Club Inc
URL:https://cityofsails.org.nz/event/agm-2021/
LOCATION:Trinity Scout Hall\, 474 Pakuranga Highway\, Auckland
CATEGORIES:City of Sails Event
END:VEVENT
BEGIN:VEVENT
DTSTART;TZID=Pacific/Auckland:20210514T184500
DTEND;TZID=Pacific/Auckland:20210514T203000
DTSTAMP:20260422T000359
CREATED:20210504T021056Z
LAST-MODIFIED:20210504T021503Z
UID:3336-1621017900-1621024200@cityofsails.org.nz
SUMMARY:Family Night
DESCRIPTION:Security Error: PDF files must be hosted on the same domain as this site. PDF is hosted on: https://www.cityofsails.org.nz but this site is: https://cityofsails.org.nz \nCome Along for dancing and games \n$10 family max or    $5 per Adult    or       $2 per Child \n 
URL:https://cityofsails.org.nz/event/family-night-4/
LOCATION:Pakuranga Community Hall\, 346 Pakuranga Road\, Pakuranga\, New Zealand
CATEGORIES:City of Sails Event
END:VEVENT
BEGIN:VEVENT
DTSTART;TZID=Pacific/Auckland:20210513T190000
DTEND;TZID=Pacific/Auckland:20210513T210000
DTSTAMP:20260422T000359
CREATED:20210411T053318Z
LAST-MODIFIED:20210428T215525Z
UID:3331-1620932400-1620939600@cityofsails.org.nz
SUMMARY:Club Night at Howick RSA
DESCRIPTION:Bar & Kitchen Open at 5pm
URL:https://cityofsails.org.nz/event/club-night-8-2/
LOCATION:Howick RSA\, 25 Wellington Street\, Howick\, Auckland\, 2014\, New Zealand
CATEGORIES:City of Sails Event
END:VEVENT
BEGIN:VEVENT
DTSTART;TZID=Pacific/Auckland:20210511T190000
DTEND;TZID=Pacific/Auckland:20210511T193000
DTSTAMP:20260422T000359
CREATED:20210411T053645Z
LAST-MODIFIED:20210428T213130Z
UID:3298-1620759600-1620761400@cityofsails.org.nz
SUMMARY:Lessons
DESCRIPTION:Come and join us for Rock ‘n Roll Dance Lessons \n7pm to 7.30pm Tuesday Nights – $5 per person per session \n  \nLocation:      Fencible Lounge (Howick Library)\, 25 Uxbridge Rd\, Howick \n  \nBring your water bottles and don’t forget your dancing shoes (flats\, not heels) \nPayment by Cash only accepted at the door
URL:https://cityofsails.org.nz/event/lessons-2-2-2/
LOCATION:Fencible Lounge (Howick Library) UXBRIDGE\, 25 Uxbridge Road\, Howick\, Auckland\, 2014\, New Zealand
CATEGORIES:City of Sails Lessons
END:VEVENT
BEGIN:VEVENT
DTSTART;TZID=Pacific/Auckland:20210504T193000
DTEND;TZID=Pacific/Auckland:20210504T204500
DTSTAMP:20260422T000359
CREATED:20210411T053730Z
LAST-MODIFIED:20210428T214301Z
UID:3314-1620156600-1620161100@cityofsails.org.nz
SUMMARY:Club Night
DESCRIPTION:7.30pm to 8.45pm  – $2 per person \n  \nLocation:      Fencible Lounge (Howick Library)\, 25 Uxbridge Rd\, Howick \n  \nBring your water bottles and don’t forget your dancing shoes (flats\, not heels) \nPayment by Cash only accepted at the door
URL:https://cityofsails.org.nz/event/club-night-9-2/
LOCATION:Fencible Lounge (Howick Library) UXBRIDGE\, 25 Uxbridge Road\, Howick\, Auckland\, 2014\, New Zealand
CATEGORIES:City of Sails Event
END:VEVENT
BEGIN:VEVENT
DTSTART;TZID=Pacific/Auckland:20210504T190000
DTEND;TZID=Pacific/Auckland:20210504T193000
DTSTAMP:20260422T000359
CREATED:20210411T053645Z
LAST-MODIFIED:20210428T212520Z
UID:3288-1620154800-1620156600@cityofsails.org.nz
SUMMARY:Lessons
DESCRIPTION:Come and join us for Rock ‘n Roll Dance Lessons \n7pm to 7.30pm Tuesday Nights – $5 per person per session \nFollowed by Club Night 7.30pm to 8.45pm \n  \nLocation:      Fencible Lounge (Howick Library)\, 25 Uxbridge Rd\, Howick \n  \nBring your water bottles and don’t forget your dancing shoes (flats\, not heels) \nPayment by Cash only accepted at the door
URL:https://cityofsails.org.nz/event/lessons-2-2/
LOCATION:Fencible Lounge (Howick Library) UXBRIDGE\, 25 Uxbridge Road\, Howick\, Auckland\, 2014\, New Zealand
CATEGORIES:City of Sails Lessons
END:VEVENT
BEGIN:VEVENT
DTSTART;TZID=Pacific/Auckland:20210427T193000
DTEND;TZID=Pacific/Auckland:20210427T210000
DTSTAMP:20260422T000359
CREATED:20210411T053730Z
LAST-MODIFIED:20210411T053800Z
UID:3270-1619551800-1619557200@cityofsails.org.nz
SUMMARY:Club Night
DESCRIPTION:
URL:https://cityofsails.org.nz/event/club-night-9/
LOCATION:Fencible Lounge (Howick Library) UXBRIDGE\, 25 Uxbridge Road\, Howick\, Auckland\, 2014\, New Zealand
CATEGORIES:City of Sails Event
END:VEVENT
BEGIN:VEVENT
DTSTART;TZID=Pacific/Auckland:20210427T190000
DTEND;TZID=Pacific/Auckland:20210427T193000
DTSTAMP:20260422T000359
CREATED:20210411T053645Z
LAST-MODIFIED:20210411T053645Z
UID:3268-1619550000-1619551800@cityofsails.org.nz
SUMMARY:Lessons
DESCRIPTION:
URL:https://cityofsails.org.nz/event/lessons-2/
LOCATION:Fencible Lounge (Howick Library) UXBRIDGE\, 25 Uxbridge Road\, Howick\, Auckland\, 2014\, New Zealand
CATEGORIES:City of Sails Lessons
END:VEVENT
BEGIN:VEVENT
DTSTART;TZID=Pacific/Auckland:20210420T193000
DTEND;TZID=Pacific/Auckland:20210420T210000
DTSTAMP:20260422T000359
CREATED:20210411T053318Z
LAST-MODIFIED:20210411T053456Z
UID:3266-1618947000-1618952400@cityofsails.org.nz
SUMMARY:Club Night
DESCRIPTION:
URL:https://cityofsails.org.nz/event/club-night-8/
LOCATION:Fencible Lounge (Howick Library) UXBRIDGE\, 25 Uxbridge Road\, Howick\, Auckland\, 2014\, New Zealand
CATEGORIES:City of Sails Event
END:VEVENT
BEGIN:VEVENT
DTSTART;TZID=Pacific/Auckland:20210420T190000
DTEND;TZID=Pacific/Auckland:20210420T193000
DTSTAMP:20260422T000359
CREATED:20210411T053227Z
LAST-MODIFIED:20210411T053227Z
UID:3264-1618945200-1618947000@cityofsails.org.nz
SUMMARY:Lessons
DESCRIPTION:
URL:https://cityofsails.org.nz/event/lessons/
LOCATION:Fencible Lounge (Howick Library) UXBRIDGE\, 25 Uxbridge Road\, Howick\, Auckland\, 2014\, New Zealand
CATEGORIES:City of Sails Lessons
END:VEVENT
BEGIN:VEVENT
DTSTART;TZID=Pacific/Auckland:20210415T190000
DTEND;TZID=Pacific/Auckland:20210415T210000
DTSTAMP:20260422T000359
CREATED:20210411T080344Z
LAST-MODIFIED:20210411T080344Z
UID:3280-1618513200-1618520400@cityofsails.org.nz
SUMMARY:Club Night at the Howick RSA
DESCRIPTION:
URL:https://cityofsails.org.nz/event/club-night-at-the-howick-rsa-2/
LOCATION:Howick RSA\, 25 Wellington Street\, Howick\, Auckland\, 2014\, New Zealand
END:VEVENT
BEGIN:VEVENT
DTSTART;TZID=Pacific/Auckland:20210227T190000
DTEND;TZID=Pacific/Auckland:20210227T230000
DTSTAMP:20260422T000359
CREATED:20201207T064325Z
LAST-MODIFIED:20210112T023006Z
UID:3179-1614452400-1614466800@cityofsails.org.nz
SUMMARY:Birthday Hop with Shane & The Shazam Band
DESCRIPTION:
URL:https://cityofsails.org.nz/event/birthday-hop-with-shane-the-shazam-band/
LOCATION:Edgewater College School Hall\, 32 Edgewater Drive\, Pakuranga\, Auckland\, 2010\, New Zealand
CATEGORIES:City of Sails Event
END:VEVENT
BEGIN:VEVENT
DTSTART;TZID=Pacific/Auckland:20210218T190000
DTEND;TZID=Pacific/Auckland:20210218T220000
DTSTAMP:20260422T000359
CREATED:20201207T063924Z
LAST-MODIFIED:20210218T051817Z
UID:3214-1613674800-1613685600@cityofsails.org.nz
SUMMARY:POSTPONED: Quiz Night for Junior Fundraising @ Howick RSA
DESCRIPTION:Due to Covid-19 Level 2 lockdown in Auckland
URL:https://cityofsails.org.nz/event/social-club-night-howick-rsa-2-2-2/
LOCATION:Howick RSA\, 25 Wellington Street\, Howick\, Auckland\, 2014\, New Zealand
CATEGORIES:City of Sails Event
END:VEVENT
BEGIN:VEVENT
DTSTART;TZID=Pacific/Auckland:20210211T190000
DTEND;TZID=Pacific/Auckland:20210211T213000
DTSTAMP:20260422T000359
CREATED:20201207T063924Z
LAST-MODIFIED:20210112T025559Z
UID:3212-1613070000-1613079000@cityofsails.org.nz
SUMMARY:Social Club Night @ Howick RSA
DESCRIPTION:
URL:https://cityofsails.org.nz/event/social-club-night-howick-rsa-2-2/
LOCATION:Howick RSA\, 25 Wellington Street\, Howick\, Auckland\, 2014\, New Zealand
CATEGORIES:City of Sails Event
END:VEVENT
BEGIN:VEVENT
DTSTART;TZID=Pacific/Auckland:20201217T190000
DTEND;TZID=Pacific/Auckland:20201217T213000
DTSTAMP:20260422T000359
CREATED:20201207T063924Z
LAST-MODIFIED:20201207T063924Z
UID:3175-1608231600-1608240600@cityofsails.org.nz
SUMMARY:Social Club Night @ Howick RSA
DESCRIPTION:
URL:https://cityofsails.org.nz/event/social-club-night-howick-rsa-2/
LOCATION:Howick RSA\, 25 Wellington Street\, Howick\, Auckland\, 2014\, New Zealand
END:VEVENT
BEGIN:VEVENT
DTSTART;TZID=Pacific/Auckland:20201210T190000
DTEND;TZID=Pacific/Auckland:20201210T213000
DTSTAMP:20260422T000359
CREATED:20201207T063532Z
LAST-MODIFIED:20201207T063827Z
UID:3173-1607626800-1607635800@cityofsails.org.nz
SUMMARY:Social Club Night @ Howick RSA
DESCRIPTION:
URL:https://cityofsails.org.nz/event/social-club-night-howick-rsa/
LOCATION:Howick RSA\, 25 Wellington Street\, Howick\, Auckland\, 2014\, New Zealand
END:VEVENT
BEGIN:VEVENT
DTSTART;TZID=Pacific/Auckland:20190319T190000
DTEND;TZID=Pacific/Auckland:20190319T193000
DTSTAMP:20260422T000359
CREATED:20181129T085555Z
LAST-MODIFIED:20181129T085555Z
UID:3159-1553022000-1553023800@cityofsails.org.nz
SUMMARY:Beginner Lessons - Week 5 of 5
DESCRIPTION:
URL:https://cityofsails.org.nz/event/beginner-lessons-week-5-of-5/
CATEGORIES:City of Sails Event,City of Sails Lessons
END:VEVENT
BEGIN:VEVENT
DTSTART;TZID=Pacific/Auckland:20190312T190000
DTEND;TZID=Pacific/Auckland:20190312T200000
DTSTAMP:20260422T000359
CREATED:20181129T085112Z
LAST-MODIFIED:20181129T085112Z
UID:3157-1552417200-1552420800@cityofsails.org.nz
SUMMARY:Beginner Lessons - week 4 of 5
DESCRIPTION:
URL:https://cityofsails.org.nz/event/beginner-lessons-week-4-of-5/
CATEGORIES:City of Sails Event,City of Sails Lessons
END:VEVENT
BEGIN:VEVENT
DTSTART;TZID=Pacific/Auckland:20190305T190000
DTEND;TZID=Pacific/Auckland:20190305T193000
DTSTAMP:20260422T000359
CREATED:20181129T084801Z
LAST-MODIFIED:20181129T084801Z
UID:3155-1551812400-1551814200@cityofsails.org.nz
SUMMARY:Beginner Lessons - week 3 of 5
DESCRIPTION:
URL:https://cityofsails.org.nz/event/beginner-lessons-week-3-of-5/
CATEGORIES:City of Sails Event,City of Sails Lessons
END:VEVENT
BEGIN:VEVENT
DTSTART;TZID=Pacific/Auckland:20190226T190000
DTEND;TZID=Pacific/Auckland:20190226T193000
DTSTAMP:20260422T000359
CREATED:20181129T084452Z
LAST-MODIFIED:20181129T084452Z
UID:3153-1551207600-1551209400@cityofsails.org.nz
SUMMARY:Beginner Lessons - week 2 of 5
DESCRIPTION:
URL:https://cityofsails.org.nz/event/beginner-lessons-week-2-of-5/
CATEGORIES:City of Sails Event,City of Sails Lessons
END:VEVENT
BEGIN:VEVENT
DTSTART;TZID=Pacific/Auckland:20190219T190000
DTEND;TZID=Pacific/Auckland:20190219T193000
DTSTAMP:20260422T000359
CREATED:20181129T083029Z
LAST-MODIFIED:20181129T083029Z
UID:3151-1550602800-1550604600@cityofsails.org.nz
SUMMARY:Beginner Lessons - week 1 of 5
DESCRIPTION:
URL:https://cityofsails.org.nz/event/beginner-lessons-week-1-of-5/
CATEGORIES:City of Sails Event,City of Sails Lessons
END:VEVENT
BEGIN:VEVENT
DTSTART;TZID=Pacific/Auckland:20190205T191500
DTEND;TZID=Pacific/Auckland:20190205T211500
DTSTAMP:20260422T000359
CREATED:20181107T081432Z
LAST-MODIFIED:20181107T081432Z
UID:3036-1549394100-1549401300@cityofsails.org.nz
SUMMARY:Club Nights return for 2019
DESCRIPTION:
URL:https://cityofsails.org.nz/event/club-nights-return-for-2019/
CATEGORIES:City of Sails Event,City of Sails Lessons
END:VEVENT
BEGIN:VEVENT
DTSTART;TZID=Pacific/Auckland:20181212T183000
DTEND;TZID=Pacific/Auckland:20181212T210000
DTSTAMP:20260422T000359
CREATED:20180904T101009Z
LAST-MODIFIED:20180904T101101Z
UID:2978-1544639400-1544648400@cityofsails.org.nz
SUMMARY:Howick RSA - Final Club Night - Christmas Theme
DESCRIPTION:Sorry\, no Santa.
URL:https://cityofsails.org.nz/event/howick-rsa-final-club-night-christmas-theme/
CATEGORIES:City of Sails Event,City of Sails Lessons
END:VEVENT
BEGIN:VEVENT
DTSTART;TZID=Pacific/Auckland:20181209T130000
DTEND;TZID=Pacific/Auckland:20181209T143000
DTSTAMP:20260422T000359
CREATED:20180911T094906Z
LAST-MODIFIED:20180911T100057Z
UID:2991-1544360400-1544365800@cityofsails.org.nz
SUMMARY:Santa Parade - Howick
DESCRIPTION:
URL:https://cityofsails.org.nz/event/santa-parade-howick/
CATEGORIES:City of Sails Event,City of Sails Lessons
END:VEVENT
BEGIN:VEVENT
DTSTART;TZID=Pacific/Auckland:20181208T140000
DTEND;TZID=Pacific/Auckland:20181208T200000
DTSTAMP:20260422T000359
CREATED:20180904T095633Z
LAST-MODIFIED:20180904T095633Z
UID:2974-1544277600-1544299200@cityofsails.org.nz
SUMMARY:Junior Club Champs
DESCRIPTION:Come along and participate or watch the best of our younger members. \nVenue will be at Bucklands Beach Memorial Hall – 1  Wharf Road \nDoors open at 2pm \nCompetitors meeting at 2.30pm \nCompetition to start as soon as possible after meeting \n 
URL:https://cityofsails.org.nz/event/junior-club-champs-2/
CATEGORIES:City of Sails Event,City of Sails Lessons
END:VEVENT
BEGIN:VEVENT
DTSTART;TZID=Pacific/Auckland:20181204T190000
DTEND;TZID=Pacific/Auckland:20181204T210000
DTSTAMP:20260422T000359
CREATED:20180904T100545Z
LAST-MODIFIED:20180904T100545Z
UID:2976-1543950000-1543957200@cityofsails.org.nz
SUMMARY:Club Night - Wharf Road
DESCRIPTION:Last night at Wharf Road for 2018
URL:https://cityofsails.org.nz/event/club-night-wharf-road-23/
CATEGORIES:City of Sails Event,City of Sails Lessons
END:VEVENT
BEGIN:VEVENT
DTSTART;TZID=Pacific/Auckland:20181115T183000
DTEND;TZID=Pacific/Auckland:20181115T213000
DTSTAMP:20260422T000359
CREATED:20181014T073927Z
LAST-MODIFIED:20181014T073927Z
UID:3017-1542306600-1542317400@cityofsails.org.nz
SUMMARY:Quizz Night Juniors Fundraiser
DESCRIPTION:Held at Howick RSA from 7pm. See advertisement for more details$10.00 per entry \n 
URL:https://cityofsails.org.nz/event/quizz-night-juniors-fundraiser/
CATEGORIES:City of Sails Event,City of Sails Lessons
END:VEVENT
BEGIN:VEVENT
DTSTART;TZID=Pacific/Auckland:20181114T190000
DTEND;TZID=Pacific/Auckland:20181114T211500
DTSTAMP:20260422T000359
CREATED:20171203T055925Z
LAST-MODIFIED:20180726T103435Z
UID:2753-1542222000-1542230100@cityofsails.org.nz
SUMMARY:Howick RSA - Club Night
DESCRIPTION:
URL:https://cityofsails.org.nz/event/wharf-road-club-night-2018-11-13/
CATEGORIES:City of Sails Event,City of Sails Lessons
END:VEVENT
BEGIN:VEVENT
DTSTART;TZID=Pacific/Auckland:20181030T190000
DTEND;TZID=Pacific/Auckland:20181030T193000
DTSTAMP:20260422T000359
CREATED:20180726T101628Z
LAST-MODIFIED:20180726T101628Z
UID:2940-1540926000-1540927800@cityofsails.org.nz
SUMMARY:Beginners lessons - week 6 of 6
DESCRIPTION:
URL:https://cityofsails.org.nz/event/beginners-lessons-week-6-of-6/
CATEGORIES:City of Sails Event,City of Sails Lessons
END:VEVENT
BEGIN:VEVENT
DTSTART;TZID=Pacific/Auckland:20181023T190000
DTEND;TZID=Pacific/Auckland:20181023T193000
DTSTAMP:20260422T000359
CREATED:20180726T101406Z
LAST-MODIFIED:20180726T101406Z
UID:2938-1540321200-1540323000@cityofsails.org.nz
SUMMARY:Beginners Lessons - week 5 of 6
DESCRIPTION:
URL:https://cityofsails.org.nz/event/beginners-lessons-week-5-of-6/
CATEGORIES:City of Sails Event,City of Sails Lessons
END:VEVENT
END:VCALENDAR