BEGIN:VCALENDAR
VERSION:2.0
PRODID:-//City of Sails Rock &#039;n&#039; Roll Revival Club - ECPv6.15.20//NONSGML v1.0//EN
CALSCALE:GREGORIAN
METHOD:PUBLISH
X-WR-CALNAME:City of Sails Rock &#039;n&#039; Roll Revival Club
X-ORIGINAL-URL:https://cityofsails.org.nz
X-WR-CALDESC:Events for City of Sails Rock &#039;n&#039; Roll Revival Club
REFRESH-INTERVAL;VALUE=DURATION:PT1H
X-Robots-Tag:noindex
X-PUBLISHED-TTL:PT1H
BEGIN:VTIMEZONE
TZID:Pacific/Auckland
BEGIN:STANDARD
TZOFFSETFROM:+1300
TZOFFSETTO:+1200
TZNAME:NZST
DTSTART:20200404T140000
END:STANDARD
BEGIN:DAYLIGHT
TZOFFSETFROM:+1200
TZOFFSETTO:+1300
TZNAME:NZDT
DTSTART:20200926T140000
END:DAYLIGHT
BEGIN:STANDARD
TZOFFSETFROM:+1300
TZOFFSETTO:+1200
TZNAME:NZST
DTSTART:20210403T140000
END:STANDARD
BEGIN:DAYLIGHT
TZOFFSETFROM:+1200
TZOFFSETTO:+1300
TZNAME:NZDT
DTSTART:20210925T140000
END:DAYLIGHT
BEGIN:STANDARD
TZOFFSETFROM:+1300
TZOFFSETTO:+1200
TZNAME:NZST
DTSTART:20220402T140000
END:STANDARD
BEGIN:DAYLIGHT
TZOFFSETFROM:+1200
TZOFFSETTO:+1300
TZNAME:NZDT
DTSTART:20220924T140000
END:DAYLIGHT
END:VTIMEZONE
BEGIN:VEVENT
DTSTART;TZID=Pacific/Auckland:20210709T183000
DTEND;TZID=Pacific/Auckland:20210709T203000
DTSTAMP:20260422T001707
CREATED:20210504T021056Z
LAST-MODIFIED:20210623T045358Z
UID:3479-1625855400-1625862600@cityofsails.org.nz
SUMMARY:Family Night at Fencible Lounge
DESCRIPTION:Come Along for dancing and games \n$10 family max or    $5 per Adult    or       $2 per Child \nJulyFamilyNightFlyer \n 
URL:https://cityofsails.org.nz/event/family-night-4-2-2/
LOCATION:Fencible Lounge (Howick Library) UXBRIDGE\, 25 Uxbridge Road\, Howick\, Auckland\, 2014\, New Zealand
CATEGORIES:City of Sails Event
END:VEVENT
BEGIN:VEVENT
DTSTART;TZID=Pacific/Auckland:20210706T193000
DTEND;TZID=Pacific/Auckland:20210706T204500
DTSTAMP:20260422T001707
CREATED:20210411T053730Z
LAST-MODIFIED:20210623T044949Z
UID:3473-1625599800-1625604300@cityofsails.org.nz
SUMMARY:Club Night
DESCRIPTION:7.30pm to 8.45pm  – $2 per person \n  \nLocation:      Fencible Lounge (Howick Library)\, 25 Uxbridge Rd\, Howick \n  \nBring your water bottles and don’t forget your dancing shoes (flats\, not heels) \nPayment by Cash only accepted at the door
URL:https://cityofsails.org.nz/event/club-night-9-2-2-2-2-2-2-2-2/
LOCATION:Fencible Lounge (Howick Library) UXBRIDGE\, 25 Uxbridge Road\, Howick\, Auckland\, 2014\, New Zealand
CATEGORIES:City of Sails Event
END:VEVENT
BEGIN:VEVENT
DTSTART;TZID=Pacific/Auckland:20210706T190000
DTEND;TZID=Pacific/Auckland:20210706T193000
DTSTAMP:20260422T001707
CREATED:20210411T053645Z
LAST-MODIFIED:20210623T044750Z
UID:3467-1625598000-1625599800@cityofsails.org.nz
SUMMARY:Lessons
DESCRIPTION:Come and join us for Rock ‘n Roll Dance Lessons \n7pm to 7.30pm Tuesday Nights – $5 per person per session \nFollowed by Club Night 7.30pm to 8.45pm \n  \nLocation:      Fencible Lounge (Howick Library)\, 25 Uxbridge Rd\, Howick \n  \nBring your water bottles and don’t forget your dancing shoes (flats\, not heels) \nPayment by Cash only accepted at the door
URL:https://cityofsails.org.nz/event/lessons-2-2-3-2-2-2-2-2-2-2/
LOCATION:Fencible Lounge (Howick Library) UXBRIDGE\, 25 Uxbridge Road\, Howick\, Auckland\, 2014\, New Zealand
CATEGORIES:City of Sails Lessons
END:VEVENT
BEGIN:VEVENT
DTSTART;TZID=Pacific/Auckland:20210629T193000
DTEND;TZID=Pacific/Auckland:20210629T204500
DTSTAMP:20260422T001707
CREATED:20210411T053730Z
LAST-MODIFIED:20210428T214856Z
UID:3327-1624995000-1624999500@cityofsails.org.nz
SUMMARY:Club Night
DESCRIPTION:7.30pm to 8.45pm  – $2 per person \n  \nLocation:      Fencible Lounge (Howick Library)\, 25 Uxbridge Rd\, Howick \n  \nBring your water bottles and don’t forget your dancing shoes (flats\, not heels) \nPayment by Cash only accepted at the door
URL:https://cityofsails.org.nz/event/club-night-9-2-2-2-2-2-2-2/
LOCATION:Fencible Lounge (Howick Library) UXBRIDGE\, 25 Uxbridge Road\, Howick\, Auckland\, 2014\, New Zealand
CATEGORIES:City of Sails Event
END:VEVENT
BEGIN:VEVENT
DTSTART;TZID=Pacific/Auckland:20210629T190000
DTEND;TZID=Pacific/Auckland:20210629T193000
DTSTAMP:20260422T001707
CREATED:20210411T053645Z
LAST-MODIFIED:20210428T213808Z
UID:3312-1624993200-1624995000@cityofsails.org.nz
SUMMARY:Lessons
DESCRIPTION:Come and join us for Rock ‘n Roll Dance Lessons \n7pm to 7.30pm Tuesday Nights – $5 per person per session \nFollowed by Club Night 7.30pm to 8.45pm \n  \nLocation:      Fencible Lounge (Howick Library)\, 25 Uxbridge Rd\, Howick \n  \nBring your water bottles and don’t forget your dancing shoes (flats\, not heels) \nPayment by Cash only accepted at the door
URL:https://cityofsails.org.nz/event/lessons-2-2-3-2-2-2-2-2-2/
LOCATION:Fencible Lounge (Howick Library) UXBRIDGE\, 25 Uxbridge Road\, Howick\, Auckland\, 2014\, New Zealand
CATEGORIES:City of Sails Lessons
END:VEVENT
BEGIN:VEVENT
DTSTART;TZID=Pacific/Auckland:20210626T190000
DTEND;TZID=Pacific/Auckland:20210626T230000
DTSTAMP:20260422T001707
CREATED:20210428T211222Z
LAST-MODIFIED:20210531T043500Z
UID:3390-1624734000-1624748400@cityofsails.org.nz
SUMMARY:June Dance
DESCRIPTION:Band – North Harbour Rockers \nDoor Charge: Members $12.50 each (This applies to Current Members of any Rock n Roll Club – you must show your current card at the door)\, Non Members $15 each\, Juniors $7.50 each\n\nCASH ONLY AT THE DOOR
URL:https://cityofsails.org.nz/event/may-hop-2/
LOCATION:Edgewater College School Hall\, 32 Edgewater Drive\, Pakuranga\, Auckland\, 2010\, New Zealand
CATEGORIES:City of Sails Event
END:VEVENT
BEGIN:VEVENT
DTSTART;TZID=Pacific/Auckland:20210622T193000
DTEND;TZID=Pacific/Auckland:20210622T204500
DTSTAMP:20260422T001707
CREATED:20210411T053730Z
LAST-MODIFIED:20210428T214946Z
UID:3329-1624390200-1624394700@cityofsails.org.nz
SUMMARY:Club Night
DESCRIPTION:7.30pm to 8.45pm  – $2 per person \n  \nLocation:      Fencible Lounge (Howick Library)\, 25 Uxbridge Rd\, Howick \n  \nBring your water bottles and don’t forget your dancing shoes (flats\, not heels) \nPayment by Cash only accepted at the door
URL:https://cityofsails.org.nz/event/club-night-9-2-2-2-2-2-2-3/
LOCATION:Fencible Lounge (Howick Library) UXBRIDGE\, 25 Uxbridge Road\, Howick\, Auckland\, 2014\, New Zealand
CATEGORIES:City of Sails Event
END:VEVENT
BEGIN:VEVENT
DTSTART;TZID=Pacific/Auckland:20210622T190000
DTEND;TZID=Pacific/Auckland:20210622T193000
DTSTAMP:20260422T001707
CREATED:20210411T053645Z
LAST-MODIFIED:20210428T213719Z
UID:3310-1624388400-1624390200@cityofsails.org.nz
SUMMARY:Lessons
DESCRIPTION:Come and join us for Rock ‘n Roll Dance Lessons \n7pm to 7.30pm Tuesday Nights – $5 per person per session \nFollowed by Club Night 7.30pm to 8.45pm \n  \nLocation:      Fencible Lounge (Howick Library)\, 25 Uxbridge Rd\, Howick \n  \nBring your water bottles and don’t forget your dancing shoes (flats\, not heels) \nPayment by Cash only accepted at the door
URL:https://cityofsails.org.nz/event/lessons-2-2-3-2-2-2-2-2/
LOCATION:Fencible Lounge (Howick Library) UXBRIDGE\, 25 Uxbridge Road\, Howick\, Auckland\, 2014\, New Zealand
CATEGORIES:City of Sails Lessons
END:VEVENT
BEGIN:VEVENT
DTSTART;TZID=Pacific/Auckland:20210615T193000
DTEND;TZID=Pacific/Auckland:20210615T204500
DTSTAMP:20260422T001707
CREATED:20210411T053730Z
LAST-MODIFIED:20210428T214755Z
UID:3325-1623785400-1623789900@cityofsails.org.nz
SUMMARY:Club Night
DESCRIPTION:7.30pm to 8.45pm  – $2 per person \n  \nLocation:      Fencible Lounge (Howick Library)\, 25 Uxbridge Rd\, Howick \n  \nBring your water bottles and don’t forget your dancing shoes (flats\, not heels) \nPayment by Cash only accepted at the door
URL:https://cityofsails.org.nz/event/club-night-9-2-2-2-2-2-2/
LOCATION:Fencible Lounge (Howick Library) UXBRIDGE\, 25 Uxbridge Road\, Howick\, Auckland\, 2014\, New Zealand
CATEGORIES:City of Sails Event
END:VEVENT
BEGIN:VEVENT
DTSTART;TZID=Pacific/Auckland:20210615T190000
DTEND;TZID=Pacific/Auckland:20210615T193000
DTSTAMP:20260422T001707
CREATED:20210411T053645Z
LAST-MODIFIED:20210428T213606Z
UID:3308-1623783600-1623785400@cityofsails.org.nz
SUMMARY:Lessons
DESCRIPTION:Come and join us for Rock ‘n Roll Dance Lessons \n7pm to 7.30pm Tuesday Nights – $5 per person per session \nFollowed by Club Night 7.30pm to 8.45pm \n  \nLocation:      Fencible Lounge (Howick Library)\, 25 Uxbridge Rd\, Howick \n  \nBring your water bottles and don’t forget your dancing shoes (flats\, not heels) \nPayment by Cash only accepted at the door
URL:https://cityofsails.org.nz/event/lessons-2-2-3-2-2-2-2/
LOCATION:Fencible Lounge (Howick Library) UXBRIDGE\, 25 Uxbridge Road\, Howick\, Auckland\, 2014\, New Zealand
CATEGORIES:City of Sails Lessons
END:VEVENT
BEGIN:VEVENT
DTSTART;TZID=Pacific/Auckland:20210611T183000
DTEND;TZID=Pacific/Auckland:20210611T203000
DTSTAMP:20260422T001707
CREATED:20210504T021056Z
LAST-MODIFIED:20210526T003956Z
UID:3388-1623436200-1623443400@cityofsails.org.nz
SUMMARY:Family Night at Fencible Lounge
DESCRIPTION:Come Along for dancing and games \n$10 family max or    $5 per Adult    or       $2 per Child \nFamilyNightFlyer \n 
URL:https://cityofsails.org.nz/event/family-night-4-2/
LOCATION:Fencible Lounge (Howick Library) UXBRIDGE\, 25 Uxbridge Road\, Howick\, Auckland\, 2014\, New Zealand
CATEGORIES:City of Sails Event
END:VEVENT
BEGIN:VEVENT
DTSTART;TZID=Pacific/Auckland:20210608T193000
DTEND;TZID=Pacific/Auckland:20210608T204500
DTSTAMP:20260422T001707
CREATED:20210411T053730Z
LAST-MODIFIED:20210524T212855Z
UID:3384-1623180600-1623185100@cityofsails.org.nz
SUMMARY:Club Night
DESCRIPTION:7.30pm to 8.45pm  – $2 per person \nLocation:      Fencible Lounge (Howick Library)\, 25 Uxbridge Rd\, Howick \nBring your water bottles and don’t forget your dancing shoes (flats\, not heels) \nPayment by Cash only accepted at the door
URL:https://cityofsails.org.nz/event/club-night-9-2-2-2-2-2-2-4/
LOCATION:Fencible Lounge (Howick Library) UXBRIDGE\, 25 Uxbridge Road\, Howick\, Auckland\, 2014\, New Zealand
CATEGORIES:City of Sails Event
END:VEVENT
BEGIN:VEVENT
DTSTART;TZID=Pacific/Auckland:20210608T190000
DTEND;TZID=Pacific/Auckland:20210608T193000
DTSTAMP:20260422T001707
CREATED:20210411T053645Z
LAST-MODIFIED:20210428T213520Z
UID:3306-1623178800-1623180600@cityofsails.org.nz
SUMMARY:Lessons
DESCRIPTION:Come and join us for Rock ‘n Roll Dance Lessons \n7pm to 7.30pm Tuesday Nights – $5 per person per session \nFollowed by Club Night 7.30pm to 8.45pm \n  \nLocation:      Fencible Lounge (Howick Library)\, 25 Uxbridge Rd\, Howick \n  \nBring your water bottles and don’t forget your dancing shoes (flats\, not heels) \nPayment by Cash only accepted at the door
URL:https://cityofsails.org.nz/event/lessons-2-2-3-2-2-2/
LOCATION:Fencible Lounge (Howick Library) UXBRIDGE\, 25 Uxbridge Road\, Howick\, Auckland\, 2014\, New Zealand
CATEGORIES:City of Sails Lessons
END:VEVENT
BEGIN:VEVENT
DTSTART;TZID=Pacific/Auckland:20210601T193000
DTEND;TZID=Pacific/Auckland:20210601T204500
DTSTAMP:20260422T001707
CREATED:20210411T053730Z
LAST-MODIFIED:20210428T214558Z
UID:3320-1622575800-1622580300@cityofsails.org.nz
SUMMARY:Club Night
DESCRIPTION:7.30pm to 8.45pm  – $2 per person \n  \nLocation:      Fencible Lounge (Howick Library)\, 25 Uxbridge Rd\, Howick \n  \nBring your water bottles and don’t forget your dancing shoes (flats\, not heels) \nPayment by Cash only accepted at the door
URL:https://cityofsails.org.nz/event/club-night-9-2-2-2-2/
LOCATION:Fencible Lounge (Howick Library) UXBRIDGE\, 25 Uxbridge Road\, Howick\, Auckland\, 2014\, New Zealand
CATEGORIES:City of Sails Event
END:VEVENT
BEGIN:VEVENT
DTSTART;TZID=Pacific/Auckland:20210601T190000
DTEND;TZID=Pacific/Auckland:20210601T193000
DTSTAMP:20260422T001707
CREATED:20210411T053645Z
LAST-MODIFIED:20210428T213441Z
UID:3304-1622574000-1622575800@cityofsails.org.nz
SUMMARY:Lessons
DESCRIPTION:Come and join us for Rock ‘n Roll Dance Lessons \n7pm to 7.30pm Tuesday Nights – $5 per person per session \nFollowed by Club Night 7.30pm to 8.45pm \n  \nLocation:      Fencible Lounge (Howick Library)\, 25 Uxbridge Rd\, Howick \n  \nBring your water bottles and don’t forget your dancing shoes (flats\, not heels) \nPayment by Cash only accepted at the door
URL:https://cityofsails.org.nz/event/lessons-2-2-3-2-2/
LOCATION:Fencible Lounge (Howick Library) UXBRIDGE\, 25 Uxbridge Road\, Howick\, Auckland\, 2014\, New Zealand
CATEGORIES:City of Sails Lessons
END:VEVENT
BEGIN:VEVENT
DTSTART;TZID=Pacific/Auckland:20210529T190000
DTEND;TZID=Pacific/Auckland:20210529T233000
DTSTAMP:20260422T001707
CREATED:20210428T211222Z
LAST-MODIFIED:20210428T212950Z
UID:3285-1622314800-1622331000@cityofsails.org.nz
SUMMARY:May Hop
DESCRIPTION:
URL:https://cityofsails.org.nz/event/may-hop/
LOCATION:Edgewater College School Hall\, 32 Edgewater Drive\, Pakuranga\, Auckland\, 2010\, New Zealand
CATEGORIES:City of Sails Event
END:VEVENT
BEGIN:VEVENT
DTSTART;TZID=Pacific/Auckland:20210525T193000
DTEND;TZID=Pacific/Auckland:20210525T204500
DTSTAMP:20260422T001707
CREATED:20210411T053730Z
LAST-MODIFIED:20210428T214459Z
UID:3318-1621971000-1621975500@cityofsails.org.nz
SUMMARY:Club Night
DESCRIPTION:7.30pm to 8.45pm  – $2 per person \n  \nLocation:      Fencible Lounge (Howick Library)\, 25 Uxbridge Rd\, Howick \n  \nBring your water bottles and don’t forget your dancing shoes (flats\, not heels) \nPayment by Cash only accepted at the door
URL:https://cityofsails.org.nz/event/club-night-9-2-2-2/
LOCATION:Fencible Lounge (Howick Library) UXBRIDGE\, 25 Uxbridge Road\, Howick\, Auckland\, 2014\, New Zealand
CATEGORIES:City of Sails Event
END:VEVENT
BEGIN:VEVENT
DTSTART;TZID=Pacific/Auckland:20210525T190000
DTEND;TZID=Pacific/Auckland:20210525T193000
DTSTAMP:20260422T001707
CREATED:20210411T053645Z
LAST-MODIFIED:20210428T213355Z
UID:3302-1621969200-1621971000@cityofsails.org.nz
SUMMARY:Lessons
DESCRIPTION:Come and join us for Rock ‘n Roll Dance Lessons \n7pm to 7.30pm Tuesday Nights – $5 per person per session \nFollowed by Club Night 7.30pm to 8.45pm \n  \nLocation:      Fencible Lounge (Howick Library)\, 25 Uxbridge Rd\, Howick \n  \nBring your water bottles and don’t forget your dancing shoes (flats\, not heels) \nPayment by Cash only accepted at the door
URL:https://cityofsails.org.nz/event/lessons-2-2-3-2/
LOCATION:Fencible Lounge (Howick Library) UXBRIDGE\, 25 Uxbridge Road\, Howick\, Auckland\, 2014\, New Zealand
CATEGORIES:City of Sails Lessons
END:VEVENT
BEGIN:VEVENT
DTSTART;TZID=Pacific/Auckland:20210518T193000
DTEND;TZID=Pacific/Auckland:20210518T204500
DTSTAMP:20260422T001707
CREATED:20210411T053730Z
LAST-MODIFIED:20210428T214357Z
UID:3316-1621366200-1621370700@cityofsails.org.nz
SUMMARY:Club Night
DESCRIPTION:7.30pm to 8.45pm  – $2 per person \n  \nLocation:      Fencible Lounge (Howick Library)\, 25 Uxbridge Rd\, Howick \n  \nBring your water bottles and don’t forget your dancing shoes (flats\, not heels) \nPayment by Cash only accepted at the door
URL:https://cityofsails.org.nz/event/club-night-9-2-2/
LOCATION:Fencible Lounge (Howick Library) UXBRIDGE\, 25 Uxbridge Road\, Howick\, Auckland\, 2014\, New Zealand
CATEGORIES:City of Sails Event
END:VEVENT
BEGIN:VEVENT
DTSTART;TZID=Pacific/Auckland:20210518T190000
DTEND;TZID=Pacific/Auckland:20210518T193000
DTSTAMP:20260422T001707
CREATED:20210411T053645Z
LAST-MODIFIED:20210428T213212Z
UID:3300-1621364400-1621366200@cityofsails.org.nz
SUMMARY:Lessons
DESCRIPTION:Come and join us for Rock ‘n Roll Dance Lessons \n7pm to 7.30pm Tuesday Nights – $5 per person per session \nFollowed by Club Night 7.30pm to 8.45pm \n  \nLocation:      Fencible Lounge (Howick Library)\, 25 Uxbridge Rd\, Howick \n  \nBring your water bottles and don’t forget your dancing shoes (flats\, not heels) \nPayment by Cash only accepted at the door
URL:https://cityofsails.org.nz/event/lessons-2-2-3/
LOCATION:Fencible Lounge (Howick Library) UXBRIDGE\, 25 Uxbridge Road\, Howick\, Auckland\, 2014\, New Zealand
CATEGORIES:City of Sails Lessons
END:VEVENT
BEGIN:VEVENT
DTSTART;TZID=Pacific/Auckland:20210516T150000
DTEND;TZID=Pacific/Auckland:20210516T170000
DTSTAMP:20260422T001707
CREATED:20210411T080005Z
LAST-MODIFIED:20210411T080005Z
UID:3276-1621177200-1621184400@cityofsails.org.nz
SUMMARY:AGM 2021
DESCRIPTION:Sunday 4th April 2021 \nTo All Financial Members of the City of Sails Rock N Roll Revival Club Inc \nNOTICE OF ANNUAL GENERAL MEETING \nPlease be advised that the Annual General Meeting of the City of Sails Rock n Roll Club Inc. will be held on Sunday 16th May 2021\, from 3pm-5pm \n  \nThe meeting venue will be the at Trinity Scout Hall (Behind the Church)\, 474 Pakuranga Road\, Pakuranga \n  \nAll voting at the Annual General Meeting shall include proxy and posted votes from members; however\, a quorum is needed to convene the meeting\, so please attend. \nAny remits and nominations are to be in the hands of the Secretary by the 25th April 2021 at the latest. \nEither via email Secretary@www.cityofsails.org.nz or alternatively by post to PO Box 82 242\, Highland Park\, Auckland 2143 \nRegards \nLeeyan Stephens \nActing Secretary \nCity of Sails Rock n Roll Revival Club Inc
URL:https://cityofsails.org.nz/event/agm-2021/
LOCATION:Trinity Scout Hall\, 474 Pakuranga Highway\, Auckland
CATEGORIES:City of Sails Event
END:VEVENT
BEGIN:VEVENT
DTSTART;TZID=Pacific/Auckland:20210514T184500
DTEND;TZID=Pacific/Auckland:20210514T203000
DTSTAMP:20260422T001707
CREATED:20210504T021056Z
LAST-MODIFIED:20210504T021503Z
UID:3336-1621017900-1621024200@cityofsails.org.nz
SUMMARY:Family Night
DESCRIPTION:Security Error: PDF files must be hosted on the same domain as this site. PDF is hosted on: https://www.cityofsails.org.nz but this site is: https://cityofsails.org.nz \nCome Along for dancing and games \n$10 family max or    $5 per Adult    or       $2 per Child \n 
URL:https://cityofsails.org.nz/event/family-night-4/
LOCATION:Pakuranga Community Hall\, 346 Pakuranga Road\, Pakuranga\, New Zealand
CATEGORIES:City of Sails Event
END:VEVENT
BEGIN:VEVENT
DTSTART;TZID=Pacific/Auckland:20210513T190000
DTEND;TZID=Pacific/Auckland:20210513T210000
DTSTAMP:20260422T001707
CREATED:20210411T053318Z
LAST-MODIFIED:20210428T215525Z
UID:3331-1620932400-1620939600@cityofsails.org.nz
SUMMARY:Club Night at Howick RSA
DESCRIPTION:Bar & Kitchen Open at 5pm
URL:https://cityofsails.org.nz/event/club-night-8-2/
LOCATION:Howick RSA\, 25 Wellington Street\, Howick\, Auckland\, 2014\, New Zealand
CATEGORIES:City of Sails Event
END:VEVENT
BEGIN:VEVENT
DTSTART;TZID=Pacific/Auckland:20210511T190000
DTEND;TZID=Pacific/Auckland:20210511T193000
DTSTAMP:20260422T001707
CREATED:20210411T053645Z
LAST-MODIFIED:20210428T213130Z
UID:3298-1620759600-1620761400@cityofsails.org.nz
SUMMARY:Lessons
DESCRIPTION:Come and join us for Rock ‘n Roll Dance Lessons \n7pm to 7.30pm Tuesday Nights – $5 per person per session \n  \nLocation:      Fencible Lounge (Howick Library)\, 25 Uxbridge Rd\, Howick \n  \nBring your water bottles and don’t forget your dancing shoes (flats\, not heels) \nPayment by Cash only accepted at the door
URL:https://cityofsails.org.nz/event/lessons-2-2-2/
LOCATION:Fencible Lounge (Howick Library) UXBRIDGE\, 25 Uxbridge Road\, Howick\, Auckland\, 2014\, New Zealand
CATEGORIES:City of Sails Lessons
END:VEVENT
BEGIN:VEVENT
DTSTART;TZID=Pacific/Auckland:20210504T193000
DTEND;TZID=Pacific/Auckland:20210504T204500
DTSTAMP:20260422T001707
CREATED:20210411T053730Z
LAST-MODIFIED:20210428T214301Z
UID:3314-1620156600-1620161100@cityofsails.org.nz
SUMMARY:Club Night
DESCRIPTION:7.30pm to 8.45pm  – $2 per person \n  \nLocation:      Fencible Lounge (Howick Library)\, 25 Uxbridge Rd\, Howick \n  \nBring your water bottles and don’t forget your dancing shoes (flats\, not heels) \nPayment by Cash only accepted at the door
URL:https://cityofsails.org.nz/event/club-night-9-2/
LOCATION:Fencible Lounge (Howick Library) UXBRIDGE\, 25 Uxbridge Road\, Howick\, Auckland\, 2014\, New Zealand
CATEGORIES:City of Sails Event
END:VEVENT
BEGIN:VEVENT
DTSTART;TZID=Pacific/Auckland:20210504T190000
DTEND;TZID=Pacific/Auckland:20210504T193000
DTSTAMP:20260422T001707
CREATED:20210411T053645Z
LAST-MODIFIED:20210428T212520Z
UID:3288-1620154800-1620156600@cityofsails.org.nz
SUMMARY:Lessons
DESCRIPTION:Come and join us for Rock ‘n Roll Dance Lessons \n7pm to 7.30pm Tuesday Nights – $5 per person per session \nFollowed by Club Night 7.30pm to 8.45pm \n  \nLocation:      Fencible Lounge (Howick Library)\, 25 Uxbridge Rd\, Howick \n  \nBring your water bottles and don’t forget your dancing shoes (flats\, not heels) \nPayment by Cash only accepted at the door
URL:https://cityofsails.org.nz/event/lessons-2-2/
LOCATION:Fencible Lounge (Howick Library) UXBRIDGE\, 25 Uxbridge Road\, Howick\, Auckland\, 2014\, New Zealand
CATEGORIES:City of Sails Lessons
END:VEVENT
BEGIN:VEVENT
DTSTART;TZID=Pacific/Auckland:20210427T193000
DTEND;TZID=Pacific/Auckland:20210427T210000
DTSTAMP:20260422T001707
CREATED:20210411T053730Z
LAST-MODIFIED:20210411T053800Z
UID:3270-1619551800-1619557200@cityofsails.org.nz
SUMMARY:Club Night
DESCRIPTION:
URL:https://cityofsails.org.nz/event/club-night-9/
LOCATION:Fencible Lounge (Howick Library) UXBRIDGE\, 25 Uxbridge Road\, Howick\, Auckland\, 2014\, New Zealand
CATEGORIES:City of Sails Event
END:VEVENT
BEGIN:VEVENT
DTSTART;TZID=Pacific/Auckland:20210427T190000
DTEND;TZID=Pacific/Auckland:20210427T193000
DTSTAMP:20260422T001707
CREATED:20210411T053645Z
LAST-MODIFIED:20210411T053645Z
UID:3268-1619550000-1619551800@cityofsails.org.nz
SUMMARY:Lessons
DESCRIPTION:
URL:https://cityofsails.org.nz/event/lessons-2/
LOCATION:Fencible Lounge (Howick Library) UXBRIDGE\, 25 Uxbridge Road\, Howick\, Auckland\, 2014\, New Zealand
CATEGORIES:City of Sails Lessons
END:VEVENT
BEGIN:VEVENT
DTSTART;TZID=Pacific/Auckland:20210420T193000
DTEND;TZID=Pacific/Auckland:20210420T210000
DTSTAMP:20260422T001707
CREATED:20210411T053318Z
LAST-MODIFIED:20210411T053456Z
UID:3266-1618947000-1618952400@cityofsails.org.nz
SUMMARY:Club Night
DESCRIPTION:
URL:https://cityofsails.org.nz/event/club-night-8/
LOCATION:Fencible Lounge (Howick Library) UXBRIDGE\, 25 Uxbridge Road\, Howick\, Auckland\, 2014\, New Zealand
CATEGORIES:City of Sails Event
END:VEVENT
BEGIN:VEVENT
DTSTART;TZID=Pacific/Auckland:20210420T190000
DTEND;TZID=Pacific/Auckland:20210420T193000
DTSTAMP:20260422T001707
CREATED:20210411T053227Z
LAST-MODIFIED:20210411T053227Z
UID:3264-1618945200-1618947000@cityofsails.org.nz
SUMMARY:Lessons
DESCRIPTION:
URL:https://cityofsails.org.nz/event/lessons/
LOCATION:Fencible Lounge (Howick Library) UXBRIDGE\, 25 Uxbridge Road\, Howick\, Auckland\, 2014\, New Zealand
CATEGORIES:City of Sails Lessons
END:VEVENT
END:VCALENDAR