BEGIN:VCALENDAR
VERSION:2.0
PRODID:-//City of Sails Rock &#039;n&#039; Roll Revival Club - ECPv6.15.20//NONSGML v1.0//EN
CALSCALE:GREGORIAN
METHOD:PUBLISH
X-WR-CALNAME:City of Sails Rock &#039;n&#039; Roll Revival Club
X-ORIGINAL-URL:https://cityofsails.org.nz
X-WR-CALDESC:Events for City of Sails Rock &#039;n&#039; Roll Revival Club
REFRESH-INTERVAL;VALUE=DURATION:PT1H
X-Robots-Tag:noindex
X-PUBLISHED-TTL:PT1H
BEGIN:VTIMEZONE
TZID:Pacific/Auckland
BEGIN:STANDARD
TZOFFSETFROM:+1300
TZOFFSETTO:+1200
TZNAME:NZST
DTSTART:20200404T140000
END:STANDARD
BEGIN:DAYLIGHT
TZOFFSETFROM:+1200
TZOFFSETTO:+1300
TZNAME:NZDT
DTSTART:20200926T140000
END:DAYLIGHT
BEGIN:STANDARD
TZOFFSETFROM:+1300
TZOFFSETTO:+1200
TZNAME:NZST
DTSTART:20210403T140000
END:STANDARD
BEGIN:DAYLIGHT
TZOFFSETFROM:+1200
TZOFFSETTO:+1300
TZNAME:NZDT
DTSTART:20210925T140000
END:DAYLIGHT
BEGIN:STANDARD
TZOFFSETFROM:+1300
TZOFFSETTO:+1200
TZNAME:NZST
DTSTART:20220402T140000
END:STANDARD
BEGIN:DAYLIGHT
TZOFFSETFROM:+1200
TZOFFSETTO:+1300
TZNAME:NZDT
DTSTART:20220924T140000
END:DAYLIGHT
END:VTIMEZONE
BEGIN:VEVENT
DTSTART;TZID=Pacific/Auckland:20211207T190000
DTEND;TZID=Pacific/Auckland:20211207T193000
DTSTAMP:20260421T154150
CREATED:20210411T053645Z
LAST-MODIFIED:20211028T215133Z
UID:3610-1638903600-1638905400@cityofsails.org.nz
SUMMARY:Covid Cancelled - Lessons @ Fencible Lounge - $5 per person
DESCRIPTION:Come and join us for Rock ‘n Roll Dance Lessons \n7pm to 7.30pm Tuesday Nights – $5 per person per session \nLocation:      Fencible Lounge (Howick Library)\, 25 Uxbridge Rd\, Howick \nFollowed by Club Night 7.30pm to 8.45pm \nBring your water bottles and don’t forget your dancing shoes (flats\, not heels) \nPayment by Cash only accepted at the door
URL:https://cityofsails.org.nz/event/lessons-2-2-3-2-2-2-2-2-2-2-2-2-2-2-2-2-2-2-2-2-2-2-2-2-2-2-2-2-2-2/
LOCATION:Fencible Lounge (Howick Library) UXBRIDGE\, 25 Uxbridge Road\, Howick\, Auckland\, 2014\, New Zealand
CATEGORIES:City of Sails Lessons
END:VEVENT
BEGIN:VEVENT
DTSTART;TZID=Pacific/Auckland:20211204T120000
DTEND;TZID=Pacific/Auckland:20211204T120000
DTSTAMP:20260421T154150
CREATED:20210428T211222Z
LAST-MODIFIED:20211028T214125Z
UID:3660-1638619200-1638619200@cityofsails.org.nz
SUMMARY:POSTPONED - Junior Club Champs 2021
DESCRIPTION:JuniorClubChamps2021 \n\n\n\n\nDoor admission charge applies to all Competitors and Spectators\n\n\n\n\nAdults $7.50 and Juniors $5.00 – CASH ONLY AT THE DOOR\nDOOR OPENS AT MIDDAY\n\n\n\n\n\n\n\n\nVenue: Edgewater College\, 32 Edgewater Drive\, Pakuranga
URL:https://cityofsails.org.nz/event/may-hop-2-2-2-2-2-2-2/
LOCATION:Edgewater College School Hall\, 32 Edgewater Drive\, Pakuranga\, Auckland\, 2010\, New Zealand
CATEGORIES:City of Sails Event
END:VEVENT
BEGIN:VEVENT
DTSTART;TZID=Pacific/Auckland:20211130T193000
DTEND;TZID=Pacific/Auckland:20211130T204500
DTSTAMP:20260421T154150
CREATED:20210411T053730Z
LAST-MODIFIED:20211028T214223Z
UID:3602-1638300600-1638305100@cityofsails.org.nz
SUMMARY:Covid Cancelled - Club Night @ Fencible Lounge - $2 per person
DESCRIPTION:7.30pm to 8.45pm  – $2 per person \nLocation:      Fencible Lounge (Howick Library)\, 25 Uxbridge Rd\, Howick \nBring your water bottles and don’t forget your dancing shoes (flats\, not heels) \nPayment by Cash only accepted at the door
URL:https://cityofsails.org.nz/event/club-night-9-2-2-2-2-2-2-2-2-2-2-2-2-2-2-2-2-2-2-2-2-2-2-2-2-2-2/
LOCATION:Fencible Lounge (Howick Library) UXBRIDGE\, 25 Uxbridge Road\, Howick\, Auckland\, 2014\, New Zealand
CATEGORIES:City of Sails Event
END:VEVENT
BEGIN:VEVENT
DTSTART;TZID=Pacific/Auckland:20211130T190000
DTEND;TZID=Pacific/Auckland:20211130T193000
DTSTAMP:20260421T154150
CREATED:20210411T053645Z
LAST-MODIFIED:20211028T214251Z
UID:3603-1638298800-1638300600@cityofsails.org.nz
SUMMARY:Covid Cancelled - Lessons @ Fencible Lounge - $5 per person
DESCRIPTION:Come and join us for Rock ‘n Roll Dance Lessons \n7pm to 7.30pm Tuesday Nights – $5 per person per session \nLocation:      Fencible Lounge (Howick Library)\, 25 Uxbridge Rd\, Howick \nFollowed by Club Night 7.30pm to 8.45pm \nBring your water bottles and don’t forget your dancing shoes (flats\, not heels) \nPayment by Cash only accepted at the door
URL:https://cityofsails.org.nz/event/lessons-2-2-3-2-2-2-2-2-2-2-2-2-2-2-2-2-2-2-2-2-2-2-2-2-2-2-2-2-2/
LOCATION:Fencible Lounge (Howick Library) UXBRIDGE\, 25 Uxbridge Road\, Howick\, Auckland\, 2014\, New Zealand
CATEGORIES:City of Sails Lessons
END:VEVENT
BEGIN:VEVENT
DTSTART;TZID=Pacific/Auckland:20211127T190000
DTEND;TZID=Pacific/Auckland:20211127T230000
DTSTAMP:20260421T154150
CREATED:20210428T211222Z
LAST-MODIFIED:20211028T214200Z
UID:3606-1638039600-1638054000@cityofsails.org.nz
SUMMARY:Covid Cancelled - Christmas Dance - with The Brendan Ham Band
DESCRIPTION:Edgewater College \nDoor Charge: Members $12.50 each (This applies to Current Members of any Rock n Roll Club – you must show your current card at the door)\, Non Members $15 each\, Juniors $7.50 each\n\nCASH ONLY AT THE DOOR
URL:https://cityofsails.org.nz/event/may-hop-2-2-2-2-2/
LOCATION:Edgewater College School Hall\, 32 Edgewater Drive\, Pakuranga\, Auckland\, 2010\, New Zealand
CATEGORIES:City of Sails Event
END:VEVENT
BEGIN:VEVENT
DTSTART;TZID=Pacific/Auckland:20211123T193000
DTEND;TZID=Pacific/Auckland:20211123T204500
DTSTAMP:20260421T154150
CREATED:20210411T053730Z
LAST-MODIFIED:20211028T214341Z
UID:3599-1637695800-1637700300@cityofsails.org.nz
SUMMARY:Covid Cancelled - Club Night @ Fencible Lounge - $2 per person
DESCRIPTION:7.30pm to 8.45pm  – $2 per person \nLocation:      Fencible Lounge (Howick Library)\, 25 Uxbridge Rd\, Howick \nBring your water bottles and don’t forget your dancing shoes (flats\, not heels) \nPayment by Cash only accepted at the door
URL:https://cityofsails.org.nz/event/club-night-9-2-2-2-2-2-2-2-2-2-2-2-2-2-2-2-2-2-2-2-2-2-2-2-2-2/
LOCATION:Fencible Lounge (Howick Library) UXBRIDGE\, 25 Uxbridge Road\, Howick\, Auckland\, 2014\, New Zealand
CATEGORIES:City of Sails Event
END:VEVENT
BEGIN:VEVENT
DTSTART;TZID=Pacific/Auckland:20211123T190000
DTEND;TZID=Pacific/Auckland:20211123T193000
DTSTAMP:20260421T154150
CREATED:20210411T053645Z
LAST-MODIFIED:20211028T215201Z
UID:3598-1637694000-1637695800@cityofsails.org.nz
SUMMARY:Covid Cancelled - Lessons @ Fencible Lounge - $5 per person
DESCRIPTION:Come and join us for Rock ‘n Roll Dance Lessons \n7pm to 7.30pm Tuesday Nights – $5 per person per session \nLocation:      Fencible Lounge (Howick Library)\, 25 Uxbridge Rd\, Howick \nFollowed by Club Night 7.30pm to 8.45pm \nBring your water bottles and don’t forget your dancing shoes (flats\, not heels) \nPayment by Cash only accepted at the door
URL:https://cityofsails.org.nz/event/lessons-2-2-3-2-2-2-2-2-2-2-2-2-2-2-2-2-2-2-2-2-2-2-2-2-2-2-2-2/
LOCATION:Fencible Lounge (Howick Library) UXBRIDGE\, 25 Uxbridge Road\, Howick\, Auckland\, 2014\, New Zealand
CATEGORIES:City of Sails Lessons
END:VEVENT
BEGIN:VEVENT
DTSTART;TZID=Pacific/Auckland:20211116T193000
DTEND;TZID=Pacific/Auckland:20211116T204500
DTSTAMP:20260421T154150
CREATED:20210411T053730Z
LAST-MODIFIED:20211028T215236Z
UID:3594-1637091000-1637095500@cityofsails.org.nz
SUMMARY:Covid Cancelled - Club Night @ Fencible Lounge - $2 per person
DESCRIPTION:7.30pm to 8.45pm  – $2 per person \nLocation:      Fencible Lounge (Howick Library)\, 25 Uxbridge Rd\, Howick \nBring your water bottles and don’t forget your dancing shoes (flats\, not heels) \nPayment by Cash only accepted at the door
URL:https://cityofsails.org.nz/event/club-night-9-2-2-2-2-2-2-2-2-2-2-2-2-2-2-2-2-2-2-2-2-2-2-2-2/
LOCATION:Fencible Lounge (Howick Library) UXBRIDGE\, 25 Uxbridge Road\, Howick\, Auckland\, 2014\, New Zealand
CATEGORIES:City of Sails Event
END:VEVENT
BEGIN:VEVENT
DTSTART;TZID=Pacific/Auckland:20211116T190000
DTEND;TZID=Pacific/Auckland:20211116T193000
DTSTAMP:20260421T154150
CREATED:20210411T053645Z
LAST-MODIFIED:20211028T215329Z
UID:3596-1637089200-1637091000@cityofsails.org.nz
SUMMARY:Covid Cancelled - Lessons @ Fencible Lounge - $5 per person
DESCRIPTION:Come and join us for Rock ‘n Roll Dance Lessons \n7pm to 7.30pm Tuesday Nights – $5 per person per session \nLocation:      Fencible Lounge (Howick Library)\, 25 Uxbridge Rd\, Howick \nFollowed by Club Night 7.30pm to 8.45pm \nBring your water bottles and don’t forget your dancing shoes (flats\, not heels) \nPayment by Cash only accepted at the door
URL:https://cityofsails.org.nz/event/lessons-2-2-3-2-2-2-2-2-2-2-2-2-2-2-2-2-2-2-2-2-2-2-2-2-2-2-2/
LOCATION:Fencible Lounge (Howick Library) UXBRIDGE\, 25 Uxbridge Road\, Howick\, Auckland\, 2014\, New Zealand
CATEGORIES:City of Sails Lessons
END:VEVENT
BEGIN:VEVENT
DTSTART;TZID=Pacific/Auckland:20211112T184500
DTEND;TZID=Pacific/Auckland:20211112T204500
DTSTAMP:20260421T154150
CREATED:20210504T021056Z
LAST-MODIFIED:20211028T215257Z
UID:3568-1636742700-1636749900@cityofsails.org.nz
SUMMARY:Covid Cancelled - Family Night at Pakuranga Community Hall
DESCRIPTION:Rock n Roll Music and Games for the family \nBring your drinks and snacks – don’t forget your dancing shoes \nAdults $5\nChildren $2\nor Family $10 \nNovemberFamilyNightFlyer
URL:https://cityofsails.org.nz/event/family-night-4-2-2-2-2-2-2/
LOCATION:Fencible Lounge (Howick Library) UXBRIDGE\, 25 Uxbridge Road\, Howick\, Auckland\, 2014\, New Zealand
CATEGORIES:City of Sails Event,Family Night
END:VEVENT
BEGIN:VEVENT
DTSTART;TZID=Pacific/Auckland:20211109T193000
DTEND;TZID=Pacific/Auckland:20211109T204500
DTSTAMP:20260421T154150
CREATED:20210411T053730Z
LAST-MODIFIED:20211028T215425Z
UID:3590-1636486200-1636490700@cityofsails.org.nz
SUMMARY:Covid Cancelled - Club Night @ Fencible Lounge - $2 per person
DESCRIPTION:7.30pm to 8.45pm  – $2 per person \nLocation:      Fencible Lounge (Howick Library)\, 25 Uxbridge Rd\, Howick \nBring your water bottles and don’t forget your dancing shoes (flats\, not heels) \nPayment by Cash only accepted at the door
URL:https://cityofsails.org.nz/event/club-night-9-2-2-2-2-2-2-2-2-2-2-2-2-2-2-2-2-2-2-2-2-2-2-2/
LOCATION:Fencible Lounge (Howick Library) UXBRIDGE\, 25 Uxbridge Road\, Howick\, Auckland\, 2014\, New Zealand
CATEGORIES:City of Sails Event
END:VEVENT
BEGIN:VEVENT
DTSTART;TZID=Pacific/Auckland:20211109T190000
DTEND;TZID=Pacific/Auckland:20211109T193000
DTSTAMP:20260421T154150
CREATED:20210411T053645Z
LAST-MODIFIED:20211028T215353Z
UID:3592-1636484400-1636486200@cityofsails.org.nz
SUMMARY:Covid Cancelled - Lessons @ Fencible Lounge - $5 per person
DESCRIPTION:Come and join us for Rock ‘n Roll Dance Lessons \n7pm to 7.30pm Tuesday Nights – $5 per person per session \nLocation:      Fencible Lounge (Howick Library)\, 25 Uxbridge Rd\, Howick \nFollowed by Club Night 7.30pm to 8.45pm \nBring your water bottles and don’t forget your dancing shoes (flats\, not heels) \nPayment by Cash only accepted at the door
URL:https://cityofsails.org.nz/event/lessons-2-2-3-2-2-2-2-2-2-2-2-2-2-2-2-2-2-2-2-2-2-2-2-2-2-2/
LOCATION:Fencible Lounge (Howick Library) UXBRIDGE\, 25 Uxbridge Road\, Howick\, Auckland\, 2014\, New Zealand
CATEGORIES:City of Sails Lessons
END:VEVENT
BEGIN:VEVENT
DTSTART;TZID=Pacific/Auckland:20211102T193000
DTEND;TZID=Pacific/Auckland:20211102T204500
DTSTAMP:20260421T154150
CREATED:20210411T053730Z
LAST-MODIFIED:20211018T213550Z
UID:3586-1635881400-1635885900@cityofsails.org.nz
SUMMARY:Covid Cancelled - Club Night @ Fencible Lounge - $2 per person
DESCRIPTION:7.30pm to 8.45pm  – $2 per person \nLocation:      Fencible Lounge (Howick Library)\, 25 Uxbridge Rd\, Howick \nBring your water bottles and don’t forget your dancing shoes (flats\, not heels) \nPayment by Cash only accepted at the door
URL:https://cityofsails.org.nz/event/club-night-9-2-2-2-2-2-2-2-2-2-2-2-2-2-2-2-2-2-2-2-2-2-2/
LOCATION:Fencible Lounge (Howick Library) UXBRIDGE\, 25 Uxbridge Road\, Howick\, Auckland\, 2014\, New Zealand
CATEGORIES:City of Sails Event
END:VEVENT
BEGIN:VEVENT
DTSTART;TZID=Pacific/Auckland:20211102T190000
DTEND;TZID=Pacific/Auckland:20211102T193000
DTSTAMP:20260421T154150
CREATED:20210411T053645Z
LAST-MODIFIED:20211018T213613Z
UID:3587-1635879600-1635881400@cityofsails.org.nz
SUMMARY:Covid Cancelled - Lessons @ Fencible Lounge - $5 per person
DESCRIPTION:Come and join us for Rock ‘n Roll Dance Lessons \n7pm to 7.30pm Tuesday Nights – $5 per person per session \nLocation:      Fencible Lounge (Howick Library)\, 25 Uxbridge Rd\, Howick \nFollowed by Club Night 7.30pm to 8.45pm \nBring your water bottles and don’t forget your dancing shoes (flats\, not heels) \nPayment by Cash only accepted at the door
URL:https://cityofsails.org.nz/event/lessons-2-2-3-2-2-2-2-2-2-2-2-2-2-2-2-2-2-2-2-2-2-2-2-2-2/
LOCATION:Fencible Lounge (Howick Library) UXBRIDGE\, 25 Uxbridge Road\, Howick\, Auckland\, 2014\, New Zealand
CATEGORIES:City of Sails Lessons
END:VEVENT
BEGIN:VEVENT
DTSTART;TZID=Pacific/Auckland:20211026T193000
DTEND;TZID=Pacific/Auckland:20211026T204500
DTSTAMP:20260421T154150
CREATED:20210411T053730Z
LAST-MODIFIED:20211018T213508Z
UID:3582-1635276600-1635281100@cityofsails.org.nz
SUMMARY:Covid Cancelled - Club Night @ Fencible Lounge - $2 per person
DESCRIPTION:7.30pm to 8.45pm  – $2 per person \nLocation:      Fencible Lounge (Howick Library)\, 25 Uxbridge Rd\, Howick \nBring your water bottles and don’t forget your dancing shoes (flats\, not heels) \nPayment by Cash only accepted at the door
URL:https://cityofsails.org.nz/event/club-night-9-2-2-2-2-2-2-2-2-2-2-2-2-2-2-2-2-2-2-2-2-2/
LOCATION:Fencible Lounge (Howick Library) UXBRIDGE\, 25 Uxbridge Road\, Howick\, Auckland\, 2014\, New Zealand
CATEGORIES:City of Sails Event
END:VEVENT
BEGIN:VEVENT
DTSTART;TZID=Pacific/Auckland:20211026T190000
DTEND;TZID=Pacific/Auckland:20211026T193000
DTSTAMP:20260421T154150
CREATED:20210411T053645Z
LAST-MODIFIED:20211018T213434Z
UID:3584-1635274800-1635276600@cityofsails.org.nz
SUMMARY:Covid Cancelled - Lessons @ Fencible Lounge - $5 per person
DESCRIPTION:Come and join us for Rock ‘n Roll Dance Lessons \n7pm to 7.30pm Tuesday Nights – $5 per person per session \nLocation:      Fencible Lounge (Howick Library)\, 25 Uxbridge Rd\, Howick \nFollowed by Club Night 7.30pm to 8.45pm \nBring your water bottles and don’t forget your dancing shoes (flats\, not heels) \nPayment by Cash only accepted at the door
URL:https://cityofsails.org.nz/event/lessons-2-2-3-2-2-2-2-2-2-2-2-2-2-2-2-2-2-2-2-2-2-2-2-2/
LOCATION:Fencible Lounge (Howick Library) UXBRIDGE\, 25 Uxbridge Road\, Howick\, Auckland\, 2014\, New Zealand
CATEGORIES:City of Sails Lessons
END:VEVENT
BEGIN:VEVENT
DTSTART;VALUE=DATE:20211022
DTEND;VALUE=DATE:20211025
DTSTAMP:20260421T154150
CREATED:20210808T034446Z
LAST-MODIFIED:20210907T045153Z
UID:3572-1634860800-1635119999@cityofsails.org.nz
SUMMARY:CANCELLED - COVID RELATED - New Zealand Amateur Rock 'n' Roll Association Senior Nationals
DESCRIPTION:Hosted by River Rockers in Whanganui \nLocation: Whanganui War Memorial Centre \n  \nFor more information visit: https://www.rocknroll.org.nz/2021-senior-nationals
URL:https://cityofsails.org.nz/event/new-zealand-amateur-rock-n-roll-association-senior-nationals/
CATEGORIES:Other Clubs
END:VEVENT
BEGIN:VEVENT
DTSTART;TZID=Pacific/Auckland:20211019T193000
DTEND;TZID=Pacific/Auckland:20211019T204500
DTSTAMP:20260421T154150
CREATED:20210411T053730Z
LAST-MODIFIED:20211015T001353Z
UID:3578-1634671800-1634676300@cityofsails.org.nz
SUMMARY:Covid Cancelled - Club Night @ Fencible Lounge - $2 per person
DESCRIPTION:7.30pm to 8.45pm  – $2 per person \nLocation:      Fencible Lounge (Howick Library)\, 25 Uxbridge Rd\, Howick \nBring your water bottles and don’t forget your dancing shoes (flats\, not heels) \nPayment by Cash only accepted at the door
URL:https://cityofsails.org.nz/event/club-night-9-2-2-2-2-2-2-2-2-2-2-2-2-2-2-2-2-2-2-2-2/
LOCATION:Fencible Lounge (Howick Library) UXBRIDGE\, 25 Uxbridge Road\, Howick\, Auckland\, 2014\, New Zealand
CATEGORIES:City of Sails Event
END:VEVENT
BEGIN:VEVENT
DTSTART;TZID=Pacific/Auckland:20211019T190000
DTEND;TZID=Pacific/Auckland:20211019T193000
DTSTAMP:20260421T154150
CREATED:20210411T053645Z
LAST-MODIFIED:20211015T001325Z
UID:3579-1634670000-1634671800@cityofsails.org.nz
SUMMARY:Covid Cancelled - Lessons @ Fencible Lounge - $5 per person
DESCRIPTION:Come and join us for Rock ‘n Roll Dance Lessons \n7pm to 7.30pm Tuesday Nights – $5 per person per session \nLocation:      Fencible Lounge (Howick Library)\, 25 Uxbridge Rd\, Howick \nFollowed by Club Night 7.30pm to 8.45pm \nBring your water bottles and don’t forget your dancing shoes (flats\, not heels) \nPayment by Cash only accepted at the door
URL:https://cityofsails.org.nz/event/lessons-2-2-3-2-2-2-2-2-2-2-2-2-2-2-2-2-2-2-2-2-2-2-2/
LOCATION:Fencible Lounge (Howick Library) UXBRIDGE\, 25 Uxbridge Road\, Howick\, Auckland\, 2014\, New Zealand
CATEGORIES:City of Sails Lessons
END:VEVENT
BEGIN:VEVENT
DTSTART;TZID=Pacific/Auckland:20211012T193000
DTEND;TZID=Pacific/Auckland:20211012T204500
DTSTAMP:20260421T154150
CREATED:20210411T053730Z
LAST-MODIFIED:20211004T032743Z
UID:3574-1634067000-1634071500@cityofsails.org.nz
SUMMARY:Covid Cancelled - Club Night @ Fencible Lounge - $2 per person
DESCRIPTION:7.30pm to 8.45pm  – $2 per person \nLocation:      Fencible Lounge (Howick Library)\, 25 Uxbridge Rd\, Howick \nBring your water bottles and don’t forget your dancing shoes (flats\, not heels) \nPayment by Cash only accepted at the door
URL:https://cityofsails.org.nz/event/club-night-9-2-2-2-2-2-2-2-2-2-2-2-2-2-2-2-2-2-2-2/
LOCATION:Fencible Lounge (Howick Library) UXBRIDGE\, 25 Uxbridge Road\, Howick\, Auckland\, 2014\, New Zealand
CATEGORIES:City of Sails Event
END:VEVENT
BEGIN:VEVENT
DTSTART;TZID=Pacific/Auckland:20211012T190000
DTEND;TZID=Pacific/Auckland:20211012T193000
DTSTAMP:20260421T154150
CREATED:20210411T053645Z
LAST-MODIFIED:20211004T032723Z
UID:3575-1634065200-1634067000@cityofsails.org.nz
SUMMARY:Covid Cancelled - Lessons @ Fencible Lounge - $5 per person
DESCRIPTION:Come and join us for Rock ‘n Roll Dance Lessons \n7pm to 7.30pm Tuesday Nights – $5 per person per session \nLocation:      Fencible Lounge (Howick Library)\, 25 Uxbridge Rd\, Howick \nFollowed by Club Night 7.30pm to 8.45pm \nBring your water bottles and don’t forget your dancing shoes (flats\, not heels) \nPayment by Cash only accepted at the door
URL:https://cityofsails.org.nz/event/lessons-2-2-3-2-2-2-2-2-2-2-2-2-2-2-2-2-2-2-2-2-2-2/
LOCATION:Fencible Lounge (Howick Library) UXBRIDGE\, 25 Uxbridge Road\, Howick\, Auckland\, 2014\, New Zealand
CATEGORIES:City of Sails Lessons
END:VEVENT
BEGIN:VEVENT
DTSTART;TZID=Pacific/Auckland:20211008T184500
DTEND;TZID=Pacific/Auckland:20211008T204500
DTSTAMP:20260421T154150
CREATED:20210504T021056Z
LAST-MODIFIED:20211004T032704Z
UID:3565-1633718700-1633725900@cityofsails.org.nz
SUMMARY:Covid Cancelled - Family Night at Pakuranga Community Hall
DESCRIPTION:Rock n Roll Music and Games for the family \nBring your drinks and snacks – don’t forget your dancing shoes \nAdults $5\nChildren $2\nor Family $10
URL:https://cityofsails.org.nz/event/family-night-4-2-2-2-2-2/
LOCATION:Fencible Lounge (Howick Library) UXBRIDGE\, 25 Uxbridge Road\, Howick\, Auckland\, 2014\, New Zealand
CATEGORIES:City of Sails Event,Family Night
END:VEVENT
BEGIN:VEVENT
DTSTART;TZID=Pacific/Auckland:20211005T193000
DTEND;TZID=Pacific/Auckland:20211005T204500
DTSTAMP:20260421T154150
CREATED:20210411T053730Z
LAST-MODIFIED:20211004T032639Z
UID:3561-1633462200-1633466700@cityofsails.org.nz
SUMMARY:Covid Cancelled - Club Night @ Fencible Lounge - $2 per person
DESCRIPTION:7.30pm to 8.45pm  – $2 per person \nLocation:      Fencible Lounge (Howick Library)\, 25 Uxbridge Rd\, Howick \nBring your water bottles and don’t forget your dancing shoes (flats\, not heels) \nPayment by Cash only accepted at the door
URL:https://cityofsails.org.nz/event/club-night-9-2-2-2-2-2-2-2-2-2-2-2-2-2-2-2-2-2-2/
LOCATION:Fencible Lounge (Howick Library) UXBRIDGE\, 25 Uxbridge Road\, Howick\, Auckland\, 2014\, New Zealand
CATEGORIES:City of Sails Event
END:VEVENT
BEGIN:VEVENT
DTSTART;TZID=Pacific/Auckland:20211005T190000
DTEND;TZID=Pacific/Auckland:20211005T193000
DTSTAMP:20260421T154150
CREATED:20210411T053645Z
LAST-MODIFIED:20211004T032619Z
UID:3562-1633460400-1633462200@cityofsails.org.nz
SUMMARY:Covid Cancelled - Lessons @ Fencible Lounge - $5 per person
DESCRIPTION:Come and join us for Rock ‘n Roll Dance Lessons \n7pm to 7.30pm Tuesday Nights – $5 per person per session \nLocation:      Fencible Lounge (Howick Library)\, 25 Uxbridge Rd\, Howick \nFollowed by Club Night 7.30pm to 8.45pm \nBring your water bottles and don’t forget your dancing shoes (flats\, not heels) \nPayment by Cash only accepted at the door
URL:https://cityofsails.org.nz/event/lessons-2-2-3-2-2-2-2-2-2-2-2-2-2-2-2-2-2-2-2-2-2/
LOCATION:Fencible Lounge (Howick Library) UXBRIDGE\, 25 Uxbridge Road\, Howick\, Auckland\, 2014\, New Zealand
CATEGORIES:City of Sails Lessons
END:VEVENT
BEGIN:VEVENT
DTSTART;TZID=Pacific/Auckland:20210928T193000
DTEND;TZID=Pacific/Auckland:20210928T204500
DTSTAMP:20260421T154150
CREATED:20210411T053730Z
LAST-MODIFIED:20210908T044159Z
UID:3557-1632857400-1632861900@cityofsails.org.nz
SUMMARY:CANCELLED - COVID RELATED - Club Night @ Fencible Lounge - $2 per person
DESCRIPTION:7.30pm to 8.45pm  – $2 per person \nLocation:      Fencible Lounge (Howick Library)\, 25 Uxbridge Rd\, Howick \nBring your water bottles and don’t forget your dancing shoes (flats\, not heels) \nPayment by Cash only accepted at the door
URL:https://cityofsails.org.nz/event/club-night-9-2-2-2-2-2-2-2-2-2-2-2-2-2-2-2-2-2/
LOCATION:Fencible Lounge (Howick Library) UXBRIDGE\, 25 Uxbridge Road\, Howick\, Auckland\, 2014\, New Zealand
CATEGORIES:City of Sails Event
END:VEVENT
BEGIN:VEVENT
DTSTART;TZID=Pacific/Auckland:20210928T190000
DTEND;TZID=Pacific/Auckland:20210928T193000
DTSTAMP:20260421T154150
CREATED:20210411T053645Z
LAST-MODIFIED:20210908T044031Z
UID:3558-1632855600-1632857400@cityofsails.org.nz
SUMMARY:CANCELLED - COVID RELATED - Lessons @ Fencible Lounge - $5 per person
DESCRIPTION:Come and join us for Rock ‘n Roll Dance Lessons \n7pm to 7.30pm Tuesday Nights – $5 per person per session \nLocation:      Fencible Lounge (Howick Library)\, 25 Uxbridge Rd\, Howick \nFollowed by Club Night 7.30pm to 8.45pm \nBring your water bottles and don’t forget your dancing shoes (flats\, not heels) \nPayment by Cash only accepted at the door
URL:https://cityofsails.org.nz/event/lessons-2-2-3-2-2-2-2-2-2-2-2-2-2-2-2-2-2-2-2-2/
LOCATION:Fencible Lounge (Howick Library) UXBRIDGE\, 25 Uxbridge Road\, Howick\, Auckland\, 2014\, New Zealand
CATEGORIES:City of Sails Lessons
END:VEVENT
BEGIN:VEVENT
DTSTART;TZID=Pacific/Auckland:20210925T170000
DTEND;TZID=Pacific/Auckland:20210925T230000
DTSTAMP:20260421T154150
CREATED:20210428T211222Z
LAST-MODIFIED:20210908T043936Z
UID:3541-1632589200-1632610800@cityofsails.org.nz
SUMMARY:CANCELLED - COVID RELATED - Allcomers Competition
DESCRIPTION:Edgewater College – Actual start time to be confirmed once entries close \nDoor Charge: Members $12.50 each (This applies to Current Members of any Rock n Roll Club – you must show your current card at the door)\, Non Members $15 each\, Juniors $7.50 each\n\nCASH ONLY AT THE DOOR\n\nAllcomers Competition \nAllcomersEntryForm2021
URL:https://cityofsails.org.nz/event/may-hop-2-2-2-2/
LOCATION:Edgewater College School Hall\, 32 Edgewater Drive\, Pakuranga\, Auckland\, 2010\, New Zealand
CATEGORIES:City of Sails Event
END:VEVENT
BEGIN:VEVENT
DTSTART;TZID=Pacific/Auckland:20210921T193000
DTEND;TZID=Pacific/Auckland:20210921T204500
DTSTAMP:20260421T154150
CREATED:20210411T053730Z
LAST-MODIFIED:20210908T044223Z
UID:3554-1632252600-1632257100@cityofsails.org.nz
SUMMARY:CANCELLED - COVID RELATED - Club Night @ Fencible Lounge - $2 per person
DESCRIPTION:7.30pm to 8.45pm  – $2 per person \nLocation:      Fencible Lounge (Howick Library)\, 25 Uxbridge Rd\, Howick \nBring your water bottles and don’t forget your dancing shoes (flats\, not heels) \nPayment by Cash only accepted at the door
URL:https://cityofsails.org.nz/event/club-night-9-2-2-2-2-2-2-2-2-2-2-2-2-2-2-2-2/
LOCATION:Fencible Lounge (Howick Library) UXBRIDGE\, 25 Uxbridge Road\, Howick\, Auckland\, 2014\, New Zealand
CATEGORIES:City of Sails Event
END:VEVENT
BEGIN:VEVENT
DTSTART;TZID=Pacific/Auckland:20210921T190000
DTEND;TZID=Pacific/Auckland:20210921T193000
DTSTAMP:20260421T154150
CREATED:20210411T053645Z
LAST-MODIFIED:20210908T044250Z
UID:3553-1632250800-1632252600@cityofsails.org.nz
SUMMARY:CANCELLED - COVID RELATED - Lessons @ Fencible Lounge - $5 per person
DESCRIPTION:Come and join us for Rock ‘n Roll Dance Lessons \n7pm to 7.30pm Tuesday Nights – $5 per person per session \nLocation:      Fencible Lounge (Howick Library)\, 25 Uxbridge Rd\, Howick \nFollowed by Club Night 7.30pm to 8.45pm \nBring your water bottles and don’t forget your dancing shoes (flats\, not heels) \nPayment by Cash only accepted at the door
URL:https://cityofsails.org.nz/event/lessons-2-2-3-2-2-2-2-2-2-2-2-2-2-2-2-2-2-2-2/
LOCATION:Fencible Lounge (Howick Library) UXBRIDGE\, 25 Uxbridge Road\, Howick\, Auckland\, 2014\, New Zealand
CATEGORIES:City of Sails Lessons
END:VEVENT
BEGIN:VEVENT
DTSTART;TZID=Pacific/Auckland:20210914T193000
DTEND;TZID=Pacific/Auckland:20210914T204500
DTSTAMP:20260421T154150
CREATED:20210411T053730Z
LAST-MODIFIED:20210908T044133Z
UID:3547-1631647800-1631652300@cityofsails.org.nz
SUMMARY:CANCELLED - COVID RELATED - Club Night @ Fencible Lounge - $2 per person
DESCRIPTION:7.30pm to 8.45pm  – $2 per person \nLocation:      Fencible Lounge (Howick Library)\, 25 Uxbridge Rd\, Howick \nBring your water bottles and don’t forget your dancing shoes (flats\, not heels) \nPayment by Cash only accepted at the door
URL:https://cityofsails.org.nz/event/club-night-9-2-2-2-2-2-2-2-2-2-2-2-2-2-2-2/
LOCATION:Fencible Lounge (Howick Library) UXBRIDGE\, 25 Uxbridge Road\, Howick\, Auckland\, 2014\, New Zealand
CATEGORIES:City of Sails Event
END:VEVENT
END:VCALENDAR