BEGIN:VCALENDAR
VERSION:2.0
PRODID:-//City of Sails Rock &#039;n&#039; Roll Revival Club - ECPv6.15.20//NONSGML v1.0//EN
CALSCALE:GREGORIAN
METHOD:PUBLISH
X-WR-CALNAME:City of Sails Rock &#039;n&#039; Roll Revival Club
X-ORIGINAL-URL:https://cityofsails.org.nz
X-WR-CALDESC:Events for City of Sails Rock &#039;n&#039; Roll Revival Club
REFRESH-INTERVAL;VALUE=DURATION:PT1H
X-Robots-Tag:noindex
X-PUBLISHED-TTL:PT1H
BEGIN:VTIMEZONE
TZID:Pacific/Auckland
BEGIN:STANDARD
TZOFFSETFROM:+1300
TZOFFSETTO:+1200
TZNAME:NZST
DTSTART:20200404T140000
END:STANDARD
BEGIN:DAYLIGHT
TZOFFSETFROM:+1200
TZOFFSETTO:+1300
TZNAME:NZDT
DTSTART:20200926T140000
END:DAYLIGHT
BEGIN:STANDARD
TZOFFSETFROM:+1300
TZOFFSETTO:+1200
TZNAME:NZST
DTSTART:20210403T140000
END:STANDARD
BEGIN:DAYLIGHT
TZOFFSETFROM:+1200
TZOFFSETTO:+1300
TZNAME:NZDT
DTSTART:20210925T140000
END:DAYLIGHT
BEGIN:STANDARD
TZOFFSETFROM:+1300
TZOFFSETTO:+1200
TZNAME:NZST
DTSTART:20220402T140000
END:STANDARD
BEGIN:DAYLIGHT
TZOFFSETFROM:+1200
TZOFFSETTO:+1300
TZNAME:NZDT
DTSTART:20220924T140000
END:DAYLIGHT
BEGIN:STANDARD
TZOFFSETFROM:+1300
TZOFFSETTO:+1200
TZNAME:NZST
DTSTART:20230401T140000
END:STANDARD
BEGIN:DAYLIGHT
TZOFFSETFROM:+1200
TZOFFSETTO:+1300
TZNAME:NZDT
DTSTART:20230923T140000
END:DAYLIGHT
END:VTIMEZONE
BEGIN:VEVENT
DTSTART;TZID=Pacific/Auckland:20220614T190000
DTEND;TZID=Pacific/Auckland:20220614T193000
DTSTAMP:20260421T082548
CREATED:20210411T053645Z
LAST-MODIFIED:20220602T074804Z
UID:6005-1655233200-1655235000@cityofsails.org.nz
SUMMARY:Lessons @ Fencible Lounge - $5 per person
DESCRIPTION:Come and join us for Rock ‘n Roll Dance Lessons \n7pm to 7.30pm Tuesday Nights – $5 per person per session \nLocation:      Fencible Lounge (Howick Library)\, 25 Uxbridge Rd\, Howick \nFollowed by Club Night 7.30pm to 8.45pm \nBring your water bottles and don’t forget your dancing shoes (flats\, not heels) \nPayment by Cash only accepted at the door
URL:https://cityofsails.org.nz/event/lessons-2-2-3-2-2-2-2-2-2-2-2-2-2-2-2-2-2-2-2-2-2-2-2-2-2-2-2-2-2-2-2-2-2-2-2-2-2-2/
LOCATION:Fencible Lounge (Howick Library) UXBRIDGE\, 25 Uxbridge Road\, Howick\, Auckland\, 2014\, New Zealand
CATEGORIES:City of Sails Lessons
END:VEVENT
BEGIN:VEVENT
DTSTART;TZID=Pacific/Auckland:20220610T181500
DTEND;TZID=Pacific/Auckland:20220610T201500
DTSTAMP:20260421T082548
CREATED:20210504T021056Z
LAST-MODIFIED:20220526T023740Z
UID:5972-1654884900-1654892100@cityofsails.org.nz
SUMMARY:Family Night at Fencible Lounge
DESCRIPTION:Come Along for dancing and games \n$10 family max or    $5 per Adult    or       $2 per Child
URL:https://cityofsails.org.nz/event/family-night-4-2-2-3/
LOCATION:Fencible Lounge (Howick Library) UXBRIDGE\, 25 Uxbridge Road\, Howick\, Auckland\, 2014\, New Zealand
CATEGORIES:City of Sails Event,Family Night
END:VEVENT
BEGIN:VEVENT
DTSTART;TZID=Pacific/Auckland:20220607T193000
DTEND;TZID=Pacific/Auckland:20220607T204500
DTSTAMP:20260421T082548
CREATED:20210411T053730Z
LAST-MODIFIED:20220602T074552Z
UID:5997-1654630200-1654634700@cityofsails.org.nz
SUMMARY:Club Night @ Fencible Lounge - $2 per person
DESCRIPTION:7.30pm to 8.45pm  – $2 per person \nLocation:      Fencible Lounge (Howick Library)\, 25 Uxbridge Rd\, Howick \nBring your water bottles and don’t forget your dancing shoes (flats\, not heels) \nPayment by Cash only accepted at the door
URL:https://cityofsails.org.nz/event/club-night-9-2-2-2-2-2-2-2-2-2-2-2-2-2-2-2-2-2-2-2-2-2-2-2-2-2-2-2-2-2-2-2-2-2-2-2-2-2-2/
LOCATION:Fencible Lounge (Howick Library) UXBRIDGE\, 25 Uxbridge Road\, Howick\, Auckland\, 2014\, New Zealand
CATEGORIES:City of Sails Event
END:VEVENT
BEGIN:VEVENT
DTSTART;TZID=Pacific/Auckland:20220607T190000
DTEND;TZID=Pacific/Auckland:20220607T193000
DTSTAMP:20260421T082548
CREATED:20210411T053645Z
LAST-MODIFIED:20220602T074455Z
UID:5995-1654628400-1654630200@cityofsails.org.nz
SUMMARY:Lessons @ Fencible Lounge - $5 per person
DESCRIPTION:Come and join us for Rock ‘n Roll Dance Lessons \n7pm to 7.30pm Tuesday Nights – $5 per person per session \nLocation:      Fencible Lounge (Howick Library)\, 25 Uxbridge Rd\, Howick \nFollowed by Club Night 7.30pm to 8.45pm \nBring your water bottles and don’t forget your dancing shoes (flats\, not heels) \nPayment by Cash only accepted at the door
URL:https://cityofsails.org.nz/event/lessons-2-2-3-2-2-2-2-2-2-2-2-2-2-2-2-2-2-2-2-2-2-2-2-2-2-2-2-2-2-2-2-2-2-2-2-2-2/
LOCATION:Fencible Lounge (Howick Library) UXBRIDGE\, 25 Uxbridge Road\, Howick\, Auckland\, 2014\, New Zealand
CATEGORIES:City of Sails Lessons
END:VEVENT
BEGIN:VEVENT
DTSTART;TZID=Pacific/Auckland:20220531T193000
DTEND;TZID=Pacific/Auckland:20220531T204500
DTSTAMP:20260421T082548
CREATED:20210411T053730Z
LAST-MODIFIED:20220416T003919Z
UID:5939-1654025400-1654029900@cityofsails.org.nz
SUMMARY:Club Night @ Fencible Lounge - $2 per person
DESCRIPTION:7.30pm to 8.45pm  – $2 per person \nLocation:      Fencible Lounge (Howick Library)\, 25 Uxbridge Rd\, Howick \nBring your water bottles and don’t forget your dancing shoes (flats\, not heels) \nPayment by Cash only accepted at the door
URL:https://cityofsails.org.nz/event/club-night-9-2-2-2-2-2-2-2-2-2-2-2-2-2-2-2-2-2-2-2-2-2-2-2-2-2-2-2-2-2-2-2-2-2-2-2-2-2/
LOCATION:Fencible Lounge (Howick Library) UXBRIDGE\, 25 Uxbridge Road\, Howick\, Auckland\, 2014\, New Zealand
CATEGORIES:City of Sails Event
END:VEVENT
BEGIN:VEVENT
DTSTART;TZID=Pacific/Auckland:20220531T190000
DTEND;TZID=Pacific/Auckland:20220531T193000
DTSTAMP:20260421T082548
CREATED:20210411T053645Z
LAST-MODIFIED:20220416T004546Z
UID:5948-1654023600-1654025400@cityofsails.org.nz
SUMMARY:Lessons @ Fencible Lounge - $5 per person
DESCRIPTION:Come and join us for Rock ‘n Roll Dance Lessons \n7pm to 7.30pm Tuesday Nights – $5 per person per session \nLocation:      Fencible Lounge (Howick Library)\, 25 Uxbridge Rd\, Howick \nFollowed by Club Night 7.30pm to 8.45pm \nBring your water bottles and don’t forget your dancing shoes (flats\, not heels) \nPayment by Cash only accepted at the door
URL:https://cityofsails.org.nz/event/lessons-2-2-3-2-2-2-2-2-2-2-2-2-2-2-2-2-2-2-2-2-2-2-2-2-2-2-2-2-2-2-2-2-2-2-2-2/
LOCATION:Fencible Lounge (Howick Library) UXBRIDGE\, 25 Uxbridge Road\, Howick\, Auckland\, 2014\, New Zealand
CATEGORIES:City of Sails Lessons
END:VEVENT
BEGIN:VEVENT
DTSTART;TZID=Pacific/Auckland:20220528T190000
DTEND;TZID=Pacific/Auckland:20220528T230000
DTSTAMP:20260421T082548
CREATED:20210428T211222Z
LAST-MODIFIED:20220416T004806Z
UID:5950-1653764400-1653778800@cityofsails.org.nz
SUMMARY:May Dance with Band Foxtail Rumble
DESCRIPTION:Edgewater College \nDoors Open at 7pm – Foxtail Rumble start at 7.30pm – Night ends at 11pm \nDoor Charge:\nMembers $12.50 each (This applies to Current Members of any Rock n Roll Club – you must show your current card at the door)\, Non Members $15 each\, Juniors $7.50 each\n\nCASH ONLY AT THE DOOR
URL:https://cityofsails.org.nz/event/may-hop-2-2-2-3/
LOCATION:Edgewater College School Hall\, 32 Edgewater Drive\, Pakuranga\, Auckland\, 2010\, New Zealand
CATEGORIES:City of Sails Event
END:VEVENT
BEGIN:VEVENT
DTSTART;TZID=Pacific/Auckland:20220524T193000
DTEND;TZID=Pacific/Auckland:20220524T204500
DTSTAMP:20260421T082548
CREATED:20210411T053730Z
LAST-MODIFIED:20220416T003811Z
UID:5937-1653420600-1653425100@cityofsails.org.nz
SUMMARY:Club Night @ Fencible Lounge - $2 per person
DESCRIPTION:7.30pm to 8.45pm  – $2 per person \nLocation:      Fencible Lounge (Howick Library)\, 25 Uxbridge Rd\, Howick \nBring your water bottles and don’t forget your dancing shoes (flats\, not heels) \nPayment by Cash only accepted at the door
URL:https://cityofsails.org.nz/event/club-night-9-2-2-2-2-2-2-2-2-2-2-2-2-2-2-2-2-2-2-2-2-2-2-2-2-2-2-2-2-2-2-2-2-2-2-2-2/
LOCATION:Fencible Lounge (Howick Library) UXBRIDGE\, 25 Uxbridge Road\, Howick\, Auckland\, 2014\, New Zealand
CATEGORIES:City of Sails Event
END:VEVENT
BEGIN:VEVENT
DTSTART;TZID=Pacific/Auckland:20220524T190000
DTEND;TZID=Pacific/Auckland:20220524T193000
DTSTAMP:20260421T082548
CREATED:20210411T053645Z
LAST-MODIFIED:20220416T004517Z
UID:5946-1653418800-1653420600@cityofsails.org.nz
SUMMARY:Lessons @ Fencible Lounge - $5 per person
DESCRIPTION:Come and join us for Rock ‘n Roll Dance Lessons \n7pm to 7.30pm Tuesday Nights – $5 per person per session \nLocation:      Fencible Lounge (Howick Library)\, 25 Uxbridge Rd\, Howick \nFollowed by Club Night 7.30pm to 8.45pm \nBring your water bottles and don’t forget your dancing shoes (flats\, not heels) \nPayment by Cash only accepted at the door
URL:https://cityofsails.org.nz/event/lessons-2-2-3-2-2-2-2-2-2-2-2-2-2-2-2-2-2-2-2-2-2-2-2-2-2-2-2-2-2-2-2-2-2-2-2/
LOCATION:Fencible Lounge (Howick Library) UXBRIDGE\, 25 Uxbridge Road\, Howick\, Auckland\, 2014\, New Zealand
CATEGORIES:City of Sails Lessons
END:VEVENT
BEGIN:VEVENT
DTSTART;TZID=Pacific/Auckland:20220517T193000
DTEND;TZID=Pacific/Auckland:20220517T204500
DTSTAMP:20260421T082548
CREATED:20210411T053730Z
LAST-MODIFIED:20220416T003733Z
UID:5935-1652815800-1652820300@cityofsails.org.nz
SUMMARY:Club Night @ Fencible Lounge - $2 per person
DESCRIPTION:7.30pm to 8.45pm  – $2 per person \nLocation:      Fencible Lounge (Howick Library)\, 25 Uxbridge Rd\, Howick \nBring your water bottles and don’t forget your dancing shoes (flats\, not heels) \nPayment by Cash only accepted at the door
URL:https://cityofsails.org.nz/event/club-night-9-2-2-2-2-2-2-2-2-2-2-2-2-2-2-2-2-2-2-2-2-2-2-2-2-2-2-2-2-2-2-2-2-2-2-2/
LOCATION:Fencible Lounge (Howick Library) UXBRIDGE\, 25 Uxbridge Road\, Howick\, Auckland\, 2014\, New Zealand
CATEGORIES:City of Sails Event
END:VEVENT
BEGIN:VEVENT
DTSTART;TZID=Pacific/Auckland:20220517T190000
DTEND;TZID=Pacific/Auckland:20220517T193000
DTSTAMP:20260421T082548
CREATED:20210411T053645Z
LAST-MODIFIED:20220416T004419Z
UID:5944-1652814000-1652815800@cityofsails.org.nz
SUMMARY:Lessons @ Fencible Lounge - $5 per person
DESCRIPTION:Come and join us for Rock ‘n Roll Dance Lessons \n7pm to 7.30pm Tuesday Nights – $5 per person per session \nLocation:      Fencible Lounge (Howick Library)\, 25 Uxbridge Rd\, Howick \nFollowed by Club Night 7.30pm to 8.45pm \nBring your water bottles and don’t forget your dancing shoes (flats\, not heels) \nPayment by Cash only accepted at the door
URL:https://cityofsails.org.nz/event/lessons-2-2-3-2-2-2-2-2-2-2-2-2-2-2-2-2-2-2-2-2-2-2-2-2-2-2-2-2-2-2-2-2-2-2/
LOCATION:Fencible Lounge (Howick Library) UXBRIDGE\, 25 Uxbridge Road\, Howick\, Auckland\, 2014\, New Zealand
CATEGORIES:City of Sails Lessons
END:VEVENT
BEGIN:VEVENT
DTSTART;TZID=Pacific/Auckland:20220515T150000
DTEND;TZID=Pacific/Auckland:20220515T170000
DTSTAMP:20260421T082548
CREATED:20220402T060915Z
LAST-MODIFIED:20220402T060946Z
UID:5918-1652626800-1652634000@cityofsails.org.nz
SUMMARY:Annual General Meeting of the City of Sails Rock ‘n’ Roll Club Inc.
DESCRIPTION:Please be advised that the Annual General Meeting of the City of Sails Rock ‘n’ Roll Club Inc. will be held on Sunday 15 May 2022\, from 3pm-5pm \n  \nThe meeting venue will be: \nTrinity Scout Hall (Behind the Church) \n474 Pakuranga Road \nPakuranga \nAll voting at the Annual General Meeting shall include proxy and posted votes from members; however\, a quorum is needed to convene the meeting\, so please attend. \nAny remits and nominations are to be in the hands of the Secretary by 24 April 2021 at the latest. \nPlease send either via email to secretary@cityofsails.org.nz or alternatively by post to PO Box 82 242\, Highland Park\, Auckland 2143.
URL:https://cityofsails.org.nz/event/annual-general-meeting-of-the-city-of-sails-rock-n-roll-club-inc/
LOCATION:Trinity Scout Hall\, 474 Pakuranga Highway\, Auckland
CATEGORIES:City of Sails Event
END:VEVENT
BEGIN:VEVENT
DTSTART;TZID=Pacific/Auckland:20220510T193000
DTEND;TZID=Pacific/Auckland:20220510T204500
DTSTAMP:20260421T082548
CREATED:20210411T053730Z
LAST-MODIFIED:20220416T003512Z
UID:5933-1652211000-1652215500@cityofsails.org.nz
SUMMARY:Club Night @ Fencible Lounge - $2 per person
DESCRIPTION:7.30pm to 8.45pm  – $2 per person \nLocation:      Fencible Lounge (Howick Library)\, 25 Uxbridge Rd\, Howick \nBring your water bottles and don’t forget your dancing shoes (flats\, not heels) \nPayment by Cash only accepted at the door
URL:https://cityofsails.org.nz/event/club-night-9-2-2-2-2-2-2-2-2-2-2-2-2-2-2-2-2-2-2-2-2-2-2-2-2-2-2-2-2-2-2-2-2-2-2/
LOCATION:Fencible Lounge (Howick Library) UXBRIDGE\, 25 Uxbridge Road\, Howick\, Auckland\, 2014\, New Zealand
CATEGORIES:City of Sails Event
END:VEVENT
BEGIN:VEVENT
DTSTART;TZID=Pacific/Auckland:20220510T190000
DTEND;TZID=Pacific/Auckland:20220510T193000
DTSTAMP:20260421T082548
CREATED:20210411T053645Z
LAST-MODIFIED:20220416T004340Z
UID:5942-1652209200-1652211000@cityofsails.org.nz
SUMMARY:Lessons @ Fencible Lounge - $5 per person
DESCRIPTION:Come and join us for Rock ‘n Roll Dance Lessons \n7pm to 7.30pm Tuesday Nights – $5 per person per session \nLocation:      Fencible Lounge (Howick Library)\, 25 Uxbridge Rd\, Howick \nFollowed by Club Night 7.30pm to 8.45pm \nBring your water bottles and don’t forget your dancing shoes (flats\, not heels) \nPayment by Cash only accepted at the door
URL:https://cityofsails.org.nz/event/lessons-2-2-3-2-2-2-2-2-2-2-2-2-2-2-2-2-2-2-2-2-2-2-2-2-2-2-2-2-2-2-2-2-2/
LOCATION:Fencible Lounge (Howick Library) UXBRIDGE\, 25 Uxbridge Road\, Howick\, Auckland\, 2014\, New Zealand
CATEGORIES:City of Sails Lessons
END:VEVENT
BEGIN:VEVENT
DTSTART;TZID=Pacific/Auckland:20220503T193000
DTEND;TZID=Pacific/Auckland:20220503T204500
DTSTAMP:20260421T082548
CREATED:20210411T053730Z
LAST-MODIFIED:20220416T003228Z
UID:5931-1651606200-1651610700@cityofsails.org.nz
SUMMARY:Club Night @ Fencible Lounge - $2 per person
DESCRIPTION:7.30pm to 8.45pm  – $2 per person \nLocation:      Fencible Lounge (Howick Library)\, 25 Uxbridge Rd\, Howick \nBring your water bottles and don’t forget your dancing shoes (flats\, not heels) \nPayment by Cash only accepted at the door
URL:https://cityofsails.org.nz/event/club-night-9-2-2-2-2-2-2-2-2-2-2-2-2-2-2-2-2-2-2-2-2-2-2-2-2-2-2-2-2-2-2-2-2-2/
LOCATION:Fencible Lounge (Howick Library) UXBRIDGE\, 25 Uxbridge Road\, Howick\, Auckland\, 2014\, New Zealand
CATEGORIES:City of Sails Event
END:VEVENT
BEGIN:VEVENT
DTSTART;TZID=Pacific/Auckland:20220503T190000
DTEND;TZID=Pacific/Auckland:20220503T193000
DTSTAMP:20260421T082548
CREATED:20210411T053645Z
LAST-MODIFIED:20220416T004258Z
UID:5930-1651604400-1651606200@cityofsails.org.nz
SUMMARY:Lessons @ Fencible Lounge - $5 per person
DESCRIPTION:Come and join us for Rock ‘n Roll Dance Lessons \n7pm to 7.30pm Tuesday Nights – $5 per person per session \nLocation:      Fencible Lounge (Howick Library)\, 25 Uxbridge Rd\, Howick \nFollowed by Club Night 7.30pm to 8.45pm \nBring your water bottles and don’t forget your dancing shoes (flats\, not heels) \nPayment by Cash only accepted at the door
URL:https://cityofsails.org.nz/event/lessons-2-2-3-2-2-2-2-2-2-2-2-2-2-2-2-2-2-2-2-2-2-2-2-2-2-2-2-2-2-2-2-2/
LOCATION:Fencible Lounge (Howick Library) UXBRIDGE\, 25 Uxbridge Road\, Howick\, Auckland\, 2014\, New Zealand
CATEGORIES:City of Sails Lessons
END:VEVENT
BEGIN:VEVENT
DTSTART;TZID=Pacific/Auckland:20220426T190000
DTEND;TZID=Pacific/Auckland:20220426T204500
DTSTAMP:20260421T082548
CREATED:20210411T053730Z
LAST-MODIFIED:20220403T033919Z
UID:5927-1650999600-1651005900@cityofsails.org.nz
SUMMARY:Club Night @ Fencible Lounge - $2 per person
DESCRIPTION:7.00pm to 8.45pm  – $2 per person \nLocation:      Fencible Lounge (Howick Library)\, 25 Uxbridge Rd\, Howick \nBring your water bottles and don’t forget your dancing shoes (flats\, not heels) \nPayment by Cash only accepted at the door
URL:https://cityofsails.org.nz/event/club-night-9-2-2-2-2-2-2-2-2-2-2-2-2-2-2-2-2-2-2-2-2-2-2-2-2-2-2-2-2-2-2-2-2/
LOCATION:Fencible Lounge (Howick Library) UXBRIDGE\, 25 Uxbridge Road\, Howick\, Auckland\, 2014\, New Zealand
CATEGORIES:City of Sails Event
END:VEVENT
BEGIN:VEVENT
DTSTART;TZID=Pacific/Auckland:20220419T190000
DTEND;TZID=Pacific/Auckland:20220419T204500
DTSTAMP:20260421T082548
CREATED:20210411T053730Z
LAST-MODIFIED:20220403T033849Z
UID:5925-1650394800-1650401100@cityofsails.org.nz
SUMMARY:Club Night @ Fencible Lounge - $2 per person
DESCRIPTION:7.00pm to 8.45pm  – $2 per person \nLocation:      Fencible Lounge (Howick Library)\, 25 Uxbridge Rd\, Howick \nBring your water bottles and don’t forget your dancing shoes (flats\, not heels) \nPayment by Cash only accepted at the door
URL:https://cityofsails.org.nz/event/club-night-9-2-2-2-2-2-2-2-2-2-2-2-2-2-2-2-2-2-2-2-2-2-2-2-2-2-2-2-2-2-2-2/
LOCATION:Fencible Lounge (Howick Library) UXBRIDGE\, 25 Uxbridge Road\, Howick\, Auckland\, 2014\, New Zealand
CATEGORIES:City of Sails Event
END:VEVENT
BEGIN:VEVENT
DTSTART;TZID=Pacific/Auckland:20220412T190000
DTEND;TZID=Pacific/Auckland:20220412T204500
DTSTAMP:20260421T082548
CREATED:20210411T053730Z
LAST-MODIFIED:20220403T033737Z
UID:5923-1649790000-1649796300@cityofsails.org.nz
SUMMARY:Club Night @ Fencible Lounge - $2 per person
DESCRIPTION:7.00pm to 8.45pm  – $2 per person \nLocation:      Fencible Lounge (Howick Library)\, 25 Uxbridge Rd\, Howick \nBring your water bottles and don’t forget your dancing shoes (flats\, not heels) \nPayment by Cash only accepted at the door
URL:https://cityofsails.org.nz/event/club-night-9-2-2-2-2-2-2-2-2-2-2-2-2-2-2-2-2-2-2-2-2-2-2-2-2-2-2-2-2-2-2/
LOCATION:Fencible Lounge (Howick Library) UXBRIDGE\, 25 Uxbridge Road\, Howick\, Auckland\, 2014\, New Zealand
CATEGORIES:City of Sails Event
END:VEVENT
BEGIN:VEVENT
DTSTART;TZID=Pacific/Auckland:20220405T190000
DTEND;TZID=Pacific/Auckland:20220405T204500
DTSTAMP:20260421T082548
CREATED:20210411T053730Z
LAST-MODIFIED:20220329T220253Z
UID:5915-1649185200-1649191500@cityofsails.org.nz
SUMMARY:Club Night @ Fencible Lounge - $2 per person
DESCRIPTION:7.00pm to 8.45pm  – $2 per person \nLocation:      Fencible Lounge (Howick Library)\, 25 Uxbridge Rd\, Howick \nBring your water bottles and don’t forget your dancing shoes (flats\, not heels) \nPayment by Cash only accepted at the door
URL:https://cityofsails.org.nz/event/club-night-9-2-2-2-2-2-2-2-2-2-2-2-2-2-2-2-2-2-2-2-2-2-2-2-2-2-2-2-2-2/
LOCATION:Fencible Lounge (Howick Library) UXBRIDGE\, 25 Uxbridge Road\, Howick\, Auckland\, 2014\, New Zealand
CATEGORIES:City of Sails Event
END:VEVENT
BEGIN:VEVENT
DTSTART;TZID=Pacific/Auckland:20220123T150000
DTEND;TZID=Pacific/Auckland:20220123T170000
DTSTAMP:20260421T082548
CREATED:20220114T025904Z
LAST-MODIFIED:20220114T025904Z
UID:5894-1642950000-1642957200@cityofsails.org.nz
SUMMARY:Welcome Back January BBQ
DESCRIPTION:January2022Event \n  \nYou are invited…\nCity of Sails Rock n Roll Revival Club\n\nWelcome Back January BBQ\n \n3pm Sunday 23rd January 2022\n\nVENUE:\nCockle Bay Beach\, Howick\n\n \nSausage sizzle will be provided by the committee.\n \nBYO Extras\n\nPlease make provision to take your own rubbish home\, Thanks.\n\nAs we will be outdoors\, please remember your sun protection and any other items you would normally take to the beach to enjoy the outdoors.\n\n\nPlease RSVP by 7pm Monday 17th January\, so we can organise catering.\nClick Here to RSVP\n\nNOTE: If numbers are too low\, this might be cancelled.
URL:https://cityofsails.org.nz/event/welcome-back-january-bbq/
END:VEVENT
BEGIN:VEVENT
DTSTART;TZID=Pacific/Auckland:20211214T193000
DTEND;TZID=Pacific/Auckland:20211214T204500
DTSTAMP:20260421T082548
CREATED:20210411T053730Z
LAST-MODIFIED:20211028T215109Z
UID:3613-1639510200-1639514700@cityofsails.org.nz
SUMMARY:Covid Cancelled - Club Night @ Fencible Lounge - $2 per person
DESCRIPTION:7.30pm to 8.45pm  – $2 per person \nLocation:      Fencible Lounge (Howick Library)\, 25 Uxbridge Rd\, Howick \nBring your water bottles and don’t forget your dancing shoes (flats\, not heels) \nPayment by Cash only accepted at the door
URL:https://cityofsails.org.nz/event/club-night-9-2-2-2-2-2-2-2-2-2-2-2-2-2-2-2-2-2-2-2-2-2-2-2-2-2-2-2-2/
LOCATION:Fencible Lounge (Howick Library) UXBRIDGE\, 25 Uxbridge Road\, Howick\, Auckland\, 2014\, New Zealand
CATEGORIES:City of Sails Event
END:VEVENT
BEGIN:VEVENT
DTSTART;TZID=Pacific/Auckland:20211214T190000
DTEND;TZID=Pacific/Auckland:20211214T193000
DTSTAMP:20260421T082548
CREATED:20210411T053645Z
LAST-MODIFIED:20211028T215033Z
UID:3614-1639508400-1639510200@cityofsails.org.nz
SUMMARY:Covid Cancelled - Lessons @ Fencible Lounge - $5 per person
DESCRIPTION:Come and join us for Rock ‘n Roll Dance Lessons \n7pm to 7.30pm Tuesday Nights – $5 per person per session \nLocation:      Fencible Lounge (Howick Library)\, 25 Uxbridge Rd\, Howick \nFollowed by Club Night 7.30pm to 8.45pm \nBring your water bottles and don’t forget your dancing shoes (flats\, not heels) \nPayment by Cash only accepted at the door
URL:https://cityofsails.org.nz/event/lessons-2-2-3-2-2-2-2-2-2-2-2-2-2-2-2-2-2-2-2-2-2-2-2-2-2-2-2-2-2-2-2/
LOCATION:Fencible Lounge (Howick Library) UXBRIDGE\, 25 Uxbridge Road\, Howick\, Auckland\, 2014\, New Zealand
CATEGORIES:City of Sails Lessons
END:VEVENT
BEGIN:VEVENT
DTSTART;TZID=Pacific/Auckland:20211207T193000
DTEND;TZID=Pacific/Auckland:20211207T204500
DTSTAMP:20260421T082548
CREATED:20210411T053730Z
LAST-MODIFIED:20211028T215053Z
UID:3609-1638905400-1638909900@cityofsails.org.nz
SUMMARY:Covid Cancelled - Club Night @ Fencible Lounge - $2 per person
DESCRIPTION:7.30pm to 8.45pm  – $2 per person \nLocation:      Fencible Lounge (Howick Library)\, 25 Uxbridge Rd\, Howick \nBring your water bottles and don’t forget your dancing shoes (flats\, not heels) \nPayment by Cash only accepted at the door
URL:https://cityofsails.org.nz/event/club-night-9-2-2-2-2-2-2-2-2-2-2-2-2-2-2-2-2-2-2-2-2-2-2-2-2-2-2-2/
LOCATION:Fencible Lounge (Howick Library) UXBRIDGE\, 25 Uxbridge Road\, Howick\, Auckland\, 2014\, New Zealand
CATEGORIES:City of Sails Event
END:VEVENT
BEGIN:VEVENT
DTSTART;TZID=Pacific/Auckland:20211207T190000
DTEND;TZID=Pacific/Auckland:20211207T193000
DTSTAMP:20260421T082548
CREATED:20210411T053645Z
LAST-MODIFIED:20211028T215133Z
UID:3610-1638903600-1638905400@cityofsails.org.nz
SUMMARY:Covid Cancelled - Lessons @ Fencible Lounge - $5 per person
DESCRIPTION:Come and join us for Rock ‘n Roll Dance Lessons \n7pm to 7.30pm Tuesday Nights – $5 per person per session \nLocation:      Fencible Lounge (Howick Library)\, 25 Uxbridge Rd\, Howick \nFollowed by Club Night 7.30pm to 8.45pm \nBring your water bottles and don’t forget your dancing shoes (flats\, not heels) \nPayment by Cash only accepted at the door
URL:https://cityofsails.org.nz/event/lessons-2-2-3-2-2-2-2-2-2-2-2-2-2-2-2-2-2-2-2-2-2-2-2-2-2-2-2-2-2-2/
LOCATION:Fencible Lounge (Howick Library) UXBRIDGE\, 25 Uxbridge Road\, Howick\, Auckland\, 2014\, New Zealand
CATEGORIES:City of Sails Lessons
END:VEVENT
BEGIN:VEVENT
DTSTART;TZID=Pacific/Auckland:20211204T120000
DTEND;TZID=Pacific/Auckland:20211204T120000
DTSTAMP:20260421T082548
CREATED:20210428T211222Z
LAST-MODIFIED:20211028T214125Z
UID:3660-1638619200-1638619200@cityofsails.org.nz
SUMMARY:POSTPONED - Junior Club Champs 2021
DESCRIPTION:JuniorClubChamps2021 \n\n\n\n\nDoor admission charge applies to all Competitors and Spectators\n\n\n\n\nAdults $7.50 and Juniors $5.00 – CASH ONLY AT THE DOOR\nDOOR OPENS AT MIDDAY\n\n\n\n\n\n\n\n\nVenue: Edgewater College\, 32 Edgewater Drive\, Pakuranga
URL:https://cityofsails.org.nz/event/may-hop-2-2-2-2-2-2-2/
LOCATION:Edgewater College School Hall\, 32 Edgewater Drive\, Pakuranga\, Auckland\, 2010\, New Zealand
CATEGORIES:City of Sails Event
END:VEVENT
BEGIN:VEVENT
DTSTART;TZID=Pacific/Auckland:20211130T193000
DTEND;TZID=Pacific/Auckland:20211130T204500
DTSTAMP:20260421T082548
CREATED:20210411T053730Z
LAST-MODIFIED:20211028T214223Z
UID:3602-1638300600-1638305100@cityofsails.org.nz
SUMMARY:Covid Cancelled - Club Night @ Fencible Lounge - $2 per person
DESCRIPTION:7.30pm to 8.45pm  – $2 per person \nLocation:      Fencible Lounge (Howick Library)\, 25 Uxbridge Rd\, Howick \nBring your water bottles and don’t forget your dancing shoes (flats\, not heels) \nPayment by Cash only accepted at the door
URL:https://cityofsails.org.nz/event/club-night-9-2-2-2-2-2-2-2-2-2-2-2-2-2-2-2-2-2-2-2-2-2-2-2-2-2-2/
LOCATION:Fencible Lounge (Howick Library) UXBRIDGE\, 25 Uxbridge Road\, Howick\, Auckland\, 2014\, New Zealand
CATEGORIES:City of Sails Event
END:VEVENT
BEGIN:VEVENT
DTSTART;TZID=Pacific/Auckland:20211130T190000
DTEND;TZID=Pacific/Auckland:20211130T193000
DTSTAMP:20260421T082548
CREATED:20210411T053645Z
LAST-MODIFIED:20211028T214251Z
UID:3603-1638298800-1638300600@cityofsails.org.nz
SUMMARY:Covid Cancelled - Lessons @ Fencible Lounge - $5 per person
DESCRIPTION:Come and join us for Rock ‘n Roll Dance Lessons \n7pm to 7.30pm Tuesday Nights – $5 per person per session \nLocation:      Fencible Lounge (Howick Library)\, 25 Uxbridge Rd\, Howick \nFollowed by Club Night 7.30pm to 8.45pm \nBring your water bottles and don’t forget your dancing shoes (flats\, not heels) \nPayment by Cash only accepted at the door
URL:https://cityofsails.org.nz/event/lessons-2-2-3-2-2-2-2-2-2-2-2-2-2-2-2-2-2-2-2-2-2-2-2-2-2-2-2-2-2/
LOCATION:Fencible Lounge (Howick Library) UXBRIDGE\, 25 Uxbridge Road\, Howick\, Auckland\, 2014\, New Zealand
CATEGORIES:City of Sails Lessons
END:VEVENT
BEGIN:VEVENT
DTSTART;TZID=Pacific/Auckland:20211127T190000
DTEND;TZID=Pacific/Auckland:20211127T230000
DTSTAMP:20260421T082548
CREATED:20210428T211222Z
LAST-MODIFIED:20211028T214200Z
UID:3606-1638039600-1638054000@cityofsails.org.nz
SUMMARY:Covid Cancelled - Christmas Dance - with The Brendan Ham Band
DESCRIPTION:Edgewater College \nDoor Charge: Members $12.50 each (This applies to Current Members of any Rock n Roll Club – you must show your current card at the door)\, Non Members $15 each\, Juniors $7.50 each\n\nCASH ONLY AT THE DOOR
URL:https://cityofsails.org.nz/event/may-hop-2-2-2-2-2/
LOCATION:Edgewater College School Hall\, 32 Edgewater Drive\, Pakuranga\, Auckland\, 2010\, New Zealand
CATEGORIES:City of Sails Event
END:VEVENT
BEGIN:VEVENT
DTSTART;TZID=Pacific/Auckland:20211123T193000
DTEND;TZID=Pacific/Auckland:20211123T204500
DTSTAMP:20260421T082548
CREATED:20210411T053730Z
LAST-MODIFIED:20211028T214341Z
UID:3599-1637695800-1637700300@cityofsails.org.nz
SUMMARY:Covid Cancelled - Club Night @ Fencible Lounge - $2 per person
DESCRIPTION:7.30pm to 8.45pm  – $2 per person \nLocation:      Fencible Lounge (Howick Library)\, 25 Uxbridge Rd\, Howick \nBring your water bottles and don’t forget your dancing shoes (flats\, not heels) \nPayment by Cash only accepted at the door
URL:https://cityofsails.org.nz/event/club-night-9-2-2-2-2-2-2-2-2-2-2-2-2-2-2-2-2-2-2-2-2-2-2-2-2-2/
LOCATION:Fencible Lounge (Howick Library) UXBRIDGE\, 25 Uxbridge Road\, Howick\, Auckland\, 2014\, New Zealand
CATEGORIES:City of Sails Event
END:VEVENT
END:VCALENDAR