BEGIN:VCALENDAR
VERSION:2.0
PRODID:-//City of Sails Rock &#039;n&#039; Roll Revival Club - ECPv6.15.20//NONSGML v1.0//EN
CALSCALE:GREGORIAN
METHOD:PUBLISH
X-WR-CALNAME:City of Sails Rock &#039;n&#039; Roll Revival Club
X-ORIGINAL-URL:https://cityofsails.org.nz
X-WR-CALDESC:Events for City of Sails Rock &#039;n&#039; Roll Revival Club
REFRESH-INTERVAL;VALUE=DURATION:PT1H
X-Robots-Tag:noindex
X-PUBLISHED-TTL:PT1H
BEGIN:VTIMEZONE
TZID:Pacific/Auckland
BEGIN:STANDARD
TZOFFSETFROM:+1300
TZOFFSETTO:+1200
TZNAME:NZST
DTSTART:20210403T140000
END:STANDARD
BEGIN:DAYLIGHT
TZOFFSETFROM:+1200
TZOFFSETTO:+1300
TZNAME:NZDT
DTSTART:20210925T140000
END:DAYLIGHT
BEGIN:STANDARD
TZOFFSETFROM:+1300
TZOFFSETTO:+1200
TZNAME:NZST
DTSTART:20220402T140000
END:STANDARD
BEGIN:DAYLIGHT
TZOFFSETFROM:+1200
TZOFFSETTO:+1300
TZNAME:NZDT
DTSTART:20220924T140000
END:DAYLIGHT
BEGIN:STANDARD
TZOFFSETFROM:+1300
TZOFFSETTO:+1200
TZNAME:NZST
DTSTART:20230401T140000
END:STANDARD
BEGIN:DAYLIGHT
TZOFFSETFROM:+1200
TZOFFSETTO:+1300
TZNAME:NZDT
DTSTART:20230923T140000
END:DAYLIGHT
END:VTIMEZONE
BEGIN:VEVENT
DTSTART;TZID=Pacific/Auckland:20220823T190000
DTEND;TZID=Pacific/Auckland:20220823T193000
DTSTAMP:20260421T032517
CREATED:20210411T053645Z
LAST-MODIFIED:20220701T050846Z
UID:6062-1661281200-1661283000@cityofsails.org.nz
SUMMARY:Lessons @ Fencible Lounge - $5 per person
DESCRIPTION:Come and join us for Rock ‘n Roll Dance Lessons \n7pm to 7.30pm Tuesday Nights – $5 per person per session \nLocation:      Fencible Lounge (Howick Library)\, 25 Uxbridge Rd\, Howick \nFollowed by Club Night 7.30pm to 8.45pm \nBring your water bottles and don’t forget your dancing shoes (flats\, not heels) \nPayment by Cash only accepted at the door
URL:https://cityofsails.org.nz/event/lessons-2-2-3-2-2-2-2-2-2-2-2-2-2-2-2-2-2-2-2-2-2-2-2-2-2-2-2-2-2-2-2-2-2-2-2-2-2-2-2-2-2-2-2-2-2-2-2-2/
LOCATION:Fencible Lounge (Howick Library) UXBRIDGE\, 25 Uxbridge Road\, Howick\, Auckland\, 2014\, New Zealand
CATEGORIES:City of Sails Lessons
END:VEVENT
BEGIN:VEVENT
DTSTART;TZID=Pacific/Auckland:20220816T193000
DTEND;TZID=Pacific/Auckland:20220816T204500
DTSTAMP:20260421T032517
CREATED:20210411T053730Z
LAST-MODIFIED:20220701T051112Z
UID:6070-1660678200-1660682700@cityofsails.org.nz
SUMMARY:Club Night @ Fencible Lounge - $2 per person
DESCRIPTION:7.30pm to 8.45pm  – $2 per person \nLocation:      Fencible Lounge (Howick Library)\, 25 Uxbridge Rd\, Howick \nBring your water bottles and don’t forget your dancing shoes (flats\, not heels) \nPayment by Cash only accepted at the door
URL:https://cityofsails.org.nz/event/club-night-9-2-2-2-2-2-2-2-2-2-2-2-2-2-2-2-2-2-2-2-2-2-2-2-2-2-2-2-2-2-2-2-2-2-2-2-2-2-2-2-2-2-2-2-2-2-2-2-2/
LOCATION:Fencible Lounge (Howick Library) UXBRIDGE\, 25 Uxbridge Road\, Howick\, Auckland\, 2014\, New Zealand
CATEGORIES:City of Sails Event
END:VEVENT
BEGIN:VEVENT
DTSTART;TZID=Pacific/Auckland:20220816T190000
DTEND;TZID=Pacific/Auckland:20220816T193000
DTSTAMP:20260421T032517
CREATED:20210411T053645Z
LAST-MODIFIED:20220701T050820Z
UID:6060-1660676400-1660678200@cityofsails.org.nz
SUMMARY:Lessons @ Fencible Lounge - $5 per person
DESCRIPTION:Come and join us for Rock ‘n Roll Dance Lessons \n7pm to 7.30pm Tuesday Nights – $5 per person per session \nLocation:      Fencible Lounge (Howick Library)\, 25 Uxbridge Rd\, Howick \nFollowed by Club Night 7.30pm to 8.45pm \nBring your water bottles and don’t forget your dancing shoes (flats\, not heels) \nPayment by Cash only accepted at the door
URL:https://cityofsails.org.nz/event/lessons-2-2-3-2-2-2-2-2-2-2-2-2-2-2-2-2-2-2-2-2-2-2-2-2-2-2-2-2-2-2-2-2-2-2-2-2-2-2-2-2-2-2-2-2-2-2-2/
LOCATION:Fencible Lounge (Howick Library) UXBRIDGE\, 25 Uxbridge Road\, Howick\, Auckland\, 2014\, New Zealand
CATEGORIES:City of Sails Lessons
END:VEVENT
BEGIN:VEVENT
DTSTART;TZID=Pacific/Auckland:20220812T181500
DTEND;TZID=Pacific/Auckland:20220812T201500
DTSTAMP:20260421T032517
CREATED:20210504T021056Z
LAST-MODIFIED:20220526T023642Z
UID:5978-1660328100-1660335300@cityofsails.org.nz
SUMMARY:Family Night at Pakuranga Community Hall
DESCRIPTION:Rock n Roll Music and Games for the family \nBring your drinks and snacks – don’t forget your dancing shoes \nAdults $5\nChildren $2\nor Family $10 \n 
URL:https://cityofsails.org.nz/event/family-night-4-2-2-2-2-2-2-2/
LOCATION:Fencible Lounge (Howick Library) UXBRIDGE\, 25 Uxbridge Road\, Howick\, Auckland\, 2014\, New Zealand
CATEGORIES:City of Sails Event,Family Night
END:VEVENT
BEGIN:VEVENT
DTSTART;TZID=Pacific/Auckland:20220809T193000
DTEND;TZID=Pacific/Auckland:20220809T204500
DTSTAMP:20260421T032517
CREATED:20210411T053730Z
LAST-MODIFIED:20220701T051042Z
UID:6068-1660073400-1660077900@cityofsails.org.nz
SUMMARY:Club Night @ Fencible Lounge - $2 per person
DESCRIPTION:7.30pm to 8.45pm  – $2 per person \nLocation:      Fencible Lounge (Howick Library)\, 25 Uxbridge Rd\, Howick \nBring your water bottles and don’t forget your dancing shoes (flats\, not heels) \nPayment by Cash only accepted at the door
URL:https://cityofsails.org.nz/event/club-night-9-2-2-2-2-2-2-2-2-2-2-2-2-2-2-2-2-2-2-2-2-2-2-2-2-2-2-2-2-2-2-2-2-2-2-2-2-2-2-2-2-2-2-2-2-2-2-2/
LOCATION:Fencible Lounge (Howick Library) UXBRIDGE\, 25 Uxbridge Road\, Howick\, Auckland\, 2014\, New Zealand
CATEGORIES:City of Sails Event
END:VEVENT
BEGIN:VEVENT
DTSTART;TZID=Pacific/Auckland:20220809T190000
DTEND;TZID=Pacific/Auckland:20220809T193000
DTSTAMP:20260421T032517
CREATED:20210411T053645Z
LAST-MODIFIED:20220701T050754Z
UID:6058-1660071600-1660073400@cityofsails.org.nz
SUMMARY:Lessons @ Fencible Lounge - $5 per person
DESCRIPTION:Come and join us for Rock ‘n Roll Dance Lessons \n7pm to 7.30pm Tuesday Nights – $5 per person per session \nLocation:      Fencible Lounge (Howick Library)\, 25 Uxbridge Rd\, Howick \nFollowed by Club Night 7.30pm to 8.45pm \nBring your water bottles and don’t forget your dancing shoes (flats\, not heels) \nPayment by Cash only accepted at the door
URL:https://cityofsails.org.nz/event/lessons-2-2-3-2-2-2-2-2-2-2-2-2-2-2-2-2-2-2-2-2-2-2-2-2-2-2-2-2-2-2-2-2-2-2-2-2-2-2-2-2-2-2-2-2-2-2/
LOCATION:Fencible Lounge (Howick Library) UXBRIDGE\, 25 Uxbridge Road\, Howick\, Auckland\, 2014\, New Zealand
CATEGORIES:City of Sails Lessons
END:VEVENT
BEGIN:VEVENT
DTSTART;TZID=Pacific/Auckland:20220802T193000
DTEND;TZID=Pacific/Auckland:20220802T204500
DTSTAMP:20260421T032517
CREATED:20210411T053730Z
LAST-MODIFIED:20220701T051008Z
UID:6066-1659468600-1659473100@cityofsails.org.nz
SUMMARY:Club Night @ Fencible Lounge - $2 per person
DESCRIPTION:7.30pm to 8.45pm  – $2 per person \nLocation:      Fencible Lounge (Howick Library)\, 25 Uxbridge Rd\, Howick \nBring your water bottles and don’t forget your dancing shoes (flats\, not heels) \nPayment by Cash only accepted at the door
URL:https://cityofsails.org.nz/event/club-night-9-2-2-2-2-2-2-2-2-2-2-2-2-2-2-2-2-2-2-2-2-2-2-2-2-2-2-2-2-2-2-2-2-2-2-2-2-2-2-2-2-2-2-2-2-2-2/
LOCATION:Fencible Lounge (Howick Library) UXBRIDGE\, 25 Uxbridge Road\, Howick\, Auckland\, 2014\, New Zealand
CATEGORIES:City of Sails Event
END:VEVENT
BEGIN:VEVENT
DTSTART;TZID=Pacific/Auckland:20220802T190000
DTEND;TZID=Pacific/Auckland:20220802T193000
DTSTAMP:20260421T032517
CREATED:20210411T053645Z
LAST-MODIFIED:20220701T050723Z
UID:6056-1659466800-1659468600@cityofsails.org.nz
SUMMARY:Lessons @ Fencible Lounge - $5 per person
DESCRIPTION:Come and join us for Rock ‘n Roll Dance Lessons \n7pm to 7.30pm Tuesday Nights – $5 per person per session \nLocation:      Fencible Lounge (Howick Library)\, 25 Uxbridge Rd\, Howick \nFollowed by Club Night 7.30pm to 8.45pm \nBring your water bottles and don’t forget your dancing shoes (flats\, not heels) \nPayment by Cash only accepted at the door
URL:https://cityofsails.org.nz/event/lessons-2-2-3-2-2-2-2-2-2-2-2-2-2-2-2-2-2-2-2-2-2-2-2-2-2-2-2-2-2-2-2-2-2-2-2-2-2-2-2-2-2-2-2-2-2/
LOCATION:Fencible Lounge (Howick Library) UXBRIDGE\, 25 Uxbridge Road\, Howick\, Auckland\, 2014\, New Zealand
CATEGORIES:City of Sails Lessons
END:VEVENT
BEGIN:VEVENT
DTSTART;TZID=Pacific/Auckland:20220730T190000
DTEND;TZID=Pacific/Auckland:20220730T230000
DTSTAMP:20260421T032517
CREATED:20210428T211222Z
LAST-MODIFIED:20220615T061503Z
UID:6021-1659207600-1659222000@cityofsails.org.nz
SUMMARY:July Dance with Brendon Ham Band
DESCRIPTION:Edgewater College \nDoors Open at 7pm – Foxtail Rumble start at 7.30pm – Night ends at 11pm \nDoor Charge:\nMembers $12.50 each (This applies to Current Members of any Rock n Roll Club – you must show your current card at the door)\, Non Members $15 each\, Juniors $7.50 each\n\nCASH ONLY AT THE DOOR\n\nJuly2022DanceFlyer
URL:https://cityofsails.org.nz/event/may-hop-2-2-2-3-2-2/
LOCATION:Edgewater College School Hall\, 32 Edgewater Drive\, Pakuranga\, Auckland\, 2010\, New Zealand
CATEGORIES:City of Sails Event
END:VEVENT
BEGIN:VEVENT
DTSTART;TZID=Pacific/Auckland:20220726T193000
DTEND;TZID=Pacific/Auckland:20220726T204500
DTSTAMP:20260421T032517
CREATED:20210411T053730Z
LAST-MODIFIED:20220615T062406Z
UID:6038-1658863800-1658868300@cityofsails.org.nz
SUMMARY:Club Night @ Fencible Lounge - $2 per person
DESCRIPTION:7.30pm to 8.45pm  – $2 per person \nLocation:      Fencible Lounge (Howick Library)\, 25 Uxbridge Rd\, Howick \nBring your water bottles and don’t forget your dancing shoes (flats\, not heels) \nPayment by Cash only accepted at the door
URL:https://cityofsails.org.nz/event/club-night-9-2-2-2-2-2-2-2-2-2-2-2-2-2-2-2-2-2-2-2-2-2-2-2-2-2-2-2-2-2-2-2-2-2-2-2-2-2-2-2-2-2-2-2-2-2/
LOCATION:Fencible Lounge (Howick Library) UXBRIDGE\, 25 Uxbridge Road\, Howick\, Auckland\, 2014\, New Zealand
CATEGORIES:City of Sails Event
END:VEVENT
BEGIN:VEVENT
DTSTART;TZID=Pacific/Auckland:20220726T190000
DTEND;TZID=Pacific/Auckland:20220726T193000
DTSTAMP:20260421T032517
CREATED:20210411T053645Z
LAST-MODIFIED:20220615T062441Z
UID:6040-1658862000-1658863800@cityofsails.org.nz
SUMMARY:Lessons @ Fencible Lounge - $5 per person
DESCRIPTION:Come and join us for Rock ‘n Roll Dance Lessons \n7pm to 7.30pm Tuesday Nights – $5 per person per session \nLocation:      Fencible Lounge (Howick Library)\, 25 Uxbridge Rd\, Howick \nFollowed by Club Night 7.30pm to 8.45pm \nBring your water bottles and don’t forget your dancing shoes (flats\, not heels) \nPayment by Cash only accepted at the door
URL:https://cityofsails.org.nz/event/lessons-2-2-3-2-2-2-2-2-2-2-2-2-2-2-2-2-2-2-2-2-2-2-2-2-2-2-2-2-2-2-2-2-2-2-2-2-2-2-2-2-2-2-2-2/
LOCATION:Fencible Lounge (Howick Library) UXBRIDGE\, 25 Uxbridge Road\, Howick\, Auckland\, 2014\, New Zealand
CATEGORIES:City of Sails Lessons
END:VEVENT
BEGIN:VEVENT
DTSTART;TZID=Pacific/Auckland:20220719T193000
DTEND;TZID=Pacific/Auckland:20220719T204500
DTSTAMP:20260421T032517
CREATED:20210411T053730Z
LAST-MODIFIED:20220615T062306Z
UID:6034-1658259000-1658263500@cityofsails.org.nz
SUMMARY:Club Night @ Fencible Lounge - $2 per person
DESCRIPTION:7.30pm to 8.45pm  – $2 per person \nLocation:      Fencible Lounge (Howick Library)\, 25 Uxbridge Rd\, Howick \nBring your water bottles and don’t forget your dancing shoes (flats\, not heels) \nPayment by Cash only accepted at the door
URL:https://cityofsails.org.nz/event/club-night-9-2-2-2-2-2-2-2-2-2-2-2-2-2-2-2-2-2-2-2-2-2-2-2-2-2-2-2-2-2-2-2-2-2-2-2-2-2-2-2-2-2-2-2-2/
LOCATION:Fencible Lounge (Howick Library) UXBRIDGE\, 25 Uxbridge Road\, Howick\, Auckland\, 2014\, New Zealand
CATEGORIES:City of Sails Event
END:VEVENT
BEGIN:VEVENT
DTSTART;TZID=Pacific/Auckland:20220719T190000
DTEND;TZID=Pacific/Auckland:20220719T193000
DTSTAMP:20260421T032517
CREATED:20210411T053645Z
LAST-MODIFIED:20220615T062344Z
UID:6036-1658257200-1658259000@cityofsails.org.nz
SUMMARY:Lessons @ Fencible Lounge - $5 per person
DESCRIPTION:Come and join us for Rock ‘n Roll Dance Lessons \n7pm to 7.30pm Tuesday Nights – $5 per person per session \nLocation:      Fencible Lounge (Howick Library)\, 25 Uxbridge Rd\, Howick \nFollowed by Club Night 7.30pm to 8.45pm \nBring your water bottles and don’t forget your dancing shoes (flats\, not heels) \nPayment by Cash only accepted at the door
URL:https://cityofsails.org.nz/event/lessons-2-2-3-2-2-2-2-2-2-2-2-2-2-2-2-2-2-2-2-2-2-2-2-2-2-2-2-2-2-2-2-2-2-2-2-2-2-2-2-2-2-2-2/
LOCATION:Fencible Lounge (Howick Library) UXBRIDGE\, 25 Uxbridge Road\, Howick\, Auckland\, 2014\, New Zealand
CATEGORIES:City of Sails Lessons
END:VEVENT
BEGIN:VEVENT
DTSTART;TZID=Pacific/Auckland:20220712T193000
DTEND;TZID=Pacific/Auckland:20220712T204500
DTSTAMP:20260421T032517
CREATED:20210411T053730Z
LAST-MODIFIED:20220615T062147Z
UID:6030-1657654200-1657658700@cityofsails.org.nz
SUMMARY:Club Night @ Fencible Lounge - $2 per person
DESCRIPTION:7.30pm to 8.45pm  – $2 per person \nLocation:      Fencible Lounge (Howick Library)\, 25 Uxbridge Rd\, Howick \nBring your water bottles and don’t forget your dancing shoes (flats\, not heels) \nPayment by Cash only accepted at the door
URL:https://cityofsails.org.nz/event/club-night-9-2-2-2-2-2-2-2-2-2-2-2-2-2-2-2-2-2-2-2-2-2-2-2-2-2-2-2-2-2-2-2-2-2-2-2-2-2-2-2-2-2-2-2/
LOCATION:Fencible Lounge (Howick Library) UXBRIDGE\, 25 Uxbridge Road\, Howick\, Auckland\, 2014\, New Zealand
CATEGORIES:City of Sails Event
END:VEVENT
BEGIN:VEVENT
DTSTART;TZID=Pacific/Auckland:20220712T190000
DTEND;TZID=Pacific/Auckland:20220712T193000
DTSTAMP:20260421T032517
CREATED:20210411T053645Z
LAST-MODIFIED:20220615T062222Z
UID:6032-1657652400-1657654200@cityofsails.org.nz
SUMMARY:Lessons @ Fencible Lounge - $5 per person
DESCRIPTION:Come and join us for Rock ‘n Roll Dance Lessons \n7pm to 7.30pm Tuesday Nights – $5 per person per session \nLocation:      Fencible Lounge (Howick Library)\, 25 Uxbridge Rd\, Howick \nFollowed by Club Night 7.30pm to 8.45pm \nBring your water bottles and don’t forget your dancing shoes (flats\, not heels) \nPayment by Cash only accepted at the door
URL:https://cityofsails.org.nz/event/lessons-2-2-3-2-2-2-2-2-2-2-2-2-2-2-2-2-2-2-2-2-2-2-2-2-2-2-2-2-2-2-2-2-2-2-2-2-2-2-2-2-2-2/
LOCATION:Fencible Lounge (Howick Library) UXBRIDGE\, 25 Uxbridge Road\, Howick\, Auckland\, 2014\, New Zealand
CATEGORIES:City of Sails Lessons
END:VEVENT
BEGIN:VEVENT
DTSTART;TZID=Pacific/Auckland:20220708T181500
DTEND;TZID=Pacific/Auckland:20220708T201500
DTSTAMP:20260421T032517
CREATED:20210504T021056Z
LAST-MODIFIED:20220526T023712Z
UID:5975-1657304100-1657311300@cityofsails.org.nz
SUMMARY:Family Night at Fencible Lounge
DESCRIPTION:Come Along for dancing and games \n$10 family max or    $5 per Adult    or       $2 per Child \n 
URL:https://cityofsails.org.nz/event/family-night-4-2-2-3-2/
LOCATION:Fencible Lounge (Howick Library) UXBRIDGE\, 25 Uxbridge Road\, Howick\, Auckland\, 2014\, New Zealand
CATEGORIES:City of Sails Event,Family Night
END:VEVENT
BEGIN:VEVENT
DTSTART;TZID=Pacific/Auckland:20220705T193000
DTEND;TZID=Pacific/Auckland:20220705T204500
DTSTAMP:20260421T032517
CREATED:20210411T053730Z
LAST-MODIFIED:20220615T061755Z
UID:6028-1657049400-1657053900@cityofsails.org.nz
SUMMARY:Club Night @ Fencible Lounge - $2 per person
DESCRIPTION:7.30pm to 8.45pm  – $2 per person \nLocation:      Fencible Lounge (Howick Library)\, 25 Uxbridge Rd\, Howick \nBring your water bottles and don’t forget your dancing shoes (flats\, not heels) \nPayment by Cash only accepted at the door
URL:https://cityofsails.org.nz/event/club-night-9-2-2-2-2-2-2-2-2-2-2-2-2-2-2-2-2-2-2-2-2-2-2-2-2-2-2-2-2-2-2-2-2-2-2-2-2-2-2-2-2-2-2/
LOCATION:Fencible Lounge (Howick Library) UXBRIDGE\, 25 Uxbridge Road\, Howick\, Auckland\, 2014\, New Zealand
CATEGORIES:City of Sails Event
END:VEVENT
BEGIN:VEVENT
DTSTART;TZID=Pacific/Auckland:20220705T190000
DTEND;TZID=Pacific/Auckland:20220705T193000
DTSTAMP:20260421T032517
CREATED:20210411T053645Z
LAST-MODIFIED:20220615T061637Z
UID:6026-1657047600-1657049400@cityofsails.org.nz
SUMMARY:Lessons @ Fencible Lounge - $5 per person
DESCRIPTION:Come and join us for Rock ‘n Roll Dance Lessons \n7pm to 7.30pm Tuesday Nights – $5 per person per session \nLocation:      Fencible Lounge (Howick Library)\, 25 Uxbridge Rd\, Howick \nFollowed by Club Night 7.30pm to 8.45pm \nBring your water bottles and don’t forget your dancing shoes (flats\, not heels) \nPayment by Cash only accepted at the door
URL:https://cityofsails.org.nz/event/lessons-2-2-3-2-2-2-2-2-2-2-2-2-2-2-2-2-2-2-2-2-2-2-2-2-2-2-2-2-2-2-2-2-2-2-2-2-2-2-2-2-2/
LOCATION:Fencible Lounge (Howick Library) UXBRIDGE\, 25 Uxbridge Road\, Howick\, Auckland\, 2014\, New Zealand
CATEGORIES:City of Sails Lessons
END:VEVENT
BEGIN:VEVENT
DTSTART;TZID=Pacific/Auckland:20220628T193000
DTEND;TZID=Pacific/Auckland:20220628T204500
DTSTAMP:20260421T032517
CREATED:20210411T053730Z
LAST-MODIFIED:20220602T074728Z
UID:6003-1656444600-1656449100@cityofsails.org.nz
SUMMARY:Club Night @ Fencible Lounge - $2 per person
DESCRIPTION:7.30pm to 8.45pm  – $2 per person \nLocation:      Fencible Lounge (Howick Library)\, 25 Uxbridge Rd\, Howick \nBring your water bottles and don’t forget your dancing shoes (flats\, not heels) \nPayment by Cash only accepted at the door
URL:https://cityofsails.org.nz/event/club-night-9-2-2-2-2-2-2-2-2-2-2-2-2-2-2-2-2-2-2-2-2-2-2-2-2-2-2-2-2-2-2-2-2-2-2-2-2-2-2-2-2-2/
LOCATION:Fencible Lounge (Howick Library) UXBRIDGE\, 25 Uxbridge Road\, Howick\, Auckland\, 2014\, New Zealand
CATEGORIES:City of Sails Event
END:VEVENT
BEGIN:VEVENT
DTSTART;TZID=Pacific/Auckland:20220628T190000
DTEND;TZID=Pacific/Auckland:20220628T193000
DTSTAMP:20260421T032517
CREATED:20210411T053645Z
LAST-MODIFIED:20220602T074925Z
UID:6009-1656442800-1656444600@cityofsails.org.nz
SUMMARY:Lessons @ Fencible Lounge - $5 per person
DESCRIPTION:Come and join us for Rock ‘n Roll Dance Lessons \n7pm to 7.30pm Tuesday Nights – $5 per person per session \nLocation:      Fencible Lounge (Howick Library)\, 25 Uxbridge Rd\, Howick \nFollowed by Club Night 7.30pm to 8.45pm \nBring your water bottles and don’t forget your dancing shoes (flats\, not heels) \nPayment by Cash only accepted at the door
URL:https://cityofsails.org.nz/event/lessons-2-2-3-2-2-2-2-2-2-2-2-2-2-2-2-2-2-2-2-2-2-2-2-2-2-2-2-2-2-2-2-2-2-2-2-2-2-2-2-2/
LOCATION:Fencible Lounge (Howick Library) UXBRIDGE\, 25 Uxbridge Road\, Howick\, Auckland\, 2014\, New Zealand
CATEGORIES:City of Sails Lessons
END:VEVENT
BEGIN:VEVENT
DTSTART;TZID=Pacific/Auckland:20220625T190000
DTEND;TZID=Pacific/Auckland:20220625T230000
DTSTAMP:20260421T032517
CREATED:20210428T211222Z
LAST-MODIFIED:20220602T074324Z
UID:5993-1656183600-1656198000@cityofsails.org.nz
SUMMARY:June Dance with Band Foxtail Rumble
DESCRIPTION:Edgewater College \nDoors Open at 7pm – Foxtail Rumble start at 7.30pm – Night ends at 11pm \nDoor Charge:\nMembers $12.50 each (This applies to Current Members of any Rock n Roll Club – you must show your current card at the door)\, Non Members $15 each\, Juniors $7.50 each\n\nCASH ONLY AT THE DOOR
URL:https://cityofsails.org.nz/event/may-hop-2-2-2-3-2/
LOCATION:Edgewater College School Hall\, 32 Edgewater Drive\, Pakuranga\, Auckland\, 2010\, New Zealand
CATEGORIES:City of Sails Event
END:VEVENT
BEGIN:VEVENT
DTSTART;TZID=Pacific/Auckland:20220621T193000
DTEND;TZID=Pacific/Auckland:20220621T204500
DTSTAMP:20260421T032517
CREATED:20210411T053730Z
LAST-MODIFIED:20220602T074701Z
UID:6001-1655839800-1655844300@cityofsails.org.nz
SUMMARY:Club Night @ Fencible Lounge - $2 per person
DESCRIPTION:7.30pm to 8.45pm  – $2 per person \nLocation:      Fencible Lounge (Howick Library)\, 25 Uxbridge Rd\, Howick \nBring your water bottles and don’t forget your dancing shoes (flats\, not heels) \nPayment by Cash only accepted at the door
URL:https://cityofsails.org.nz/event/club-night-9-2-2-2-2-2-2-2-2-2-2-2-2-2-2-2-2-2-2-2-2-2-2-2-2-2-2-2-2-2-2-2-2-2-2-2-2-2-2-2-2/
LOCATION:Fencible Lounge (Howick Library) UXBRIDGE\, 25 Uxbridge Road\, Howick\, Auckland\, 2014\, New Zealand
CATEGORIES:City of Sails Event
END:VEVENT
BEGIN:VEVENT
DTSTART;TZID=Pacific/Auckland:20220621T190000
DTEND;TZID=Pacific/Auckland:20220621T193000
DTSTAMP:20260421T032517
CREATED:20210411T053645Z
LAST-MODIFIED:20220602T074842Z
UID:6007-1655838000-1655839800@cityofsails.org.nz
SUMMARY:Lessons @ Fencible Lounge - $5 per person
DESCRIPTION:Come and join us for Rock ‘n Roll Dance Lessons \n7pm to 7.30pm Tuesday Nights – $5 per person per session \nLocation:      Fencible Lounge (Howick Library)\, 25 Uxbridge Rd\, Howick \nFollowed by Club Night 7.30pm to 8.45pm \nBring your water bottles and don’t forget your dancing shoes (flats\, not heels) \nPayment by Cash only accepted at the door
URL:https://cityofsails.org.nz/event/lessons-2-2-3-2-2-2-2-2-2-2-2-2-2-2-2-2-2-2-2-2-2-2-2-2-2-2-2-2-2-2-2-2-2-2-2-2-2-2-2/
LOCATION:Fencible Lounge (Howick Library) UXBRIDGE\, 25 Uxbridge Road\, Howick\, Auckland\, 2014\, New Zealand
CATEGORIES:City of Sails Lessons
END:VEVENT
BEGIN:VEVENT
DTSTART;TZID=Pacific/Auckland:20220614T193000
DTEND;TZID=Pacific/Auckland:20220614T204500
DTSTAMP:20260421T032517
CREATED:20210411T053730Z
LAST-MODIFIED:20220602T074624Z
UID:5999-1655235000-1655239500@cityofsails.org.nz
SUMMARY:Club Night @ Fencible Lounge - $2 per person
DESCRIPTION:7.30pm to 8.45pm  – $2 per person \nLocation:      Fencible Lounge (Howick Library)\, 25 Uxbridge Rd\, Howick \nBring your water bottles and don’t forget your dancing shoes (flats\, not heels) \nPayment by Cash only accepted at the door
URL:https://cityofsails.org.nz/event/club-night-9-2-2-2-2-2-2-2-2-2-2-2-2-2-2-2-2-2-2-2-2-2-2-2-2-2-2-2-2-2-2-2-2-2-2-2-2-2-2-2/
LOCATION:Fencible Lounge (Howick Library) UXBRIDGE\, 25 Uxbridge Road\, Howick\, Auckland\, 2014\, New Zealand
CATEGORIES:City of Sails Event
END:VEVENT
BEGIN:VEVENT
DTSTART;TZID=Pacific/Auckland:20220614T190000
DTEND;TZID=Pacific/Auckland:20220614T193000
DTSTAMP:20260421T032517
CREATED:20210411T053645Z
LAST-MODIFIED:20220602T074804Z
UID:6005-1655233200-1655235000@cityofsails.org.nz
SUMMARY:Lessons @ Fencible Lounge - $5 per person
DESCRIPTION:Come and join us for Rock ‘n Roll Dance Lessons \n7pm to 7.30pm Tuesday Nights – $5 per person per session \nLocation:      Fencible Lounge (Howick Library)\, 25 Uxbridge Rd\, Howick \nFollowed by Club Night 7.30pm to 8.45pm \nBring your water bottles and don’t forget your dancing shoes (flats\, not heels) \nPayment by Cash only accepted at the door
URL:https://cityofsails.org.nz/event/lessons-2-2-3-2-2-2-2-2-2-2-2-2-2-2-2-2-2-2-2-2-2-2-2-2-2-2-2-2-2-2-2-2-2-2-2-2-2-2/
LOCATION:Fencible Lounge (Howick Library) UXBRIDGE\, 25 Uxbridge Road\, Howick\, Auckland\, 2014\, New Zealand
CATEGORIES:City of Sails Lessons
END:VEVENT
BEGIN:VEVENT
DTSTART;TZID=Pacific/Auckland:20220610T181500
DTEND;TZID=Pacific/Auckland:20220610T201500
DTSTAMP:20260421T032517
CREATED:20210504T021056Z
LAST-MODIFIED:20220526T023740Z
UID:5972-1654884900-1654892100@cityofsails.org.nz
SUMMARY:Family Night at Fencible Lounge
DESCRIPTION:Come Along for dancing and games \n$10 family max or    $5 per Adult    or       $2 per Child
URL:https://cityofsails.org.nz/event/family-night-4-2-2-3/
LOCATION:Fencible Lounge (Howick Library) UXBRIDGE\, 25 Uxbridge Road\, Howick\, Auckland\, 2014\, New Zealand
CATEGORIES:City of Sails Event,Family Night
END:VEVENT
BEGIN:VEVENT
DTSTART;TZID=Pacific/Auckland:20220607T193000
DTEND;TZID=Pacific/Auckland:20220607T204500
DTSTAMP:20260421T032517
CREATED:20210411T053730Z
LAST-MODIFIED:20220602T074552Z
UID:5997-1654630200-1654634700@cityofsails.org.nz
SUMMARY:Club Night @ Fencible Lounge - $2 per person
DESCRIPTION:7.30pm to 8.45pm  – $2 per person \nLocation:      Fencible Lounge (Howick Library)\, 25 Uxbridge Rd\, Howick \nBring your water bottles and don’t forget your dancing shoes (flats\, not heels) \nPayment by Cash only accepted at the door
URL:https://cityofsails.org.nz/event/club-night-9-2-2-2-2-2-2-2-2-2-2-2-2-2-2-2-2-2-2-2-2-2-2-2-2-2-2-2-2-2-2-2-2-2-2-2-2-2-2/
LOCATION:Fencible Lounge (Howick Library) UXBRIDGE\, 25 Uxbridge Road\, Howick\, Auckland\, 2014\, New Zealand
CATEGORIES:City of Sails Event
END:VEVENT
BEGIN:VEVENT
DTSTART;TZID=Pacific/Auckland:20220607T190000
DTEND;TZID=Pacific/Auckland:20220607T193000
DTSTAMP:20260421T032517
CREATED:20210411T053645Z
LAST-MODIFIED:20220602T074455Z
UID:5995-1654628400-1654630200@cityofsails.org.nz
SUMMARY:Lessons @ Fencible Lounge - $5 per person
DESCRIPTION:Come and join us for Rock ‘n Roll Dance Lessons \n7pm to 7.30pm Tuesday Nights – $5 per person per session \nLocation:      Fencible Lounge (Howick Library)\, 25 Uxbridge Rd\, Howick \nFollowed by Club Night 7.30pm to 8.45pm \nBring your water bottles and don’t forget your dancing shoes (flats\, not heels) \nPayment by Cash only accepted at the door
URL:https://cityofsails.org.nz/event/lessons-2-2-3-2-2-2-2-2-2-2-2-2-2-2-2-2-2-2-2-2-2-2-2-2-2-2-2-2-2-2-2-2-2-2-2-2-2/
LOCATION:Fencible Lounge (Howick Library) UXBRIDGE\, 25 Uxbridge Road\, Howick\, Auckland\, 2014\, New Zealand
CATEGORIES:City of Sails Lessons
END:VEVENT
BEGIN:VEVENT
DTSTART;TZID=Pacific/Auckland:20220531T193000
DTEND;TZID=Pacific/Auckland:20220531T204500
DTSTAMP:20260421T032517
CREATED:20210411T053730Z
LAST-MODIFIED:20220416T003919Z
UID:5939-1654025400-1654029900@cityofsails.org.nz
SUMMARY:Club Night @ Fencible Lounge - $2 per person
DESCRIPTION:7.30pm to 8.45pm  – $2 per person \nLocation:      Fencible Lounge (Howick Library)\, 25 Uxbridge Rd\, Howick \nBring your water bottles and don’t forget your dancing shoes (flats\, not heels) \nPayment by Cash only accepted at the door
URL:https://cityofsails.org.nz/event/club-night-9-2-2-2-2-2-2-2-2-2-2-2-2-2-2-2-2-2-2-2-2-2-2-2-2-2-2-2-2-2-2-2-2-2-2-2-2-2/
LOCATION:Fencible Lounge (Howick Library) UXBRIDGE\, 25 Uxbridge Road\, Howick\, Auckland\, 2014\, New Zealand
CATEGORIES:City of Sails Event
END:VEVENT
BEGIN:VEVENT
DTSTART;TZID=Pacific/Auckland:20220531T190000
DTEND;TZID=Pacific/Auckland:20220531T193000
DTSTAMP:20260421T032517
CREATED:20210411T053645Z
LAST-MODIFIED:20220416T004546Z
UID:5948-1654023600-1654025400@cityofsails.org.nz
SUMMARY:Lessons @ Fencible Lounge - $5 per person
DESCRIPTION:Come and join us for Rock ‘n Roll Dance Lessons \n7pm to 7.30pm Tuesday Nights – $5 per person per session \nLocation:      Fencible Lounge (Howick Library)\, 25 Uxbridge Rd\, Howick \nFollowed by Club Night 7.30pm to 8.45pm \nBring your water bottles and don’t forget your dancing shoes (flats\, not heels) \nPayment by Cash only accepted at the door
URL:https://cityofsails.org.nz/event/lessons-2-2-3-2-2-2-2-2-2-2-2-2-2-2-2-2-2-2-2-2-2-2-2-2-2-2-2-2-2-2-2-2-2-2-2-2/
LOCATION:Fencible Lounge (Howick Library) UXBRIDGE\, 25 Uxbridge Road\, Howick\, Auckland\, 2014\, New Zealand
CATEGORIES:City of Sails Lessons
END:VEVENT
END:VCALENDAR