BEGIN:VCALENDAR
VERSION:2.0
PRODID:-//City of Sails Rock &#039;n&#039; Roll Revival Club - ECPv6.15.20//NONSGML v1.0//EN
CALSCALE:GREGORIAN
METHOD:PUBLISH
X-WR-CALNAME:City of Sails Rock &#039;n&#039; Roll Revival Club
X-ORIGINAL-URL:https://cityofsails.org.nz
X-WR-CALDESC:Events for City of Sails Rock &#039;n&#039; Roll Revival Club
REFRESH-INTERVAL;VALUE=DURATION:PT1H
X-Robots-Tag:noindex
X-PUBLISHED-TTL:PT1H
BEGIN:VTIMEZONE
TZID:Pacific/Auckland
BEGIN:STANDARD
TZOFFSETFROM:+1300
TZOFFSETTO:+1200
TZNAME:NZST
DTSTART:20210403T140000
END:STANDARD
BEGIN:DAYLIGHT
TZOFFSETFROM:+1200
TZOFFSETTO:+1300
TZNAME:NZDT
DTSTART:20210925T140000
END:DAYLIGHT
BEGIN:STANDARD
TZOFFSETFROM:+1300
TZOFFSETTO:+1200
TZNAME:NZST
DTSTART:20220402T140000
END:STANDARD
BEGIN:DAYLIGHT
TZOFFSETFROM:+1200
TZOFFSETTO:+1300
TZNAME:NZDT
DTSTART:20220924T140000
END:DAYLIGHT
BEGIN:STANDARD
TZOFFSETFROM:+1300
TZOFFSETTO:+1200
TZNAME:NZST
DTSTART:20230401T140000
END:STANDARD
BEGIN:DAYLIGHT
TZOFFSETFROM:+1200
TZOFFSETTO:+1300
TZNAME:NZDT
DTSTART:20230923T140000
END:DAYLIGHT
BEGIN:STANDARD
TZOFFSETFROM:+1300
TZOFFSETTO:+1200
TZNAME:NZST
DTSTART:20240406T140000
END:STANDARD
BEGIN:DAYLIGHT
TZOFFSETFROM:+1200
TZOFFSETTO:+1300
TZNAME:NZDT
DTSTART:20240928T140000
END:DAYLIGHT
END:VTIMEZONE
BEGIN:VEVENT
DTSTART;TZID=Pacific/Auckland:20230328T193000
DTEND;TZID=Pacific/Auckland:20230328T204500
DTSTAMP:20260420T185741
CREATED:20230316T090634Z
LAST-MODIFIED:20230316T092721Z
UID:6352-1680031800-1680036300@cityofsails.org.nz
SUMMARY:Club Night @ Fencible Lounge - $2 per person
DESCRIPTION:
URL:https://cityofsails.org.nz/event/club-night-fencible-lounge-2-per-person-2/
CATEGORIES:City of Sails Event
END:VEVENT
BEGIN:VEVENT
DTSTART;TZID=Pacific/Auckland:20230321T193000
DTEND;TZID=Pacific/Auckland:20230321T204500
DTSTAMP:20260420T185741
CREATED:20230316T094135Z
LAST-MODIFIED:20230316T094135Z
UID:6345-1679427000-1679431500@cityofsails.org.nz
SUMMARY:Club Night @ Fencible Lounge - $2 per person
DESCRIPTION:
URL:https://cityofsails.org.nz/event/club-night-fencible-lounge-2-per-person-3/
CATEGORIES:City of Sails Event
END:VEVENT
BEGIN:VEVENT
DTSTART;TZID=Pacific/Auckland:20230321T193000
DTEND;TZID=Pacific/Auckland:20230321T204500
DTSTAMP:20260420T185741
CREATED:20210411T053730Z
LAST-MODIFIED:20230316T091427Z
UID:6252-1679427000-1679431500@cityofsails.org.nz
SUMMARY:Club Night @ Fencible Lounge - $2 per person
DESCRIPTION:7.30pm to 8.45pm  – $2 per person \nLocation:      Fencible Lounge (Howick Library)\, 25 Uxbridge Rd\, Howick \nBring your water bottles and don’t forget your dancing shoes (flats\, not heels) \nPayment by Cash only accepted at the door
URL:https://cityofsails.org.nz/event/club-night-9-2-2-2-2-2-2-2-2-2-2-2-2-2-2-2-2-2-2-2-2-2-2-2-2-2-2-2-2-2-2-2-2-2-2-2-2-2-2-2-2-2-2-2-2-2-2-2-2-2-2-2-2-2-2-2-2-3-2-2-2-2-2-2/
LOCATION:Fencible Lounge (Howick Library) UXBRIDGE\, 25 Uxbridge Road\, Howick\, Auckland\, 2014\, New Zealand
CATEGORIES:City of Sails Event
END:VEVENT
BEGIN:VEVENT
DTSTART;TZID=Pacific/Auckland:20230321T190000
DTEND;TZID=Pacific/Auckland:20230321T193000
DTSTAMP:20260420T185741
CREATED:20230318T045207Z
LAST-MODIFIED:20230318T045543Z
UID:6360-1679425200-1679427000@cityofsails.org.nz
SUMMARY:Beginners Dance Lessons @ Fencibles Lounge
DESCRIPTION:Come and join us for Rock ‘n Roll Dance Lessons \n7pm to 7.30pm Tuesday Nights – $5 per person per session \nLocation:      Fencible Lounge (Howick Library)\, 25 Uxbridge Rd\, Howick \nFollowed by Club Night 7.30pm to 8.45pm \nBring your water bottles and don’t forget your dancing shoes (flats\, not heels) \nPayment by Cash only accepted at the door
URL:https://cityofsails.org.nz/event/beginners-dance-lessons-fencibles-lounge/
CATEGORIES:City of Sails Lessons
END:VEVENT
BEGIN:VEVENT
DTSTART;TZID=Pacific/Auckland:20230207T193000
DTEND;TZID=Pacific/Auckland:20230207T204500
DTSTAMP:20260420T185741
CREATED:20230109T051333Z
LAST-MODIFIED:20230124T223009Z
UID:6304-1675798200-1675802700@cityofsails.org.nz
SUMMARY:Club Night @ Fencible Lounge – $2 per person
DESCRIPTION:7.00pm to 8.45pm  – $2 per person \nLocation:      Fencible Lounge (Howick Library)\, 25 Uxbridge Rd\, Howick \nBring your water bottles and don’t forget your dancing shoes (flats\, not heels) \nPayment by Cash only accepted at the door
URL:https://cityofsails.org.nz/event/club-night-fencible-lounge-2-per-person/
LOCATION:Fencible Lounge (Howick Library) UXBRIDGE\, 25 Uxbridge Road\, Howick\, Auckland\, 2014\, New Zealand
CATEGORIES:City of Sails Event,Other Clubs
END:VEVENT
BEGIN:VEVENT
DTSTART;TZID=Pacific/Auckland:20221213T193000
DTEND;TZID=Pacific/Auckland:20221213T204500
DTSTAMP:20260420T185741
CREATED:20210411T053730Z
LAST-MODIFIED:20220912T050318Z
UID:6256-1670959800-1670964300@cityofsails.org.nz
SUMMARY:Club Night @ Fencible Lounge - $2 per person
DESCRIPTION:7.30pm to 8.45pm  – $2 per person \nLocation:      Fencible Lounge (Howick Library)\, 25 Uxbridge Rd\, Howick \nBring your water bottles and don’t forget your dancing shoes (flats\, not heels) \nPayment by Cash only accepted at the door
URL:https://cityofsails.org.nz/event/club-night-9-2-2-2-2-2-2-2-2-2-2-2-2-2-2-2-2-2-2-2-2-2-2-2-2-2-2-2-2-2-2-2-2-2-2-2-2-2-2-2-2-2-2-2-2-2-2-2-2-2-2-2-2-2-2-2-2-3-2-2-2-2-2-2-2/
LOCATION:Fencible Lounge (Howick Library) UXBRIDGE\, 25 Uxbridge Road\, Howick\, Auckland\, 2014\, New Zealand
CATEGORIES:City of Sails Event
END:VEVENT
BEGIN:VEVENT
DTSTART;TZID=Pacific/Auckland:20221213T190000
DTEND;TZID=Pacific/Auckland:20221213T193000
DTSTAMP:20260420T185741
CREATED:20210411T053645Z
LAST-MODIFIED:20220912T050256Z
UID:6254-1670958000-1670959800@cityofsails.org.nz
SUMMARY:Lessons @ Fencible Lounge - $5 per person
DESCRIPTION:Come and join us for Rock ‘n Roll Dance Lessons \n7pm to 7.30pm Tuesday Nights – $5 per person per session \nLocation:      Fencible Lounge (Howick Library)\, 25 Uxbridge Rd\, Howick \nFollowed by Club Night 7.30pm to 8.45pm \nBring your water bottles and don’t forget your dancing shoes (flats\, not heels) \nPayment by Cash only accepted at the door
URL:https://cityofsails.org.nz/event/lessons-2-2-3-2-2-2-2-2-2-2-2-2-2-2-2-2-2-2-2-2-2-2-2-2-2-2-2-2-2-2-2-2-2-2-2-2-2-2-2-2-2-2-2-2-2-2-2-2-2-2-3-2-2-2-3-2-2-2-2-2-2-2/
LOCATION:Fencible Lounge (Howick Library) UXBRIDGE\, 25 Uxbridge Road\, Howick\, Auckland\, 2014\, New Zealand
CATEGORIES:City of Sails Lessons
END:VEVENT
BEGIN:VEVENT
DTSTART;TZID=Pacific/Auckland:20221206T190000
DTEND;TZID=Pacific/Auckland:20221206T193000
DTSTAMP:20260420T185741
CREATED:20210411T053645Z
LAST-MODIFIED:20220912T050217Z
UID:6250-1670353200-1670355000@cityofsails.org.nz
SUMMARY:Lessons @ Fencible Lounge - $5 per person
DESCRIPTION:Come and join us for Rock ‘n Roll Dance Lessons \n7pm to 7.30pm Tuesday Nights – $5 per person per session \nLocation:      Fencible Lounge (Howick Library)\, 25 Uxbridge Rd\, Howick \nFollowed by Club Night 7.30pm to 8.45pm \nBring your water bottles and don’t forget your dancing shoes (flats\, not heels) \nPayment by Cash only accepted at the door
URL:https://cityofsails.org.nz/event/lessons-2-2-3-2-2-2-2-2-2-2-2-2-2-2-2-2-2-2-2-2-2-2-2-2-2-2-2-2-2-2-2-2-2-2-2-2-2-2-2-2-2-2-2-2-2-2-2-2-2-2-3-2-2-2-3-2-2-2-2-2-2/
LOCATION:Fencible Lounge (Howick Library) UXBRIDGE\, 25 Uxbridge Road\, Howick\, Auckland\, 2014\, New Zealand
CATEGORIES:City of Sails Lessons
END:VEVENT
BEGIN:VEVENT
DTSTART;TZID=Pacific/Auckland:20221203T190000
DTEND;TZID=Pacific/Auckland:20221203T230000
DTSTAMP:20260420T185741
CREATED:20210428T211222Z
LAST-MODIFIED:20221114T064442Z
UID:6258-1670094000-1670108400@cityofsails.org.nz
SUMMARY:Christmas Dance with Runaway Boys
DESCRIPTION:Edgewater College \nDoors Open at 7pm – Night ends at 11pm \nBand starts at 7.30pm \nDoor Charge:\n$12.50 Adult Members\n$15.00 Non Members\n$7.50 Juniors\nCASH ONLY AT THE DOOR\n\nPLEASE NOTE: This is an Alcohol Free Venue – Light Supper provided\n\n 
URL:https://cityofsails.org.nz/event/may-hop-2-2-2-3-2-2-2-2-2/
LOCATION:Edgewater College School Hall\, 32 Edgewater Drive\, Pakuranga\, Auckland\, 2010\, New Zealand
CATEGORIES:City of Sails Event
END:VEVENT
BEGIN:VEVENT
DTSTART;TZID=Pacific/Auckland:20221129T193000
DTEND;TZID=Pacific/Auckland:20221129T204500
DTSTAMP:20260420T185741
CREATED:20210411T053730Z
LAST-MODIFIED:20220912T050158Z
UID:6248-1669750200-1669754700@cityofsails.org.nz
SUMMARY:Club Night @ Fencible Lounge - $2 per person
DESCRIPTION:7.30pm to 8.45pm  – $2 per person \nLocation:      Fencible Lounge (Howick Library)\, 25 Uxbridge Rd\, Howick \nBring your water bottles and don’t forget your dancing shoes (flats\, not heels) \nPayment by Cash only accepted at the door
URL:https://cityofsails.org.nz/event/club-night-9-2-2-2-2-2-2-2-2-2-2-2-2-2-2-2-2-2-2-2-2-2-2-2-2-2-2-2-2-2-2-2-2-2-2-2-2-2-2-2-2-2-2-2-2-2-2-2-2-2-2-2-2-2-2-2-2-3-2-2-2-2-2/
LOCATION:Fencible Lounge (Howick Library) UXBRIDGE\, 25 Uxbridge Road\, Howick\, Auckland\, 2014\, New Zealand
CATEGORIES:City of Sails Event
END:VEVENT
BEGIN:VEVENT
DTSTART;TZID=Pacific/Auckland:20221129T190000
DTEND;TZID=Pacific/Auckland:20221129T193000
DTSTAMP:20260420T185741
CREATED:20210411T053645Z
LAST-MODIFIED:20220912T050138Z
UID:6246-1669748400-1669750200@cityofsails.org.nz
SUMMARY:Lessons @ Fencible Lounge - $5 per person
DESCRIPTION:Come and join us for Rock ‘n Roll Dance Lessons \n7pm to 7.30pm Tuesday Nights – $5 per person per session \nLocation:      Fencible Lounge (Howick Library)\, 25 Uxbridge Rd\, Howick \nFollowed by Club Night 7.30pm to 8.45pm \nBring your water bottles and don’t forget your dancing shoes (flats\, not heels) \nPayment by Cash only accepted at the door
URL:https://cityofsails.org.nz/event/lessons-2-2-3-2-2-2-2-2-2-2-2-2-2-2-2-2-2-2-2-2-2-2-2-2-2-2-2-2-2-2-2-2-2-2-2-2-2-2-2-2-2-2-2-2-2-2-2-2-2-2-3-2-2-2-3-2-2-2-2-2/
LOCATION:Fencible Lounge (Howick Library) UXBRIDGE\, 25 Uxbridge Road\, Howick\, Auckland\, 2014\, New Zealand
CATEGORIES:City of Sails Lessons
END:VEVENT
BEGIN:VEVENT
DTSTART;TZID=Pacific/Auckland:20221122T193000
DTEND;TZID=Pacific/Auckland:20221122T204500
DTSTAMP:20260420T185741
CREATED:20210411T053730Z
LAST-MODIFIED:20220912T050049Z
UID:6244-1669145400-1669149900@cityofsails.org.nz
SUMMARY:Club Night @ Fencible Lounge - $2 per person
DESCRIPTION:7.30pm to 8.45pm  – $2 per person \nLocation:      Fencible Lounge (Howick Library)\, 25 Uxbridge Rd\, Howick \nBring your water bottles and don’t forget your dancing shoes (flats\, not heels) \nPayment by Cash only accepted at the door
URL:https://cityofsails.org.nz/event/club-night-9-2-2-2-2-2-2-2-2-2-2-2-2-2-2-2-2-2-2-2-2-2-2-2-2-2-2-2-2-2-2-2-2-2-2-2-2-2-2-2-2-2-2-2-2-2-2-2-2-2-2-2-2-2-2-2-2-3-2-2-2-2/
LOCATION:Fencible Lounge (Howick Library) UXBRIDGE\, 25 Uxbridge Road\, Howick\, Auckland\, 2014\, New Zealand
CATEGORIES:City of Sails Event
END:VEVENT
BEGIN:VEVENT
DTSTART;TZID=Pacific/Auckland:20221122T190000
DTEND;TZID=Pacific/Auckland:20221122T193000
DTSTAMP:20260420T185741
CREATED:20210411T053645Z
LAST-MODIFIED:20220912T050030Z
UID:6242-1669143600-1669145400@cityofsails.org.nz
SUMMARY:Lessons @ Fencible Lounge - $5 per person
DESCRIPTION:Come and join us for Rock ‘n Roll Dance Lessons \n7pm to 7.30pm Tuesday Nights – $5 per person per session \nLocation:      Fencible Lounge (Howick Library)\, 25 Uxbridge Rd\, Howick \nFollowed by Club Night 7.30pm to 8.45pm \nBring your water bottles and don’t forget your dancing shoes (flats\, not heels) \nPayment by Cash only accepted at the door
URL:https://cityofsails.org.nz/event/lessons-2-2-3-2-2-2-2-2-2-2-2-2-2-2-2-2-2-2-2-2-2-2-2-2-2-2-2-2-2-2-2-2-2-2-2-2-2-2-2-2-2-2-2-2-2-2-2-2-2-2-3-2-2-2-3-2-2-2-2/
LOCATION:Fencible Lounge (Howick Library) UXBRIDGE\, 25 Uxbridge Road\, Howick\, Auckland\, 2014\, New Zealand
CATEGORIES:City of Sails Lessons
END:VEVENT
BEGIN:VEVENT
DTSTART;TZID=Pacific/Auckland:20221115T193000
DTEND;TZID=Pacific/Auckland:20221115T204500
DTSTAMP:20260420T185741
CREATED:20210411T053730Z
LAST-MODIFIED:20220912T045927Z
UID:6240-1668540600-1668545100@cityofsails.org.nz
SUMMARY:Club Night @ Fencible Lounge - $2 per person
DESCRIPTION:7.30pm to 8.45pm  – $2 per person \nLocation:      Fencible Lounge (Howick Library)\, 25 Uxbridge Rd\, Howick \nBring your water bottles and don’t forget your dancing shoes (flats\, not heels) \nPayment by Cash only accepted at the door
URL:https://cityofsails.org.nz/event/club-night-9-2-2-2-2-2-2-2-2-2-2-2-2-2-2-2-2-2-2-2-2-2-2-2-2-2-2-2-2-2-2-2-2-2-2-2-2-2-2-2-2-2-2-2-2-2-2-2-2-2-2-2-2-2-2-2-2-3-2-2-2/
LOCATION:Fencible Lounge (Howick Library) UXBRIDGE\, 25 Uxbridge Road\, Howick\, Auckland\, 2014\, New Zealand
CATEGORIES:City of Sails Event
END:VEVENT
BEGIN:VEVENT
DTSTART;TZID=Pacific/Auckland:20221115T190000
DTEND;TZID=Pacific/Auckland:20221115T193000
DTSTAMP:20260420T185741
CREATED:20210411T053645Z
LAST-MODIFIED:20220912T045907Z
UID:6238-1668538800-1668540600@cityofsails.org.nz
SUMMARY:Lessons @ Fencible Lounge - $5 per person
DESCRIPTION:Come and join us for Rock ‘n Roll Dance Lessons \n7pm to 7.30pm Tuesday Nights – $5 per person per session \nLocation:      Fencible Lounge (Howick Library)\, 25 Uxbridge Rd\, Howick \nFollowed by Club Night 7.30pm to 8.45pm \nBring your water bottles and don’t forget your dancing shoes (flats\, not heels) \nPayment by Cash only accepted at the door
URL:https://cityofsails.org.nz/event/lessons-2-2-3-2-2-2-2-2-2-2-2-2-2-2-2-2-2-2-2-2-2-2-2-2-2-2-2-2-2-2-2-2-2-2-2-2-2-2-2-2-2-2-2-2-2-2-2-2-2-2-3-2-2-2-3-2-2-2/
LOCATION:Fencible Lounge (Howick Library) UXBRIDGE\, 25 Uxbridge Road\, Howick\, Auckland\, 2014\, New Zealand
CATEGORIES:City of Sails Lessons
END:VEVENT
BEGIN:VEVENT
DTSTART;TZID=Pacific/Auckland:20221111T181500
DTEND;TZID=Pacific/Auckland:20221111T201500
DTSTAMP:20260420T185741
CREATED:20210504T021056Z
LAST-MODIFIED:20220907T041727Z
UID:6221-1668190500-1668197700@cityofsails.org.nz
SUMMARY:Family Night at Pakuranga Community Hall
DESCRIPTION:Rock n Roll Music and Games for the family \nBring your drinks and snacks – don’t forget your dancing shoes \nAdults $5\nChildren $2\nor Family $10
URL:https://cityofsails.org.nz/event/family-night-4-2-2-2-2-2-2-2-3-2-2/
LOCATION:Pakuranga Community Hall\, 346 Pakuranga Road\, Pakuranga\, New Zealand
CATEGORIES:City of Sails Event,Family Night
END:VEVENT
BEGIN:VEVENT
DTSTART;TZID=Pacific/Auckland:20221108T193000
DTEND;TZID=Pacific/Auckland:20221108T204500
DTSTAMP:20260420T185741
CREATED:20210411T053730Z
LAST-MODIFIED:20220912T045834Z
UID:6236-1667935800-1667940300@cityofsails.org.nz
SUMMARY:Club Night @ Fencible Lounge - $2 per person
DESCRIPTION:7.30pm to 8.45pm  – $2 per person \nLocation:      Fencible Lounge (Howick Library)\, 25 Uxbridge Rd\, Howick \nBring your water bottles and don’t forget your dancing shoes (flats\, not heels) \nPayment by Cash only accepted at the door
URL:https://cityofsails.org.nz/event/club-night-9-2-2-2-2-2-2-2-2-2-2-2-2-2-2-2-2-2-2-2-2-2-2-2-2-2-2-2-2-2-2-2-2-2-2-2-2-2-2-2-2-2-2-2-2-2-2-2-2-2-2-2-2-2-2-2-2-3-2-2/
LOCATION:Fencible Lounge (Howick Library) UXBRIDGE\, 25 Uxbridge Road\, Howick\, Auckland\, 2014\, New Zealand
CATEGORIES:City of Sails Event
END:VEVENT
BEGIN:VEVENT
DTSTART;TZID=Pacific/Auckland:20221108T190000
DTEND;TZID=Pacific/Auckland:20221108T193000
DTSTAMP:20260420T185741
CREATED:20210411T053645Z
LAST-MODIFIED:20220912T045812Z
UID:6234-1667934000-1667935800@cityofsails.org.nz
SUMMARY:Lessons @ Fencible Lounge - $5 per person
DESCRIPTION:Come and join us for Rock ‘n Roll Dance Lessons \n7pm to 7.30pm Tuesday Nights – $5 per person per session \nLocation:      Fencible Lounge (Howick Library)\, 25 Uxbridge Rd\, Howick \nFollowed by Club Night 7.30pm to 8.45pm \nBring your water bottles and don’t forget your dancing shoes (flats\, not heels) \nPayment by Cash only accepted at the door
URL:https://cityofsails.org.nz/event/lessons-2-2-3-2-2-2-2-2-2-2-2-2-2-2-2-2-2-2-2-2-2-2-2-2-2-2-2-2-2-2-2-2-2-2-2-2-2-2-2-2-2-2-2-2-2-2-2-2-2-2-3-2-2-2-3-2-2/
LOCATION:Fencible Lounge (Howick Library) UXBRIDGE\, 25 Uxbridge Road\, Howick\, Auckland\, 2014\, New Zealand
CATEGORIES:City of Sails Lessons
END:VEVENT
BEGIN:VEVENT
DTSTART;TZID=Pacific/Auckland:20221101T193000
DTEND;TZID=Pacific/Auckland:20221101T204500
DTSTAMP:20260420T185741
CREATED:20210411T053730Z
LAST-MODIFIED:20220912T045718Z
UID:6232-1667331000-1667335500@cityofsails.org.nz
SUMMARY:Club Night @ Fencible Lounge - $2 per person
DESCRIPTION:7.30pm to 8.45pm  – $2 per person \nLocation:      Fencible Lounge (Howick Library)\, 25 Uxbridge Rd\, Howick \nBring your water bottles and don’t forget your dancing shoes (flats\, not heels) \nPayment by Cash only accepted at the door
URL:https://cityofsails.org.nz/event/club-night-9-2-2-2-2-2-2-2-2-2-2-2-2-2-2-2-2-2-2-2-2-2-2-2-2-2-2-2-2-2-2-2-2-2-2-2-2-2-2-2-2-2-2-2-2-2-2-2-2-2-2-2-2-2-2-2-2-3-2/
LOCATION:Fencible Lounge (Howick Library) UXBRIDGE\, 25 Uxbridge Road\, Howick\, Auckland\, 2014\, New Zealand
CATEGORIES:City of Sails Event
END:VEVENT
BEGIN:VEVENT
DTSTART;TZID=Pacific/Auckland:20221101T190000
DTEND;TZID=Pacific/Auckland:20221101T193000
DTSTAMP:20260420T185741
CREATED:20210411T053645Z
LAST-MODIFIED:20220912T045653Z
UID:6230-1667329200-1667331000@cityofsails.org.nz
SUMMARY:Lessons @ Fencible Lounge - $5 per person
DESCRIPTION:Come and join us for Rock ‘n Roll Dance Lessons \n7pm to 7.30pm Tuesday Nights – $5 per person per session \nLocation:      Fencible Lounge (Howick Library)\, 25 Uxbridge Rd\, Howick \nFollowed by Club Night 7.30pm to 8.45pm \nBring your water bottles and don’t forget your dancing shoes (flats\, not heels) \nPayment by Cash only accepted at the door
URL:https://cityofsails.org.nz/event/lessons-2-2-3-2-2-2-2-2-2-2-2-2-2-2-2-2-2-2-2-2-2-2-2-2-2-2-2-2-2-2-2-2-2-2-2-2-2-2-2-2-2-2-2-2-2-2-2-2-2-2-3-2-2-2-3-2/
LOCATION:Fencible Lounge (Howick Library) UXBRIDGE\, 25 Uxbridge Road\, Howick\, Auckland\, 2014\, New Zealand
CATEGORIES:City of Sails Lessons
END:VEVENT
BEGIN:VEVENT
DTSTART;TZID=Pacific/Auckland:20221029T190000
DTEND;TZID=Pacific/Auckland:20221029T230000
DTSTAMP:20260420T185741
CREATED:20210428T211222Z
LAST-MODIFIED:20220907T041930Z
UID:6137-1667070000-1667084400@cityofsails.org.nz
SUMMARY:October Dance
DESCRIPTION:Edgewater College \nDoors Open at 7pm – Night ends at 11pm \nDoor Charge:\nAdults $10\nJuniors $5\n\nCASH ONLY AT THE DOOR
URL:https://cityofsails.org.nz/event/may-hop-2-2-2-3-2-2-2-2/
LOCATION:Edgewater College School Hall\, 32 Edgewater Drive\, Pakuranga\, Auckland\, 2010\, New Zealand
CATEGORIES:City of Sails Event
END:VEVENT
BEGIN:VEVENT
DTSTART;TZID=Pacific/Auckland:20221025T193000
DTEND;TZID=Pacific/Auckland:20221025T204500
DTSTAMP:20260420T185741
CREATED:20210411T053730Z
LAST-MODIFIED:20220717T014853Z
UID:6131-1666726200-1666730700@cityofsails.org.nz
SUMMARY:Club Night @ Fencible Lounge - $2 per person
DESCRIPTION:7.30pm to 8.45pm  – $2 per person \nLocation:      Fencible Lounge (Howick Library)\, 25 Uxbridge Rd\, Howick \nBring your water bottles and don’t forget your dancing shoes (flats\, not heels) \nPayment by Cash only accepted at the door
URL:https://cityofsails.org.nz/event/club-night-9-2-2-2-2-2-2-2-2-2-2-2-2-2-2-2-2-2-2-2-2-2-2-2-2-2-2-2-2-2-2-2-2-2-2-2-2-2-2-2-2-2-2-2-2-2-2-2-2-2-2-2-2-2-2-2-2-3/
LOCATION:Fencible Lounge (Howick Library) UXBRIDGE\, 25 Uxbridge Road\, Howick\, Auckland\, 2014\, New Zealand
CATEGORIES:City of Sails Event
END:VEVENT
BEGIN:VEVENT
DTSTART;TZID=Pacific/Auckland:20221025T190000
DTEND;TZID=Pacific/Auckland:20221025T193000
DTSTAMP:20260420T185741
CREATED:20210411T053645Z
LAST-MODIFIED:20220717T014928Z
UID:6130-1666724400-1666726200@cityofsails.org.nz
SUMMARY:Lessons @ Fencible Lounge - $5 per person
DESCRIPTION:Come and join us for Rock ‘n Roll Dance Lessons \n7pm to 7.30pm Tuesday Nights – $5 per person per session \nLocation:      Fencible Lounge (Howick Library)\, 25 Uxbridge Rd\, Howick \nFollowed by Club Night 7.30pm to 8.45pm \nBring your water bottles and don’t forget your dancing shoes (flats\, not heels) \nPayment by Cash only accepted at the door
URL:https://cityofsails.org.nz/event/lessons-2-2-3-2-2-2-2-2-2-2-2-2-2-2-2-2-2-2-2-2-2-2-2-2-2-2-2-2-2-2-2-2-2-2-2-2-2-2-2-2-2-2-2-2-2-2-2-2-2-2-3-2-2-2-3/
LOCATION:Fencible Lounge (Howick Library) UXBRIDGE\, 25 Uxbridge Road\, Howick\, Auckland\, 2014\, New Zealand
CATEGORIES:City of Sails Lessons
END:VEVENT
BEGIN:VEVENT
DTSTART;TZID=Pacific/Auckland:20221021T180000
DTEND;TZID=Pacific/Auckland:20221023T230000
DTSTAMP:20260420T185741
CREATED:20220701T051517Z
LAST-MODIFIED:20220701T051517Z
UID:6076-1666375200-1666566000@cityofsails.org.nz
SUMMARY:New Zealand Amateur Rock 'n' Roll Association Senior Nationals 2022
DESCRIPTION:Senior Nationals for 2022 is hosted by River Rockers Whanganui \nVenue: Springvale Stadium \n  \nEmail: secretary@cityofsails.org.nz to order your tickets before 20th September 2022
URL:https://cityofsails.org.nz/event/new-zealand-amateur-rock-n-roll-association-senior-nationals-2022/
CATEGORIES:Other Clubs
END:VEVENT
BEGIN:VEVENT
DTSTART;TZID=Pacific/Auckland:20221018T193000
DTEND;TZID=Pacific/Auckland:20221018T204500
DTSTAMP:20260420T185741
CREATED:20210411T053730Z
LAST-MODIFIED:20220717T014808Z
UID:6132-1666121400-1666125900@cityofsails.org.nz
SUMMARY:Club Night @ Fencible Lounge - $2 per person
DESCRIPTION:7.30pm to 8.45pm  – $2 per person \nLocation:      Fencible Lounge (Howick Library)\, 25 Uxbridge Rd\, Howick \nBring your water bottles and don’t forget your dancing shoes (flats\, not heels) \nPayment by Cash only accepted at the door
URL:https://cityofsails.org.nz/event/club-night-9-2-2-2-2-2-2-2-2-2-2-2-2-2-2-2-2-2-2-2-2-2-2-2-2-2-2-2-2-2-2-2-2-2-2-2-2-2-2-2-2-2-2-2-2-2-2-2-2-2-2-2-2-2-2-2-2-2/
LOCATION:Fencible Lounge (Howick Library) UXBRIDGE\, 25 Uxbridge Road\, Howick\, Auckland\, 2014\, New Zealand
CATEGORIES:City of Sails Event
END:VEVENT
BEGIN:VEVENT
DTSTART;TZID=Pacific/Auckland:20221018T190000
DTEND;TZID=Pacific/Auckland:20221018T193000
DTSTAMP:20260420T185741
CREATED:20210411T053645Z
LAST-MODIFIED:20220717T014831Z
UID:6129-1666119600-1666121400@cityofsails.org.nz
SUMMARY:Lessons @ Fencible Lounge - $5 per person
DESCRIPTION:Come and join us for Rock ‘n Roll Dance Lessons \n7pm to 7.30pm Tuesday Nights – $5 per person per session \nLocation:      Fencible Lounge (Howick Library)\, 25 Uxbridge Rd\, Howick \nFollowed by Club Night 7.30pm to 8.45pm \nBring your water bottles and don’t forget your dancing shoes (flats\, not heels) \nPayment by Cash only accepted at the door
URL:https://cityofsails.org.nz/event/lessons-2-2-3-2-2-2-2-2-2-2-2-2-2-2-2-2-2-2-2-2-2-2-2-2-2-2-2-2-2-2-2-2-2-2-2-2-2-2-2-2-2-2-2-2-2-2-2-2-2-2-3-2-2-2-2/
LOCATION:Fencible Lounge (Howick Library) UXBRIDGE\, 25 Uxbridge Road\, Howick\, Auckland\, 2014\, New Zealand
CATEGORIES:City of Sails Lessons
END:VEVENT
BEGIN:VEVENT
DTSTART;TZID=Pacific/Auckland:20221014T181500
DTEND;TZID=Pacific/Auckland:20221014T201500
DTSTAMP:20260420T185741
CREATED:20210504T021056Z
LAST-MODIFIED:20220907T041813Z
UID:6115-1665771300-1665778500@cityofsails.org.nz
SUMMARY:Family Night at Pakuranga Community Hall
DESCRIPTION:Rock n Roll Music and Games for the family \nBring your drinks and snacks – don’t forget your dancing shoes \nAdults $5\nChildren $2\nor Family $10
URL:https://cityofsails.org.nz/event/family-night-4-2-2-2-2-2-2-2-3-2/
LOCATION:Pakuranga Community Hall\, 346 Pakuranga Road\, Pakuranga\, New Zealand
CATEGORIES:City of Sails Event,Family Night
END:VEVENT
BEGIN:VEVENT
DTSTART;TZID=Pacific/Auckland:20221011T193000
DTEND;TZID=Pacific/Auckland:20221011T204500
DTSTAMP:20260420T185741
CREATED:20210411T053730Z
LAST-MODIFIED:20220717T014619Z
UID:6127-1665516600-1665521100@cityofsails.org.nz
SUMMARY:Club Night @ Fencible Lounge - $2 per person
DESCRIPTION:7.30pm to 8.45pm  – $2 per person \nLocation:      Fencible Lounge (Howick Library)\, 25 Uxbridge Rd\, Howick \nBring your water bottles and don’t forget your dancing shoes (flats\, not heels) \nPayment by Cash only accepted at the door
URL:https://cityofsails.org.nz/event/club-night-9-2-2-2-2-2-2-2-2-2-2-2-2-2-2-2-2-2-2-2-2-2-2-2-2-2-2-2-2-2-2-2-2-2-2-2-2-2-2-2-2-2-2-2-2-2-2-2-2-2-2-2-2-2-2-2-2/
LOCATION:Fencible Lounge (Howick Library) UXBRIDGE\, 25 Uxbridge Road\, Howick\, Auckland\, 2014\, New Zealand
CATEGORIES:City of Sails Event
END:VEVENT
BEGIN:VEVENT
DTSTART;TZID=Pacific/Auckland:20221011T190000
DTEND;TZID=Pacific/Auckland:20221011T193000
DTSTAMP:20260420T185741
CREATED:20210411T053645Z
LAST-MODIFIED:20220717T014549Z
UID:6125-1665514800-1665516600@cityofsails.org.nz
SUMMARY:Lessons @ Fencible Lounge - $5 per person
DESCRIPTION:Come and join us for Rock ‘n Roll Dance Lessons \n7pm to 7.30pm Tuesday Nights – $5 per person per session \nLocation:      Fencible Lounge (Howick Library)\, 25 Uxbridge Rd\, Howick \nFollowed by Club Night 7.30pm to 8.45pm \nBring your water bottles and don’t forget your dancing shoes (flats\, not heels) \nPayment by Cash only accepted at the door
URL:https://cityofsails.org.nz/event/lessons-2-2-3-2-2-2-2-2-2-2-2-2-2-2-2-2-2-2-2-2-2-2-2-2-2-2-2-2-2-2-2-2-2-2-2-2-2-2-2-2-2-2-2-2-2-2-2-2-2-2-3-2-2-2/
LOCATION:Fencible Lounge (Howick Library) UXBRIDGE\, 25 Uxbridge Road\, Howick\, Auckland\, 2014\, New Zealand
CATEGORIES:City of Sails Lessons
END:VEVENT
BEGIN:VEVENT
DTSTART;TZID=Pacific/Auckland:20221004T193000
DTEND;TZID=Pacific/Auckland:20221004T204500
DTSTAMP:20260420T185741
CREATED:20210411T053730Z
LAST-MODIFIED:20220717T014046Z
UID:6120-1664911800-1664916300@cityofsails.org.nz
SUMMARY:Club Night @ Fencible Lounge - $2 per person
DESCRIPTION:7.30pm to 8.45pm  – $2 per person \nLocation:      Fencible Lounge (Howick Library)\, 25 Uxbridge Rd\, Howick \nBring your water bottles and don’t forget your dancing shoes (flats\, not heels) \nPayment by Cash only accepted at the door
URL:https://cityofsails.org.nz/event/club-night-9-2-2-2-2-2-2-2-2-2-2-2-2-2-2-2-2-2-2-2-2-2-2-2-2-2-2-2-2-2-2-2-2-2-2-2-2-2-2-2-2-2-2-2-2-2-2-2-2-2-2-2-2-2-2-2/
LOCATION:Fencible Lounge (Howick Library) UXBRIDGE\, 25 Uxbridge Road\, Howick\, Auckland\, 2014\, New Zealand
CATEGORIES:City of Sails Event
END:VEVENT
END:VCALENDAR