BEGIN:VCALENDAR
VERSION:2.0
PRODID:-//City of Sails Rock &#039;n&#039; Roll Revival Club - ECPv6.15.20//NONSGML v1.0//EN
CALSCALE:GREGORIAN
METHOD:PUBLISH
X-WR-CALNAME:City of Sails Rock &#039;n&#039; Roll Revival Club
X-ORIGINAL-URL:https://cityofsails.org.nz
X-WR-CALDESC:Events for City of Sails Rock &#039;n&#039; Roll Revival Club
REFRESH-INTERVAL;VALUE=DURATION:PT1H
X-Robots-Tag:noindex
X-PUBLISHED-TTL:PT1H
BEGIN:VTIMEZONE
TZID:Pacific/Auckland
BEGIN:STANDARD
TZOFFSETFROM:+1300
TZOFFSETTO:+1200
TZNAME:NZST
DTSTART:20220402T140000
END:STANDARD
BEGIN:DAYLIGHT
TZOFFSETFROM:+1200
TZOFFSETTO:+1300
TZNAME:NZDT
DTSTART:20220924T140000
END:DAYLIGHT
BEGIN:STANDARD
TZOFFSETFROM:+1300
TZOFFSETTO:+1200
TZNAME:NZST
DTSTART:20230401T140000
END:STANDARD
BEGIN:DAYLIGHT
TZOFFSETFROM:+1200
TZOFFSETTO:+1300
TZNAME:NZDT
DTSTART:20230923T140000
END:DAYLIGHT
BEGIN:STANDARD
TZOFFSETFROM:+1300
TZOFFSETTO:+1200
TZNAME:NZST
DTSTART:20240406T140000
END:STANDARD
BEGIN:DAYLIGHT
TZOFFSETFROM:+1200
TZOFFSETTO:+1300
TZNAME:NZDT
DTSTART:20240928T140000
END:DAYLIGHT
BEGIN:STANDARD
TZOFFSETFROM:+1300
TZOFFSETTO:+1200
TZNAME:NZST
DTSTART:20250405T140000
END:STANDARD
BEGIN:DAYLIGHT
TZOFFSETFROM:+1200
TZOFFSETTO:+1300
TZNAME:NZDT
DTSTART:20250927T140000
END:DAYLIGHT
END:VTIMEZONE
BEGIN:VEVENT
DTSTART;TZID=Pacific/Auckland:20240507T193000
DTEND;TZID=Pacific/Auckland:20240507T204500
DTSTAMP:20260420T173811
CREATED:20240324T201435Z
LAST-MODIFIED:20240324T201435Z
UID:6658-1715110200-1715114700@cityofsails.org.nz
SUMMARY:Club Night at Fencible Lounge – $2 per person
DESCRIPTION:7.30pm to 8.45pm – $2 per person\nLocation: Fencible Lounge (Howick Library)\, 25 Uxbridge Rd\, Howick\nBring your water bottles and don’t forget your dancing shoes (flats\, not heels)\nPayment by Cash only accepted at the door
URL:https://cityofsails.org.nz/event/club-night-at-fencible-lounge-2-per-person-26/
LOCATION:Fencible Lounge (Howick Library) UXBRIDGE\, 25 Uxbridge Road\, Howick\, Auckland\, 2014\, New Zealand
CATEGORIES:City of Sails Club Night
END:VEVENT
BEGIN:VEVENT
DTSTART;TZID=Pacific/Auckland:20240507T190000
DTEND;TZID=Pacific/Auckland:20240507T193000
DTSTAMP:20260420T173811
CREATED:20240322T021623Z
LAST-MODIFIED:20240322T021623Z
UID:6630-1715108400-1715110200@cityofsails.org.nz
SUMMARY:Rock n Roll Dance Beginners Lessons – $20 per person for 5 week Course – WEEK TWO
DESCRIPTION:$20 per Person for the Course  – please arrive just before 7pm to register. \nBring your water bottles\, reusable cups and don’t forget your dancing shoes (flats\, not heels) \nFollowed by our Club Night (7.30pm to 8.45pm which you are invited to attend at no additional cost) \nPayment by Cash only accepted at the door
URL:https://cityofsails.org.nz/event/rock-n-roll-dance-beginners-lessons-20-per-person-for-5-week-course-week-two-2/
CATEGORIES:City of Sails Lessons
END:VEVENT
BEGIN:VEVENT
DTSTART;TZID=Pacific/Auckland:20240505T150000
DTEND;TZID=Pacific/Auckland:20240505T170000
DTSTAMP:20260420T173811
CREATED:20240324T200834Z
LAST-MODIFIED:20240324T201338Z
UID:6656-1714921200-1714928400@cityofsails.org.nz
SUMMARY:Club AGM 2024
DESCRIPTION:To All Current Financial Members of the City of Sails Rock ‘n’ Roll Revival Club Inc \nNOTICE OF ANNUAL GENERAL MEETING \nPlease be advised that the Annual General Meeting of the City of Sails Rock ‘n’ Roll Club Inc. will be held on Sunday 5th May 2024\, from 3pm-5pm \nThe meeting venue is the same as the last few years\, which is: \nTrinity Scout Hall (Behind the Church)\n474 Pakuranga Road\nPakuranga \nAll voting at the Annual General Meeting shall include proxy and posted votes from members; however\, a quorum is needed to convene the meeting\, so please attend. \nAny remits and nominations (if you need a nomination form please email for a copy) are to be in the hands of the Secretary by 14th April 2024 at the latest. \nPlease send either via email to secretary@cityofsails.org.nz or alternatively by post to PO Box 82242\, Highland Park\, Auckland 2143
URL:https://cityofsails.org.nz/event/club-agm-2024/
LOCATION:Trinity Scout Hall\, 474 Pakuranga Highway\, Auckland
CATEGORIES:City of Sails Event
END:VEVENT
BEGIN:VEVENT
DTSTART;TZID=Pacific/Auckland:20240430T193000
DTEND;TZID=Pacific/Auckland:20240430T204500
DTSTAMP:20260420T173811
CREATED:20240324T201738Z
LAST-MODIFIED:20240324T201738Z
UID:6663-1714505400-1714509900@cityofsails.org.nz
SUMMARY:Club Night at Fencible Lounge – $2 per person
DESCRIPTION:7.30pm to 8.45pm – $2 per person\nLocation: Fencible Lounge (Howick Library)\, 25 Uxbridge Rd\, Howick\nBring your water bottles and don’t forget your dancing shoes (flats\, not heels)\nPayment by Cash only accepted at the door
URL:https://cityofsails.org.nz/event/club-night-at-fencible-lounge-2-per-person-28/
LOCATION:Fencible Lounge (Howick Library) UXBRIDGE\, 25 Uxbridge Road\, Howick\, Auckland\, 2014\, New Zealand
CATEGORIES:City of Sails Club Night
END:VEVENT
BEGIN:VEVENT
DTSTART;TZID=Pacific/Auckland:20240430T190000
DTEND;TZID=Pacific/Auckland:20240430T193000
DTSTAMP:20260420T173811
CREATED:20240322T021536Z
LAST-MODIFIED:20240322T021536Z
UID:6628-1714503600-1714505400@cityofsails.org.nz
SUMMARY:Rock n Roll Dance Beginners Lessons – $20 per person for 5 week Course – WEEK ONE
DESCRIPTION:$20 per Person for the Course  – please arrive just before 7pm to register. \nBring your water bottles\, reusable cups and don’t forget your dancing shoes (flats\, not heels) \nFollowed by our Club Night (7.30pm to 8.45pm which you are invited to attend at no additional cost) \nPayment by Cash only accepted at the door
URL:https://cityofsails.org.nz/event/rock-n-roll-dance-beginners-lessons-20-per-person-for-5-week-course-week-one-2/
LOCATION:Fencible Lounge (Howick Library) UXBRIDGE\, 25 Uxbridge Road\, Howick\, Auckland\, 2014\, New Zealand
CATEGORIES:City of Sails Lessons
END:VEVENT
BEGIN:VEVENT
DTSTART;TZID=Pacific/Auckland:20240427T190000
DTEND;TZID=Pacific/Auckland:20240427T230000
DTSTAMP:20260420T173811
CREATED:20240322T022716Z
LAST-MODIFIED:20240322T022716Z
UID:6646-1714244400-1714258800@cityofsails.org.nz
SUMMARY:April Dance with music from Blame the Cats
DESCRIPTION:Doors Open at 7pm and Blame the Cats starts at 7.30pm\, with our night ending at 11pm \nDoor Charge Per Person (Cash Only) \n$12.50 Adult Members\, $15.00 Non Members and $7.50 Juniors \nBring along your non alcoholic drinks & snacks \nDon’t forget your dancing shoes (no heels)! \n  \nPLEASE NOTE: This is an Alcohol Free Venue.  A Light Supper is provided
URL:https://cityofsails.org.nz/event/april-dance-with-music-from-blame-the-cats/
LOCATION:Edgewater College School Hall\, 32 Edgewater Drive\, Pakuranga\, Auckland\, 2010\, New Zealand
CATEGORIES:City of Sails Dance
END:VEVENT
BEGIN:VEVENT
DTSTART;TZID=Pacific/Auckland:20240423T190000
DTEND;TZID=Pacific/Auckland:20240423T204500
DTSTAMP:20260420T173811
CREATED:20231216T235014Z
LAST-MODIFIED:20231216T235014Z
UID:6608-1713898800-1713905100@cityofsails.org.nz
SUMMARY:No Lessons or Club Night - Venue is unavailable to us
DESCRIPTION:
URL:https://cityofsails.org.nz/event/no-lessons-or-club-night-venue-is-unavailable-to-us/
LOCATION:Fencible Lounge (Howick Library) UXBRIDGE\, 25 Uxbridge Road\, Howick\, Auckland\, 2014\, New Zealand
END:VEVENT
BEGIN:VEVENT
DTSTART;TZID=Pacific/Auckland:20240416T190000
DTEND;TZID=Pacific/Auckland:20240416T204500
DTSTAMP:20260420T173811
CREATED:20240322T022507Z
LAST-MODIFIED:20240322T022507Z
UID:6644-1713294000-1713300300@cityofsails.org.nz
SUMMARY:Club Night - $2 per person
DESCRIPTION:7.30pm to 8.45pm – $2 per person\nLocation: Fencible Lounge (Howick Library)\, 25 Uxbridge Rd\, Howick\nBring your water bottles and don’t forget your dancing shoes (flats\, not heels)\nPayment by Cash only accepted at the door
URL:https://cityofsails.org.nz/event/club-night-2-per-person/
LOCATION:Fencible Lounge (Howick Library) UXBRIDGE\, 25 Uxbridge Road\, Howick\, Auckland\, 2014\, New Zealand
CATEGORIES:City of Sails Club Night
END:VEVENT
BEGIN:VEVENT
DTSTART;TZID=Pacific/Auckland:20240409T193000
DTEND;TZID=Pacific/Auckland:20240409T204500
DTSTAMP:20260420T173811
CREATED:20240322T022409Z
LAST-MODIFIED:20240322T022409Z
UID:6642-1712691000-1712695500@cityofsails.org.nz
SUMMARY:Club Night at Fencible Lounge – $2 per person
DESCRIPTION:7.30pm to 8.45pm – $2 per person\nLocation: Fencible Lounge (Howick Library)\, 25 Uxbridge Rd\, Howick\nBring your water bottles and don’t forget your dancing shoes (flats\, not heels)\nPayment by Cash only accepted at the door
URL:https://cityofsails.org.nz/event/club-night-at-fencible-lounge-2-per-person-25/
LOCATION:Fencible Lounge (Howick Library) UXBRIDGE\, 25 Uxbridge Road\, Howick\, Auckland\, 2014\, New Zealand
CATEGORIES:City of Sails Club Night
END:VEVENT
BEGIN:VEVENT
DTSTART;TZID=Pacific/Auckland:20240409T190000
DTEND;TZID=Pacific/Auckland:20240409T193000
DTSTAMP:20260420T173811
CREATED:20240322T021351Z
LAST-MODIFIED:20240322T021351Z
UID:6626-1712689200-1712691000@cityofsails.org.nz
SUMMARY:Rock n Roll Dance Intermediate Lessons – WEEK FOUR
DESCRIPTION:$20 per Person for the course – please arrive just before 7pm to register. \nBring your water bottles\, reusable cups and don’t forget your dancing shoes (flats\, not heels) \nFollowed by our Club Night (7.30pm to 8.45pm which you are invited to attend at no additional cost) \nPayment by Cash only accepted at the door
URL:https://cityofsails.org.nz/event/rock-n-roll-dance-intermediate-lessons-week-four/
LOCATION:Fencible Lounge (Howick Library) UXBRIDGE\, 25 Uxbridge Road\, Howick\, Auckland\, 2014\, New Zealand
CATEGORIES:City of Sails Lessons
END:VEVENT
BEGIN:VEVENT
DTSTART;TZID=Pacific/Auckland:20240402T193000
DTEND;TZID=Pacific/Auckland:20240402T204500
DTSTAMP:20260420T173811
CREATED:20240322T022328Z
LAST-MODIFIED:20240322T022328Z
UID:6640-1712086200-1712090700@cityofsails.org.nz
SUMMARY:Club Night at Fencible Lounge – $2 per person
DESCRIPTION:7.30pm to 8.45pm – $2 per person\nLocation: Fencible Lounge (Howick Library)\, 25 Uxbridge Rd\, Howick\nBring your water bottles and don’t forget your dancing shoes (flats\, not heels)\nPayment by Cash only accepted at the door
URL:https://cityofsails.org.nz/event/club-night-at-fencible-lounge-2-per-person-24/
LOCATION:Fencible Lounge (Howick Library) UXBRIDGE\, 25 Uxbridge Road\, Howick\, Auckland\, 2014\, New Zealand
CATEGORIES:City of Sails Club Night
END:VEVENT
BEGIN:VEVENT
DTSTART;TZID=Pacific/Auckland:20240402T190000
DTEND;TZID=Pacific/Auckland:20240402T193000
DTSTAMP:20260420T173811
CREATED:20240322T021245Z
LAST-MODIFIED:20240322T021245Z
UID:6624-1712084400-1712086200@cityofsails.org.nz
SUMMARY:Rock n Roll Dance Intermediate Lessons – WEEK THREE
DESCRIPTION:$20 per Person for the course – please arrive just before 7pm to register. \nBring your water bottles\, reusable cups and don’t forget your dancing shoes (flats\, not heels) \nFollowed by our Club Night (7.30pm to 8.45pm which you are invited to attend at no additional cost) \nPayment by Cash only accepted at the door
URL:https://cityofsails.org.nz/event/rock-n-roll-dance-intermediate-lessons-week-three/
LOCATION:Fencible Lounge (Howick Library) UXBRIDGE\, 25 Uxbridge Road\, Howick\, Auckland\, 2014\, New Zealand
CATEGORIES:City of Sails Lessons
END:VEVENT
BEGIN:VEVENT
DTSTART;TZID=Pacific/Auckland:20240326T193000
DTEND;TZID=Pacific/Auckland:20240326T204500
DTSTAMP:20260420T173811
CREATED:20240322T022230Z
LAST-MODIFIED:20240322T022230Z
UID:6638-1711481400-1711485900@cityofsails.org.nz
SUMMARY:Club Night at Fencible Lounge – $2 per person
DESCRIPTION:7.30pm to 8.45pm – $2 per person\nLocation: Fencible Lounge (Howick Library)\, 25 Uxbridge Rd\, Howick\nBring your water bottles and don’t forget your dancing shoes (flats\, not heels)\nPayment by Cash only accepted at the door
URL:https://cityofsails.org.nz/event/club-night-at-fencible-lounge-2-per-person-23/
LOCATION:Fencible Lounge (Howick Library) UXBRIDGE\, 25 Uxbridge Road\, Howick\, Auckland\, 2014\, New Zealand
CATEGORIES:City of Sails Club Night
END:VEVENT
BEGIN:VEVENT
DTSTART;TZID=Pacific/Auckland:20240326T190000
DTEND;TZID=Pacific/Auckland:20240326T193000
DTSTAMP:20260420T173811
CREATED:20240322T021128Z
LAST-MODIFIED:20240322T021128Z
UID:6622-1711479600-1711481400@cityofsails.org.nz
SUMMARY:Rock n Roll Dance Intermediate Lessons - WEEK TWO
DESCRIPTION:$20 per Person for the course – please arrive just before 7pm to register. \nBring your water bottles\, reusable cups and don’t forget your dancing shoes (flats\, not heels) \nFollowed by our Club Night (7.30pm to 8.45pm which you are invited to attend at no additional cost) \nPayment by Cash only accepted at the door
URL:https://cityofsails.org.nz/event/rock-n-roll-dance-intermediate-lessons-week-two/
LOCATION:Fencible Lounge (Howick Library) UXBRIDGE\, 25 Uxbridge Road\, Howick\, Auckland\, 2014\, New Zealand
CATEGORIES:City of Sails Lessons
END:VEVENT
BEGIN:VEVENT
DTSTART;TZID=Pacific/Auckland:20240312T193000
DTEND;TZID=Pacific/Auckland:20240312T204500
DTSTAMP:20260420T173811
CREATED:20231216T234039Z
LAST-MODIFIED:20231216T234039Z
UID:6606-1710271800-1710276300@cityofsails.org.nz
SUMMARY:Club Night at Fencible Lounge – $2 per person
DESCRIPTION:7.30pm to 8.45pm – $2 per person\nLocation: Fencible Lounge (Howick Library)\, 25 Uxbridge Rd\, Howick \nBring your water bottles and don’t forget your dancing shoes (flats\, not heels) \nPayment by Cash only accepted at the door
URL:https://cityofsails.org.nz/event/club-night-at-fencible-lounge-2-per-person-22/
LOCATION:Fencible Lounge (Howick Library) UXBRIDGE\, 25 Uxbridge Road\, Howick\, Auckland\, 2014\, New Zealand
CATEGORIES:City of Sails Club Night
END:VEVENT
BEGIN:VEVENT
DTSTART;TZID=Pacific/Auckland:20240312T190000
DTEND;TZID=Pacific/Auckland:20240312T193000
DTSTAMP:20260420T173811
CREATED:20231216T233933Z
LAST-MODIFIED:20231216T233933Z
UID:6604-1710270000-1710271800@cityofsails.org.nz
SUMMARY:Rock n Roll Dance Beginners Lessons – $20 per person for 5 week Course – WEEK FIVE
DESCRIPTION:$20 per Person for the course – please arrive just before 7pm to register. \nBring your water bottles\, reusable cups and don’t forget your dancing shoes (flats\, not heels) \nFollowed by our Club Night (7.30pm to 8.45pm which you are invited to attend at no additional cost) \nPayment by Cash only accepted at the door
URL:https://cityofsails.org.nz/event/rock-n-roll-dance-beginners-lessons-20-per-person-for-5-week-course-week-five/
LOCATION:Fencible Lounge (Howick Library) UXBRIDGE\, 25 Uxbridge Road\, Howick\, Auckland\, 2014\, New Zealand
CATEGORIES:City of Sails Lessons
END:VEVENT
BEGIN:VEVENT
DTSTART;TZID=Pacific/Auckland:20240305T193000
DTEND;TZID=Pacific/Auckland:20240305T204500
DTSTAMP:20260420T173811
CREATED:20231216T232642Z
LAST-MODIFIED:20231216T232642Z
UID:6599-1709667000-1709671500@cityofsails.org.nz
SUMMARY:Club Night at Fencible Lounge – $2 per person
DESCRIPTION:7.30pm to 8.45pm – $2 per person\nLocation: Fencible Lounge (Howick Library)\, 25 Uxbridge Rd\, Howick \nBring your water bottles and don’t forget your dancing shoes (flats\, not heels) \nPayment by Cash only accepted at the door
URL:https://cityofsails.org.nz/event/club-night-at-fencible-lounge-2-per-person-21/
LOCATION:Fencible Lounge (Howick Library) UXBRIDGE\, 25 Uxbridge Road\, Howick\, Auckland\, 2014\, New Zealand
CATEGORIES:City of Sails Club Night
END:VEVENT
BEGIN:VEVENT
DTSTART;TZID=Pacific/Auckland:20240305T190000
DTEND;TZID=Pacific/Auckland:20240305T193000
DTSTAMP:20260420T173811
CREATED:20231216T231619Z
LAST-MODIFIED:20231216T231619Z
UID:6586-1709665200-1709667000@cityofsails.org.nz
SUMMARY:Rock n Roll Dance Beginners Lessons - $20 per person for 5 week Course - WEEK FOUR
DESCRIPTION:$20 per Person for the course – please arrive just before 7pm to register. \nBring your water bottles\, reusable cups and don’t forget your dancing shoes (flats\, not heels) \nFollowed by our Club Night (7.30pm to 8.45pm which you are invited to attend at no additional cost) \nPayment by Cash only accepted at the door
URL:https://cityofsails.org.nz/event/rock-n-roll-dance-beginners-lessons-20-per-person-for-5-week-course-week-four/
LOCATION:Fencible Lounge (Howick Library) UXBRIDGE\, 25 Uxbridge Road\, Howick\, Auckland\, 2014\, New Zealand
CATEGORIES:City of Sails Lessons
END:VEVENT
BEGIN:VEVENT
DTSTART;TZID=Pacific/Auckland:20240227T193000
DTEND;TZID=Pacific/Auckland:20240227T204500
DTSTAMP:20260420T173811
CREATED:20231216T232530Z
LAST-MODIFIED:20231216T232530Z
UID:6596-1709062200-1709066700@cityofsails.org.nz
SUMMARY:Club Night at Fencible Lounge – $2 per person
DESCRIPTION:7.30pm to 8.45pm – $2 per person\nLocation: Fencible Lounge (Howick Library)\, 25 Uxbridge Rd\, Howick\nBring your water bottles and don’t forget your dancing shoes (flats\, not heels)\nPayment by Cash only accepted at the door
URL:https://cityofsails.org.nz/event/club-night-at-fencible-lounge-2-per-person-20/
LOCATION:Fencible Lounge (Howick Library) UXBRIDGE\, 25 Uxbridge Road\, Howick\, Auckland\, 2014\, New Zealand
CATEGORIES:City of Sails Club Night
END:VEVENT
BEGIN:VEVENT
DTSTART;TZID=Pacific/Auckland:20240227T190000
DTEND;TZID=Pacific/Auckland:20240227T193000
DTSTAMP:20260420T173811
CREATED:20231216T231440Z
LAST-MODIFIED:20231216T231440Z
UID:6584-1709060400-1709062200@cityofsails.org.nz
SUMMARY:Rock n Roll Dance Beginners Lessons - $20 per person for 5 week Course - WEEK THREE
DESCRIPTION:$20 per Person for the course – please arrive just before 7pm to register. \nBring your water bottles\, reusable cups and don’t forget your dancing shoes (flats\, not heels) \nFollowed by our Club Night (7.30pm to 8.45pm which you are invited to attend at no additional cost) \nPayment by Cash only accepted at the door
URL:https://cityofsails.org.nz/event/rock-n-roll-dance-beginners-lessons-20-per-person-for-5-week-course-week-three/
LOCATION:Fencible Lounge (Howick Library) UXBRIDGE\, 25 Uxbridge Road\, Howick\, Auckland\, 2014\, New Zealand
CATEGORIES:City of Sails Lessons
END:VEVENT
BEGIN:VEVENT
DTSTART;TZID=Pacific/Auckland:20240224T190000
DTEND;TZID=Pacific/Auckland:20240224T230000
DTSTAMP:20260420T173811
CREATED:20231216T233603Z
LAST-MODIFIED:20231216T233603Z
UID:6602-1708801200-1708815600@cityofsails.org.nz
SUMMARY:36th Birthday Dance with The Brendan Ham Band playing
DESCRIPTION:Doors Open at 7pm and The Brendan Ham Band starts at 7.30pm\, with our night ending at 11pm \nDoor Charge Per Person (Cash Only) \n$12.50 Adult Members\, $15.00 Non Members and $7.50 Juniors \nBring along your non alcoholic drinks & snacks \nDon’t forget your dancing shoes (no heels)! \n  \nPLEASE NOTE: This is an Alcohol Free Venue.  A Light Supper is provided \n 
URL:https://cityofsails.org.nz/event/36th-birthday-dance-with-the-brendan-ham-band-playing/
LOCATION:Edgewater College School Hall\, 32 Edgewater Drive\, Pakuranga\, Auckland\, 2010\, New Zealand
CATEGORIES:City of Sails Dance
END:VEVENT
BEGIN:VEVENT
DTSTART;TZID=Pacific/Auckland:20240220T193000
DTEND;TZID=Pacific/Auckland:20240220T204500
DTSTAMP:20260420T173811
CREATED:20231216T231959Z
LAST-MODIFIED:20231216T232136Z
UID:6590-1708457400-1708461900@cityofsails.org.nz
SUMMARY:Club Night at Fencible Lounge – $2 per person
DESCRIPTION:7.30pm to 8.45pm – $2 per person\nLocation: Fencible Lounge (Howick Library)\, 25 Uxbridge Rd\, Howick \nBring your water bottles and don’t forget your dancing shoes (flats\, not heels) \nPayment by Cash only accepted at the door
URL:https://cityofsails.org.nz/event/club-night-at-fencible-lounge-2-per-person-19/
LOCATION:Fencible Lounge (Howick Library) UXBRIDGE\, 25 Uxbridge Road\, Howick\, Auckland\, 2014\, New Zealand
CATEGORIES:City of Sails Club Night
END:VEVENT
BEGIN:VEVENT
DTSTART;TZID=Pacific/Auckland:20240220T190000
DTEND;TZID=Pacific/Auckland:20240220T193000
DTSTAMP:20260420T173811
CREATED:20231216T231342Z
LAST-MODIFIED:20231216T231342Z
UID:6582-1708455600-1708457400@cityofsails.org.nz
SUMMARY:Rock n Roll Dance Beginners Lessons - $20 per person for 5 week Course - WEEK TWO
DESCRIPTION:$20 per Person for the course – please arrive just before 7pm to register. \nBring your water bottles\, reusable cups and don’t forget your dancing shoes (flats\, not heels) \nFollowed by our Club Night (7.30pm to 8.45pm which you are invited to attend at no additional cost) \nPayment by Cash only accepted at the door
URL:https://cityofsails.org.nz/event/rock-n-roll-dance-beginners-lessons-20-per-person-for-5-week-course-week-two/
LOCATION:Fencible Lounge (Howick Library) UXBRIDGE\, 25 Uxbridge Road\, Howick\, Auckland\, 2014\, New Zealand
CATEGORIES:City of Sails Lessons
END:VEVENT
BEGIN:VEVENT
DTSTART;TZID=Pacific/Auckland:20240213T193000
DTEND;TZID=Pacific/Auckland:20240213T204500
DTSTAMP:20260420T173811
CREATED:20231216T231903Z
LAST-MODIFIED:20231216T231903Z
UID:6588-1707852600-1707857100@cityofsails.org.nz
SUMMARY:Club Night at Fencible Lounge – $2 per person
DESCRIPTION:7.30pm to 8.45pm – $2 per person\nLocation: Fencible Lounge (Howick Library)\, 25 Uxbridge Rd\, Howick \nBring your water bottles and don’t forget your dancing shoes (flats\, not heels) \nPayment by Cash only accepted at the door
URL:https://cityofsails.org.nz/event/club-night-at-fencible-lounge-2-per-person-18/
LOCATION:Fencible Lounge (Howick Library) UXBRIDGE\, 25 Uxbridge Road\, Howick\, Auckland\, 2014\, New Zealand
CATEGORIES:City of Sails Club Night
END:VEVENT
BEGIN:VEVENT
DTSTART;TZID=Pacific/Auckland:20240213T190000
DTEND;TZID=Pacific/Auckland:20240213T193000
DTSTAMP:20260420T173811
CREATED:20231216T231156Z
LAST-MODIFIED:20231216T231226Z
UID:6580-1707850800-1707852600@cityofsails.org.nz
SUMMARY:Rock n Roll Dance Beginners Lessons - $20 per person for 5 week Course - WEEK ONE
DESCRIPTION:$20 per Person for the Course  – please arrive just before 7pm to register. \nBring your water bottles\, reusable cups and don’t forget your dancing shoes (flats\, not heels) \nFollowed by our Club Night (7.30pm to 8.45pm which you are invited to attend at no additional cost) \nPayment by Cash only accepted at the door
URL:https://cityofsails.org.nz/event/rock-n-roll-dance-beginners-lessons-20-per-person-for-5-week-course-week-one/
LOCATION:Fencible Lounge (Howick Library) UXBRIDGE\, 25 Uxbridge Road\, Howick\, Auckland\, 2014\, New Zealand
CATEGORIES:City of Sails Lessons
END:VEVENT
BEGIN:VEVENT
DTSTART;TZID=Pacific/Auckland:20231128T193000
DTEND;TZID=Pacific/Auckland:20231128T204500
DTSTAMP:20260420T173811
CREATED:20231104T055750Z
LAST-MODIFIED:20231104T055750Z
UID:6570-1701199800-1701204300@cityofsails.org.nz
SUMMARY:Club Night at Fencible Lounge – $2 per person
DESCRIPTION:7.30pm to 8.45pm – $2 per person\nLocation: Fencible Lounge (Howick Library)\, 25 Uxbridge Rd\, Howick \nBring your water bottles and don’t forget your dancing shoes (flats\, not heels) \nPayment by Cash only accepted at the door
URL:https://cityofsails.org.nz/event/club-night-at-fencible-lounge-2-per-person-17/
LOCATION:Fencible Lounge (Howick Library) UXBRIDGE\, 25 Uxbridge Road\, Howick\, Auckland\, 2014\, New Zealand
CATEGORIES:City of Sails Club Night
END:VEVENT
BEGIN:VEVENT
DTSTART;TZID=Pacific/Auckland:20231128T190000
DTEND;TZID=Pacific/Auckland:20231128T193000
DTSTAMP:20260420T173811
CREATED:20231104T055346Z
LAST-MODIFIED:20231104T055346Z
UID:6562-1701198000-1701199800@cityofsails.org.nz
SUMMARY:Rock n Roll Dance Lessons @ Fencible Lounge – $5 per person
DESCRIPTION:$5 per person per lesson – please arrive just before 7pm to register \nBring your water bottles\, reusable cups and don’t forget your dancing shoes (flats\, not heels) \nFollowed by our Club Night (7.30pm to 8.45pm which you are invited to attend at no additional cost. \nPayment by Cash only accepted at the door
URL:https://cityofsails.org.nz/event/rock-n-roll-dance-lessons-fencible-lounge-5-per-person-4/
LOCATION:Fencible Lounge (Howick Library) UXBRIDGE\, 25 Uxbridge Road\, Howick\, Auckland\, 2014\, New Zealand
CATEGORIES:City of Sails Lessons
END:VEVENT
BEGIN:VEVENT
DTSTART;TZID=Pacific/Auckland:20231125T190000
DTEND;TZID=Pacific/Auckland:20231125T230000
DTSTAMP:20260420T173811
CREATED:20231104T060033Z
LAST-MODIFIED:20231104T060033Z
UID:6572-1700938800-1700953200@cityofsails.org.nz
SUMMARY:Christmas Dance with Foxtail Rumble
DESCRIPTION:Doors Open at 7pm and Foxtail Rumble starts at 7.30pm\, with our night ending at 11pm \nDoor Charge Per Person (Cash Only) \n$12.50 Adult Members\, $15.00 Non Members and $7.50 Juniors \nBring along your non alcoholic drinks & snacks \nDon’t forget your dancing shoes (no heels)! \n  \nPLEASE NOTE: This is an Alcohol Free Venue.  A Light Supper is provided
URL:https://cityofsails.org.nz/event/christmas-dance-with-foxtail-rumble/
LOCATION:Edgewater College School Hall\, 32 Edgewater Drive\, Pakuranga\, Auckland\, 2010\, New Zealand
CATEGORIES:City of Sails Dance
END:VEVENT
BEGIN:VEVENT
DTSTART;TZID=Pacific/Auckland:20231121T193000
DTEND;TZID=Pacific/Auckland:20231121T204500
DTSTAMP:20260420T173811
CREATED:20231104T055710Z
LAST-MODIFIED:20231104T055710Z
UID:6568-1700595000-1700599500@cityofsails.org.nz
SUMMARY:Club Night at Fencible Lounge – $2 per person
DESCRIPTION:7.30pm to 8.45pm – $2 per person\nLocation: Fencible Lounge (Howick Library)\, 25 Uxbridge Rd\, Howick \nBring your water bottles and don’t forget your dancing shoes (flats\, not heels) \nPayment by Cash only accepted at the door
URL:https://cityofsails.org.nz/event/club-night-at-fencible-lounge-2-per-person-16/
LOCATION:Fencible Lounge (Howick Library) UXBRIDGE\, 25 Uxbridge Road\, Howick\, Auckland\, 2014\, New Zealand
CATEGORIES:City of Sails Club Night
END:VEVENT
BEGIN:VEVENT
DTSTART;TZID=Pacific/Auckland:20231121T190000
DTEND;TZID=Pacific/Auckland:20231121T193000
DTSTAMP:20260420T173811
CREATED:20231104T055253Z
LAST-MODIFIED:20231104T055253Z
UID:6560-1700593200-1700595000@cityofsails.org.nz
SUMMARY:Rock n Roll Dance Lessons @ Fencible Lounge – $5 per person
DESCRIPTION:$5 per person per lesson – please arrive just before 7pm to register \nBring your water bottles\, reusable cups and don’t forget your dancing shoes (flats\, not heels) \nFollowed by our Club Night (7.30pm to 8.45pm which you are invited to attend at no additional cost. \nPayment by Cash only accepted at the door
URL:https://cityofsails.org.nz/event/rock-n-roll-dance-lessons-fencible-lounge-5-per-person-3/
LOCATION:Fencible Lounge (Howick Library) UXBRIDGE\, 25 Uxbridge Road\, Howick\, Auckland\, 2014\, New Zealand
CATEGORIES:City of Sails Lessons
END:VEVENT
END:VCALENDAR